BEGIN:VCALENDAR
VERSION:2.0
PRODID:-//First United Methodist Church - ECPv6.15.17.1//NONSGML v1.0//EN
CALSCALE:GREGORIAN
METHOD:PUBLISH
X-ORIGINAL-URL:https://www.fumc-a2.org
X-WR-CALDESC:Events for First United Methodist Church
REFRESH-INTERVAL;VALUE=DURATION:PT1H
X-Robots-Tag:noindex
X-PUBLISHED-TTL:PT1H
BEGIN:VTIMEZONE
TZID:America/Detroit
BEGIN:DAYLIGHT
TZOFFSETFROM:-0500
TZOFFSETTO:-0400
TZNAME:EDT
DTSTART:20240310T070000
END:DAYLIGHT
BEGIN:STANDARD
TZOFFSETFROM:-0400
TZOFFSETTO:-0500
TZNAME:EST
DTSTART:20241103T060000
END:STANDARD
BEGIN:DAYLIGHT
TZOFFSETFROM:-0500
TZOFFSETTO:-0400
TZNAME:EDT
DTSTART:20250309T070000
END:DAYLIGHT
BEGIN:STANDARD
TZOFFSETFROM:-0400
TZOFFSETTO:-0500
TZNAME:EST
DTSTART:20251102T060000
END:STANDARD
BEGIN:DAYLIGHT
TZOFFSETFROM:-0500
TZOFFSETTO:-0400
TZNAME:EDT
DTSTART:20260308T070000
END:DAYLIGHT
BEGIN:STANDARD
TZOFFSETFROM:-0400
TZOFFSETTO:-0500
TZNAME:EST
DTSTART:20261101T060000
END:STANDARD
END:VTIMEZONE
BEGIN:VEVENT
DTSTART;TZID=America/Detroit:20250406T100000
DTEND;TZID=America/Detroit:20250406T110000
DTSTAMP:20260421T075817
CREATED:20240304T210408Z
LAST-MODIFIED:20240304T210408Z
UID:10010828-1743933600-1743937200@www.fumc-a2.org
SUMMARY:Downtown Worship
DESCRIPTION:Join for us worship downtown on Sundays at 10 a.m. Or livestream the service on YouTube.
URL:https://www.fumc-a2.org/event/downtown-worship/2025-04-06/
LOCATION:MI
CATEGORIES:Morning,Worship
END:VEVENT
BEGIN:VEVENT
DTSTART;TZID=America/Detroit:20250406T113000
DTEND;TZID=America/Detroit:20250406T123000
DTSTAMP:20260421T075817
CREATED:20240906T152917Z
LAST-MODIFIED:20241002T135014Z
UID:10012333-1743939000-1743942600@www.fumc-a2.org
SUMMARY:Vital Action
DESCRIPTION:Join us for dialogue that moves us toward spiritual\, community and social transformation. Our conversation topics include race and racism\, immigration\, culture and oppression. Everyone is invited to come and join the conversation! This group meets monthly on the first Sunday of each month at our downtown church or connect remotely via Zoom. \nContact Wendy Everett for more information. \nLearn more and find the Zoom link here.
URL:https://www.fumc-a2.org/event/vital-action-4/2025-04-06/
LOCATION:MI
CATEGORIES:Adult Faith Formation,Adults,Morning
END:VEVENT
BEGIN:VEVENT
DTSTART;TZID=America/Detroit:20250406T130000
DTEND;TZID=America/Detroit:20250406T140000
DTSTAMP:20260421T075817
CREATED:20241002T141601Z
LAST-MODIFIED:20241002T141601Z
UID:10012424-1743944400-1743948000@www.fumc-a2.org
SUMMARY:Global Issues
DESCRIPTION:This group uses the Foreign Policy association Great Decisions DVD & book\, which can be found at fpa.org. Occasionally\, participants bring in items from the news for group discussion. \nThe curriculum is secular\, but the group looks at the issues from a Christian perspective\, asking\, “What are we called to do about it?” Our guiding principle can be found in Micah (chapter 6\, verse 8): “What does the Lord require of you but to act justly\, to love kindness\, and to walk humbly with your God?” \nContact Wendy Everett for more information. \nLearn more and find the Zoom link here.
URL:https://www.fumc-a2.org/event/global-issues-5/2025-04-06/
LOCATION:Zoom
CATEGORIES:Adults,Daytime
END:VEVENT
BEGIN:VEVENT
DTSTART;TZID=America/Detroit:20250406T180000
DTEND;TZID=America/Detroit:20250406T200000
DTSTAMP:20260421T075817
CREATED:20250108T001649Z
LAST-MODIFIED:20250411T171222Z
UID:10012592-1743962400-1743969600@www.fumc-a2.org
SUMMARY:Youth Group
DESCRIPTION:Youth group meets Sundays from 6-8 p.m. Programming is wrapped around building faith while having fun. The meeting starts with dinner together in the Social Hall. \nQuestions? Email info@fumc-a2.org.
URL:https://www.fumc-a2.org/event/youth-group-25/2025-04-06/
LOCATION:MI
CATEGORIES:Youth
END:VEVENT
END:VCALENDAR