BEGIN:VCALENDAR
VERSION:2.0
PRODID:-//First United Methodist Church - ECPv6.15.17.1//NONSGML v1.0//EN
CALSCALE:GREGORIAN
METHOD:PUBLISH
X-ORIGINAL-URL:https://www.fumc-a2.org
X-WR-CALDESC:Events for First United Methodist Church
REFRESH-INTERVAL;VALUE=DURATION:PT1H
X-Robots-Tag:noindex
X-PUBLISHED-TTL:PT1H
BEGIN:VTIMEZONE
TZID:America/Detroit
BEGIN:DAYLIGHT
TZOFFSETFROM:-0500
TZOFFSETTO:-0400
TZNAME:EDT
DTSTART:20240310T070000
END:DAYLIGHT
BEGIN:STANDARD
TZOFFSETFROM:-0400
TZOFFSETTO:-0500
TZNAME:EST
DTSTART:20241103T060000
END:STANDARD
BEGIN:DAYLIGHT
TZOFFSETFROM:-0500
TZOFFSETTO:-0400
TZNAME:EDT
DTSTART:20250309T070000
END:DAYLIGHT
BEGIN:STANDARD
TZOFFSETFROM:-0400
TZOFFSETTO:-0500
TZNAME:EST
DTSTART:20251102T060000
END:STANDARD
BEGIN:DAYLIGHT
TZOFFSETFROM:-0500
TZOFFSETTO:-0400
TZNAME:EDT
DTSTART:20260308T070000
END:DAYLIGHT
BEGIN:STANDARD
TZOFFSETFROM:-0400
TZOFFSETTO:-0500
TZNAME:EST
DTSTART:20261101T060000
END:STANDARD
END:VTIMEZONE
BEGIN:VEVENT
DTSTART;VALUE=DATE:20250523
DTEND;VALUE=DATE:20250526
DTSTAMP:20260423T095620
CREATED:20250415T223038Z
LAST-MODIFIED:20250415T223122Z
UID:10012807-1747958400-1748217599@www.fumc-a2.org
SUMMARY:Family Camp
DESCRIPTION:Join us for a weekend of faith\, fun\, fellowship and relaxation at the beautiful Camp Algonquin in Hastings\, Michigan! We believe families come in all shapes and sizes so our camp is open to all whether you’re coming with your biological\, friend or church family\, and we can’t wait to have you join us! \nCamp Algonquin offers serenity and adventure all at once. Whether you’d like to sit by the lakeside to read a book\, or go zip lining through the trees\, there is something for everyone at camp. Register here.
URL:https://www.fumc-a2.org/event/family-camp-2/
LOCATION:Camp Algonquin\, 2055 Iroquois Trail\, Hastings\, MI\, 49058
CATEGORIES:Families,Kids,Volunteer event,Youth
END:VEVENT
BEGIN:VEVENT
DTSTART;TZID=America/Detroit:20250524T083000
DTEND;TZID=America/Detroit:20250524T100000
DTSTAMP:20260423T095620
CREATED:20230823T164618Z
LAST-MODIFIED:20230828T224344Z
UID:10009534-1748075400-1748080800@www.fumc-a2.org
SUMMARY:Men of Faith
DESCRIPTION:This is a group for men who want to gather to share spiritual program material\, “God Sightings” and prayer. All men who are interested in growing their faith through study\, sharing and prayer are welcome to join! Questions? Contact Jim Higdon or Mark Wickham. \nLearn more about this offering.
URL:https://www.fumc-a2.org/event/men-of-faith/2025-05-24/
LOCATION:Zoom
CATEGORIES:Adult Faith Formation,Adults,Morning
END:VEVENT
BEGIN:VEVENT
DTSTART;TZID=America/Detroit:20250524T170000
DTEND;TZID=America/Detroit:20250524T180000
DTSTAMP:20260423T095620
CREATED:20250409T013409Z
LAST-MODIFIED:20250409T013411Z
UID:10011096-1748106000-1748109600@www.fumc-a2.org
SUMMARY:Contemporary Worship
DESCRIPTION:Join us for our contemporary worship service in the Green Wood Sanctuary on Saturdays at 5 p.m.
URL:https://www.fumc-a2.org/event/green-wood-worship-4-3/2025-05-24/
LOCATION:MI
CATEGORIES:Evening,Worship
END:VEVENT
END:VCALENDAR