BEGIN:VCALENDAR
VERSION:2.0
PRODID:-//First United Methodist Church - ECPv6.15.17.1//NONSGML v1.0//EN
CALSCALE:GREGORIAN
METHOD:PUBLISH
X-ORIGINAL-URL:https://www.fumc-a2.org
X-WR-CALDESC:Events for First United Methodist Church
REFRESH-INTERVAL;VALUE=DURATION:PT1H
X-Robots-Tag:noindex
X-PUBLISHED-TTL:PT1H
BEGIN:VTIMEZONE
TZID:America/Detroit
BEGIN:DAYLIGHT
TZOFFSETFROM:-0500
TZOFFSETTO:-0400
TZNAME:EDT
DTSTART:20230312T070000
END:DAYLIGHT
BEGIN:STANDARD
TZOFFSETFROM:-0400
TZOFFSETTO:-0500
TZNAME:EST
DTSTART:20231105T060000
END:STANDARD
BEGIN:DAYLIGHT
TZOFFSETFROM:-0500
TZOFFSETTO:-0400
TZNAME:EDT
DTSTART:20240310T070000
END:DAYLIGHT
BEGIN:STANDARD
TZOFFSETFROM:-0400
TZOFFSETTO:-0500
TZNAME:EST
DTSTART:20241103T060000
END:STANDARD
BEGIN:DAYLIGHT
TZOFFSETFROM:-0500
TZOFFSETTO:-0400
TZNAME:EDT
DTSTART:20250309T070000
END:DAYLIGHT
BEGIN:STANDARD
TZOFFSETFROM:-0400
TZOFFSETTO:-0500
TZNAME:EST
DTSTART:20251102T060000
END:STANDARD
BEGIN:DAYLIGHT
TZOFFSETFROM:-0500
TZOFFSETTO:-0400
TZNAME:EDT
DTSTART:20260308T070000
END:DAYLIGHT
BEGIN:STANDARD
TZOFFSETFROM:-0400
TZOFFSETTO:-0500
TZNAME:EST
DTSTART:20261101T060000
END:STANDARD
END:VTIMEZONE
BEGIN:VEVENT
DTSTART;TZID=America/Detroit:20250806T080000
DTEND;TZID=America/Detroit:20250806T083000
DTSTAMP:20260423T153858
CREATED:20250527T142410Z
LAST-MODIFIED:20250527T142410Z
UID:10012817-1754467200-1754469000@www.fumc-a2.org
SUMMARY:Rise and Shine Service
DESCRIPTION:Start your day with scripture\, song\, prayer concerns and gratitudes! No sermon. You can be on your way by 8:30 a.m. \nJoin the Zoom meeting here. \nQuestions? Contact Amy Kennedy.
URL:https://www.fumc-a2.org/event/rise-and-shine-service-3/2025-08-06/
LOCATION:Zoom
CATEGORIES:Music,Worship
END:VEVENT
BEGIN:VEVENT
DTSTART;TZID=America/Detroit:20250709T080000
DTEND;TZID=America/Detroit:20250709T083000
DTSTAMP:20260423T153858
CREATED:20250527T142410Z
LAST-MODIFIED:20250527T142410Z
UID:10012816-1752048000-1752049800@www.fumc-a2.org
SUMMARY:Rise and Shine Service
DESCRIPTION:Start your day with scripture\, song\, prayer concerns and gratitudes! No sermon. You can be on your way by 8:30 a.m. \nJoin the Zoom meeting here. \nQuestions? Contact Amy Kennedy.
URL:https://www.fumc-a2.org/event/rise-and-shine-service-3/2025-07-09/
LOCATION:Zoom
CATEGORIES:Music,Worship
END:VEVENT
BEGIN:VEVENT
DTSTART;TZID=America/Detroit:20250604T190000
DTEND;TZID=America/Detroit:20250604T203000
DTSTAMP:20260423T153858
CREATED:20250210T213039Z
LAST-MODIFIED:20250211T181331Z
UID:10012701-1749063600-1749069000@www.fumc-a2.org
SUMMARY:Chancel Choir rehearsal
DESCRIPTION:All are welcome to join the Chancel Choir at any time – no experience is necessary. The Chancel Choir rehearses weekly on Wednesday evenings\, then again prior to 10am Sunday services. \nOccasional retreats are planned to prepare for larger works. \nWith interest or questions about the Chancel Choir\, please contact Ken Sieloff. \nJoin the choir here.
URL:https://www.fumc-a2.org/event/chancel-choir-rehearsal-2-2/2025-06-04/
CATEGORIES:Adults,Evening,Music,Worship
END:VEVENT
BEGIN:VEVENT
DTSTART;TZID=America/Detroit:20250602T080000
DTEND;TZID=America/Detroit:20250602T090000
DTSTAMP:20260423T153858
CREATED:20250527T141910Z
LAST-MODIFIED:20250527T141910Z
UID:10012815-1748851200-1748854800@www.fumc-a2.org
SUMMARY:Mindful Monday
DESCRIPTION:All are welcome to join this group that practices different mindful techniques. \nJoin the Zoom meeting here. \nQuestions? Contact Amy Kennedy.
URL:https://www.fumc-a2.org/event/mindful-monday-5/
CATEGORIES:Music,Worship
END:VEVENT
BEGIN:VEVENT
DTSTART;TZID=America/Detroit:20250528T190000
DTEND;TZID=America/Detroit:20250528T203000
DTSTAMP:20260423T153858
CREATED:20250210T213039Z
LAST-MODIFIED:20250211T181331Z
UID:10012700-1748458800-1748464200@www.fumc-a2.org
SUMMARY:Chancel Choir rehearsal
DESCRIPTION:All are welcome to join the Chancel Choir at any time – no experience is necessary. The Chancel Choir rehearses weekly on Wednesday evenings\, then again prior to 10am Sunday services. \nOccasional retreats are planned to prepare for larger works. \nWith interest or questions about the Chancel Choir\, please contact Ken Sieloff. \nJoin the choir here.
URL:https://www.fumc-a2.org/event/chancel-choir-rehearsal-2-2/2025-05-28/
CATEGORIES:Adults,Evening,Music,Worship
END:VEVENT
BEGIN:VEVENT
DTSTART;TZID=America/Detroit:20250521T190000
DTEND;TZID=America/Detroit:20250521T203000
DTSTAMP:20260423T153858
CREATED:20250210T213039Z
LAST-MODIFIED:20250211T181331Z
UID:10012699-1747854000-1747859400@www.fumc-a2.org
SUMMARY:Chancel Choir rehearsal
DESCRIPTION:All are welcome to join the Chancel Choir at any time – no experience is necessary. The Chancel Choir rehearses weekly on Wednesday evenings\, then again prior to 10am Sunday services. \nOccasional retreats are planned to prepare for larger works. \nWith interest or questions about the Chancel Choir\, please contact Ken Sieloff. \nJoin the choir here.
URL:https://www.fumc-a2.org/event/chancel-choir-rehearsal-2-2/2025-05-21/
CATEGORIES:Adults,Evening,Music,Worship
END:VEVENT
BEGIN:VEVENT
DTSTART;TZID=America/Detroit:20250514T190000
DTEND;TZID=America/Detroit:20250514T203000
DTSTAMP:20260423T153858
CREATED:20250210T213039Z
LAST-MODIFIED:20250211T181331Z
UID:10012698-1747249200-1747254600@www.fumc-a2.org
SUMMARY:Chancel Choir rehearsal
DESCRIPTION:All are welcome to join the Chancel Choir at any time – no experience is necessary. The Chancel Choir rehearses weekly on Wednesday evenings\, then again prior to 10am Sunday services. \nOccasional retreats are planned to prepare for larger works. \nWith interest or questions about the Chancel Choir\, please contact Ken Sieloff. \nJoin the choir here.
URL:https://www.fumc-a2.org/event/chancel-choir-rehearsal-2-2/2025-05-14/
CATEGORIES:Adults,Evening,Music,Worship
END:VEVENT
BEGIN:VEVENT
DTSTART;TZID=America/Detroit:20250507T190000
DTEND;TZID=America/Detroit:20250507T203000
DTSTAMP:20260423T153858
CREATED:20250210T213039Z
LAST-MODIFIED:20250211T181331Z
UID:10012697-1746644400-1746649800@www.fumc-a2.org
SUMMARY:Chancel Choir rehearsal
DESCRIPTION:All are welcome to join the Chancel Choir at any time – no experience is necessary. The Chancel Choir rehearses weekly on Wednesday evenings\, then again prior to 10am Sunday services. \nOccasional retreats are planned to prepare for larger works. \nWith interest or questions about the Chancel Choir\, please contact Ken Sieloff. \nJoin the choir here.
URL:https://www.fumc-a2.org/event/chancel-choir-rehearsal-2-2/2025-05-07/
CATEGORIES:Adults,Evening,Music,Worship
END:VEVENT
BEGIN:VEVENT
DTSTART;TZID=America/Detroit:20250430T190000
DTEND;TZID=America/Detroit:20250430T203000
DTSTAMP:20260423T153858
CREATED:20250210T213039Z
LAST-MODIFIED:20250211T181331Z
UID:10012696-1746039600-1746045000@www.fumc-a2.org
SUMMARY:Chancel Choir rehearsal
DESCRIPTION:All are welcome to join the Chancel Choir at any time – no experience is necessary. The Chancel Choir rehearses weekly on Wednesday evenings\, then again prior to 10am Sunday services. \nOccasional retreats are planned to prepare for larger works. \nWith interest or questions about the Chancel Choir\, please contact Ken Sieloff. \nJoin the choir here.
URL:https://www.fumc-a2.org/event/chancel-choir-rehearsal-2-2/2025-04-30/
CATEGORIES:Adults,Evening,Music,Worship
END:VEVENT
BEGIN:VEVENT
DTSTART;TZID=America/Detroit:20250423T190000
DTEND;TZID=America/Detroit:20250423T203000
DTSTAMP:20260423T153858
CREATED:20250210T213039Z
LAST-MODIFIED:20250211T181331Z
UID:10012695-1745434800-1745440200@www.fumc-a2.org
SUMMARY:Chancel Choir rehearsal
DESCRIPTION:All are welcome to join the Chancel Choir at any time – no experience is necessary. The Chancel Choir rehearses weekly on Wednesday evenings\, then again prior to 10am Sunday services. \nOccasional retreats are planned to prepare for larger works. \nWith interest or questions about the Chancel Choir\, please contact Ken Sieloff. \nJoin the choir here.
URL:https://www.fumc-a2.org/event/chancel-choir-rehearsal-2-2/2025-04-23/
CATEGORIES:Adults,Evening,Music,Worship
END:VEVENT
BEGIN:VEVENT
DTSTART;TZID=America/Detroit:20250420T113000
DTEND;TZID=America/Detroit:20250420T123000
DTSTAMP:20260423T153858
CREATED:20250213T204927Z
LAST-MODIFIED:20250213T204927Z
UID:10012743-1745148600-1745152200@www.fumc-a2.org
SUMMARY:Easter Service
DESCRIPTION:Join us for an Easter service as we celebrate the resurrection\, that Jesus is alive!
URL:https://www.fumc-a2.org/event/easter-service-3/
CATEGORIES:Daytime,Morning,Music,Worship
END:VEVENT
BEGIN:VEVENT
DTSTART;TZID=America/Detroit:20250419T170000
DTEND;TZID=America/Detroit:20250419T180000
DTSTAMP:20260423T153859
CREATED:20250213T205102Z
LAST-MODIFIED:20250409T013523Z
UID:10012744-1745082000-1745085600@www.fumc-a2.org
SUMMARY:Contemporary Easter Service
DESCRIPTION:Join us for a Contemporary Easter Service in the Green Wood Sanctuary.
URL:https://www.fumc-a2.org/event/contemporary-easter-service/
CATEGORIES:Evening,Music,Worship
END:VEVENT
BEGIN:VEVENT
DTSTART;TZID=America/Detroit:20250418T190000
DTEND;TZID=America/Detroit:20250418T200000
DTSTAMP:20260423T153859
CREATED:20250312T191518Z
LAST-MODIFIED:20250312T191518Z
UID:10012782-1745002800-1745006400@www.fumc-a2.org
SUMMARY:Good Friday Service
DESCRIPTION:Join us for a joint community worship service at Bethlehem United Church of Christ at 7 p.m.
URL:https://www.fumc-a2.org/event/good-friday-service-2/
CATEGORIES:Music,Worship
END:VEVENT
BEGIN:VEVENT
DTSTART;TZID=America/Detroit:20250418T120000
DTEND;TZID=America/Detroit:20250418T130000
DTSTAMP:20260423T153859
CREATED:20250312T191354Z
LAST-MODIFIED:20250313T160116Z
UID:10012781-1744977600-1744981200@www.fumc-a2.org
SUMMARY:Good Friday Service
DESCRIPTION:Join us for a joint community worship services at First Congregational Church of Ann Arbor starting at noon.
URL:https://www.fumc-a2.org/event/good-friday-service/
CATEGORIES:Music,Worship
END:VEVENT
BEGIN:VEVENT
DTSTART;TZID=America/Detroit:20250417T190000
DTEND;TZID=America/Detroit:20250417T200000
DTSTAMP:20260423T153859
CREATED:20250213T204736Z
LAST-MODIFIED:20250213T205236Z
UID:10012742-1744916400-1744920000@www.fumc-a2.org
SUMMARY:Maundy Thursday Service
DESCRIPTION:Join us downtown for a service of Tenebrae readings and music that recount the events from the arrest of Jesus through his sentencing to death. \nDowntown & livestreamed on YouTube.
URL:https://www.fumc-a2.org/event/maundy-thursday-service-3/
CATEGORIES:Evening,Music,Worship
END:VEVENT
BEGIN:VEVENT
DTSTART;TZID=America/Detroit:20250416T190000
DTEND;TZID=America/Detroit:20250416T203000
DTSTAMP:20260423T153859
CREATED:20250210T213039Z
LAST-MODIFIED:20250211T181331Z
UID:10012694-1744830000-1744835400@www.fumc-a2.org
SUMMARY:Chancel Choir rehearsal
DESCRIPTION:All are welcome to join the Chancel Choir at any time – no experience is necessary. The Chancel Choir rehearses weekly on Wednesday evenings\, then again prior to 10am Sunday services. \nOccasional retreats are planned to prepare for larger works. \nWith interest or questions about the Chancel Choir\, please contact Ken Sieloff. \nJoin the choir here.
URL:https://www.fumc-a2.org/event/chancel-choir-rehearsal-2-2/2025-04-16/
CATEGORIES:Adults,Evening,Music,Worship
END:VEVENT
BEGIN:VEVENT
DTSTART;TZID=America/Detroit:20250409T190000
DTEND;TZID=America/Detroit:20250409T203000
DTSTAMP:20260423T153859
CREATED:20250210T213039Z
LAST-MODIFIED:20250211T181331Z
UID:10012693-1744225200-1744230600@www.fumc-a2.org
SUMMARY:Chancel Choir rehearsal
DESCRIPTION:All are welcome to join the Chancel Choir at any time – no experience is necessary. The Chancel Choir rehearses weekly on Wednesday evenings\, then again prior to 10am Sunday services. \nOccasional retreats are planned to prepare for larger works. \nWith interest or questions about the Chancel Choir\, please contact Ken Sieloff. \nJoin the choir here.
URL:https://www.fumc-a2.org/event/chancel-choir-rehearsal-2-2/2025-04-09/
CATEGORIES:Adults,Evening,Music,Worship
END:VEVENT
BEGIN:VEVENT
DTSTART;TZID=America/Detroit:20250402T190000
DTEND;TZID=America/Detroit:20250402T203000
DTSTAMP:20260423T153859
CREATED:20250210T213039Z
LAST-MODIFIED:20250211T181331Z
UID:10012692-1743620400-1743625800@www.fumc-a2.org
SUMMARY:Chancel Choir rehearsal
DESCRIPTION:All are welcome to join the Chancel Choir at any time – no experience is necessary. The Chancel Choir rehearses weekly on Wednesday evenings\, then again prior to 10am Sunday services. \nOccasional retreats are planned to prepare for larger works. \nWith interest or questions about the Chancel Choir\, please contact Ken Sieloff. \nJoin the choir here.
URL:https://www.fumc-a2.org/event/chancel-choir-rehearsal-2-2/2025-04-02/
CATEGORIES:Adults,Evening,Music,Worship
END:VEVENT
BEGIN:VEVENT
DTSTART;TZID=America/Detroit:20250326T190000
DTEND;TZID=America/Detroit:20250326T203000
DTSTAMP:20260423T153859
CREATED:20250210T213039Z
LAST-MODIFIED:20250211T181331Z
UID:10012691-1743015600-1743021000@www.fumc-a2.org
SUMMARY:Chancel Choir rehearsal
DESCRIPTION:All are welcome to join the Chancel Choir at any time – no experience is necessary. The Chancel Choir rehearses weekly on Wednesday evenings\, then again prior to 10am Sunday services. \nOccasional retreats are planned to prepare for larger works. \nWith interest or questions about the Chancel Choir\, please contact Ken Sieloff. \nJoin the choir here.
URL:https://www.fumc-a2.org/event/chancel-choir-rehearsal-2-2/2025-03-26/
CATEGORIES:Adults,Evening,Music,Worship
END:VEVENT
BEGIN:VEVENT
DTSTART;TZID=America/Detroit:20250319T190000
DTEND;TZID=America/Detroit:20250319T203000
DTSTAMP:20260423T153859
CREATED:20250210T213039Z
LAST-MODIFIED:20250211T181331Z
UID:10012690-1742410800-1742416200@www.fumc-a2.org
SUMMARY:Chancel Choir rehearsal
DESCRIPTION:All are welcome to join the Chancel Choir at any time – no experience is necessary. The Chancel Choir rehearses weekly on Wednesday evenings\, then again prior to 10am Sunday services. \nOccasional retreats are planned to prepare for larger works. \nWith interest or questions about the Chancel Choir\, please contact Ken Sieloff. \nJoin the choir here.
URL:https://www.fumc-a2.org/event/chancel-choir-rehearsal-2-2/2025-03-19/
CATEGORIES:Adults,Evening,Music,Worship
END:VEVENT
BEGIN:VEVENT
DTSTART;TZID=America/Detroit:20250312T190000
DTEND;TZID=America/Detroit:20250312T203000
DTSTAMP:20260423T153859
CREATED:20250210T213039Z
LAST-MODIFIED:20250211T181331Z
UID:10012689-1741806000-1741811400@www.fumc-a2.org
SUMMARY:Chancel Choir rehearsal
DESCRIPTION:All are welcome to join the Chancel Choir at any time – no experience is necessary. The Chancel Choir rehearses weekly on Wednesday evenings\, then again prior to 10am Sunday services. \nOccasional retreats are planned to prepare for larger works. \nWith interest or questions about the Chancel Choir\, please contact Ken Sieloff. \nJoin the choir here.
URL:https://www.fumc-a2.org/event/chancel-choir-rehearsal-2-2/2025-03-12/
CATEGORIES:Adults,Evening,Music,Worship
END:VEVENT
BEGIN:VEVENT
DTSTART;TZID=America/Detroit:20250305T190000
DTEND;TZID=America/Detroit:20250305T200000
DTSTAMP:20260423T153859
CREATED:20250213T204345Z
LAST-MODIFIED:20250213T204345Z
UID:10012703-1741201200-1741204800@www.fumc-a2.org
SUMMARY:Ash Wednesday Service
DESCRIPTION:Downtown & livestreamed on YouTube.
URL:https://www.fumc-a2.org/event/ash-wednesday-service-2/
CATEGORIES:Evening,Music,Worship
END:VEVENT
BEGIN:VEVENT
DTSTART;TZID=America/Detroit:20250226T190000
DTEND;TZID=America/Detroit:20250226T203000
DTSTAMP:20260423T153859
CREATED:20250210T213039Z
LAST-MODIFIED:20250211T181331Z
UID:10012687-1740596400-1740601800@www.fumc-a2.org
SUMMARY:Chancel Choir rehearsal
DESCRIPTION:All are welcome to join the Chancel Choir at any time – no experience is necessary. The Chancel Choir rehearses weekly on Wednesday evenings\, then again prior to 10am Sunday services. \nOccasional retreats are planned to prepare for larger works. \nWith interest or questions about the Chancel Choir\, please contact Ken Sieloff. \nJoin the choir here.
URL:https://www.fumc-a2.org/event/chancel-choir-rehearsal-2-2/2025-02-26/
CATEGORIES:Adults,Evening,Music,Worship
END:VEVENT
BEGIN:VEVENT
DTSTART;TZID=America/Detroit:20250219T190000
DTEND;TZID=America/Detroit:20250219T203000
DTSTAMP:20260423T153859
CREATED:20250210T213039Z
LAST-MODIFIED:20250211T181331Z
UID:10012686-1739991600-1739997000@www.fumc-a2.org
SUMMARY:Chancel Choir rehearsal
DESCRIPTION:All are welcome to join the Chancel Choir at any time – no experience is necessary. The Chancel Choir rehearses weekly on Wednesday evenings\, then again prior to 10am Sunday services. \nOccasional retreats are planned to prepare for larger works. \nWith interest or questions about the Chancel Choir\, please contact Ken Sieloff. \nJoin the choir here.
URL:https://www.fumc-a2.org/event/chancel-choir-rehearsal-2-2/2025-02-19/
CATEGORIES:Adults,Evening,Music,Worship
END:VEVENT
BEGIN:VEVENT
DTSTART;TZID=America/Detroit:20250205T190000
DTEND;TZID=America/Detroit:20250205T203000
DTSTAMP:20260423T153859
CREATED:20250115T222106Z
LAST-MODIFIED:20250115T222114Z
UID:10012637-1738782000-1738787400@www.fumc-a2.org
SUMMARY:Chancel Choir rehearsal
DESCRIPTION:All are welcome to join the Chancel Choir at any time – no experience is necessary. The Chancel Choir rehearses weekly on Wednesday evenings\, then again prior to 10am Sunday services. \nOccasional retreats are planned to prepare for larger works. \nWith interest or questions about the Chancel Choir\, please contact Ken Sieloff. \nJoin the choir here.
URL:https://www.fumc-a2.org/event/chancel-choir-rehearsal-2/2025-02-05/
CATEGORIES:Adults,Evening,Music,Worship
END:VEVENT
BEGIN:VEVENT
DTSTART;TZID=America/Detroit:20250129T190000
DTEND;TZID=America/Detroit:20250129T203000
DTSTAMP:20260423T153859
CREATED:20250115T222106Z
LAST-MODIFIED:20250115T222114Z
UID:10012636-1738177200-1738182600@www.fumc-a2.org
SUMMARY:Chancel Choir rehearsal
DESCRIPTION:All are welcome to join the Chancel Choir at any time – no experience is necessary. The Chancel Choir rehearses weekly on Wednesday evenings\, then again prior to 10am Sunday services. \nOccasional retreats are planned to prepare for larger works. \nWith interest or questions about the Chancel Choir\, please contact Ken Sieloff. \nJoin the choir here.
URL:https://www.fumc-a2.org/event/chancel-choir-rehearsal-2/2025-01-29/
CATEGORIES:Adults,Evening,Music,Worship
END:VEVENT
BEGIN:VEVENT
DTSTART;TZID=America/Detroit:20250122T190000
DTEND;TZID=America/Detroit:20250122T203000
DTSTAMP:20260423T153859
CREATED:20250115T222106Z
LAST-MODIFIED:20250115T222114Z
UID:10012635-1737572400-1737577800@www.fumc-a2.org
SUMMARY:Chancel Choir rehearsal
DESCRIPTION:All are welcome to join the Chancel Choir at any time – no experience is necessary. The Chancel Choir rehearses weekly on Wednesday evenings\, then again prior to 10am Sunday services. \nOccasional retreats are planned to prepare for larger works. \nWith interest or questions about the Chancel Choir\, please contact Ken Sieloff. \nJoin the choir here.
URL:https://www.fumc-a2.org/event/chancel-choir-rehearsal-2/2025-01-22/
CATEGORIES:Adults,Evening,Music,Worship
END:VEVENT
BEGIN:VEVENT
DTSTART;TZID=America/Detroit:20250115T190000
DTEND;TZID=America/Detroit:20250115T203000
DTSTAMP:20260423T153859
CREATED:20250115T222106Z
LAST-MODIFIED:20250115T222114Z
UID:10012456-1736967600-1736973000@www.fumc-a2.org
SUMMARY:Chancel Choir rehearsal
DESCRIPTION:All are welcome to join the Chancel Choir at any time – no experience is necessary. The Chancel Choir rehearses weekly on Wednesday evenings\, then again prior to 10am Sunday services. \nOccasional retreats are planned to prepare for larger works. \nWith interest or questions about the Chancel Choir\, please contact Ken Sieloff. \nJoin the choir here.
URL:https://www.fumc-a2.org/event/chancel-choir-rehearsal-2/2025-01-15/
CATEGORIES:Adults,Evening,Music,Worship
END:VEVENT
BEGIN:VEVENT
DTSTART;TZID=America/Detroit:20250108T173000
DTEND;TZID=America/Detroit:20250108T190000
DTSTAMP:20260423T153859
CREATED:20240906T151355Z
LAST-MODIFIED:20241018T193659Z
UID:10012455-1736357400-1736362800@www.fumc-a2.org
SUMMARY:Chancel Choir rehearsal
DESCRIPTION:All are welcome to join the Chancel Choir at any time – no experience is necessary. The Chancel Choir rehearses weekly on Wednesday evenings\, then again prior to 10am Sunday services. \nOccasional retreats are planned to prepare for larger works. \nWith interest or questions about the Chancel Choir\, please contact Ken Sieloff. \nJoin the choir here.
URL:https://www.fumc-a2.org/event/chancel-choir-rehearsal/2025-01-08/
CATEGORIES:Adults,Evening,Music,Worship
END:VEVENT
BEGIN:VEVENT
DTSTART;TZID=America/Detroit:20241218T173000
DTEND;TZID=America/Detroit:20241218T190000
DTSTAMP:20260423T153859
CREATED:20240906T151355Z
LAST-MODIFIED:20241018T193659Z
UID:10012452-1734543000-1734548400@www.fumc-a2.org
SUMMARY:Chancel Choir rehearsal
DESCRIPTION:All are welcome to join the Chancel Choir at any time – no experience is necessary. The Chancel Choir rehearses weekly on Wednesday evenings\, then again prior to 10am Sunday services. \nOccasional retreats are planned to prepare for larger works. \nWith interest or questions about the Chancel Choir\, please contact Ken Sieloff. \nJoin the choir here.
URL:https://www.fumc-a2.org/event/chancel-choir-rehearsal/2024-12-18/
CATEGORIES:Adults,Evening,Music,Worship
END:VEVENT
END:VCALENDAR