BEGIN:VCALENDAR
VERSION:2.0
PRODID:-//First United Methodist Church - ECPv6.15.17.1//NONSGML v1.0//EN
CALSCALE:GREGORIAN
METHOD:PUBLISH
X-WR-CALNAME:First United Methodist Church
X-ORIGINAL-URL:https://www.fumc-a2.org
X-WR-CALDESC:Events for First United Methodist Church
REFRESH-INTERVAL;VALUE=DURATION:PT1H
X-Robots-Tag:noindex
X-PUBLISHED-TTL:PT1H
BEGIN:VTIMEZONE
TZID:America/Detroit
BEGIN:DAYLIGHT
TZOFFSETFROM:-0500
TZOFFSETTO:-0400
TZNAME:EDT
DTSTART:20260308T070000
END:DAYLIGHT
BEGIN:STANDARD
TZOFFSETFROM:-0400
TZOFFSETTO:-0500
TZNAME:EST
DTSTART:20261101T060000
END:STANDARD
BEGIN:DAYLIGHT
TZOFFSETFROM:-0500
TZOFFSETTO:-0400
TZNAME:EDT
DTSTART:20270314T070000
END:DAYLIGHT
BEGIN:STANDARD
TZOFFSETFROM:-0400
TZOFFSETTO:-0500
TZNAME:EST
DTSTART:20271107T060000
END:STANDARD
BEGIN:DAYLIGHT
TZOFFSETFROM:-0500
TZOFFSETTO:-0400
TZNAME:EDT
DTSTART:20280312T070000
END:DAYLIGHT
BEGIN:STANDARD
TZOFFSETFROM:-0400
TZOFFSETTO:-0500
TZNAME:EST
DTSTART:20281105T060000
END:STANDARD
END:VTIMEZONE
BEGIN:VEVENT
DTSTART;TZID=America/Detroit:20270530T100000
DTEND;TZID=America/Detroit:20270530T110000
DTSTAMP:20260420T155625
CREATED:20250411T171607Z
LAST-MODIFIED:20250411T171819Z
UID:10010940-1811671200-1811674800@www.fumc-a2.org
SUMMARY:Traditional Worship
DESCRIPTION:Join us for our traditional worship service downtown on Sundays at 10 a.m. Or livestream the service on YouTube.
URL:https://www.fumc-a2.org/event/downtown-worship-4/2027-05-30/
CATEGORIES:Morning,Worship
END:VEVENT
BEGIN:VEVENT
DTSTART;TZID=America/Detroit:20270605T170000
DTEND;TZID=America/Detroit:20270605T180000
DTSTAMP:20260420T155625
CREATED:20250409T013409Z
LAST-MODIFIED:20250409T013411Z
UID:10011202-1812214800-1812218400@www.fumc-a2.org
SUMMARY:Contemporary Worship
DESCRIPTION:Join us for our contemporary worship service in the Green Wood Sanctuary on Saturdays at 5 p.m.
URL:https://www.fumc-a2.org/event/green-wood-worship-4-3/2027-06-05/
CATEGORIES:Evening,Worship
END:VEVENT
BEGIN:VEVENT
DTSTART;TZID=America/Detroit:20270606T100000
DTEND;TZID=America/Detroit:20270606T110000
DTSTAMP:20260420T155625
CREATED:20250411T171607Z
LAST-MODIFIED:20250411T171819Z
UID:10010941-1812276000-1812279600@www.fumc-a2.org
SUMMARY:Traditional Worship
DESCRIPTION:Join us for our traditional worship service downtown on Sundays at 10 a.m. Or livestream the service on YouTube.
URL:https://www.fumc-a2.org/event/downtown-worship-4/2027-06-06/
CATEGORIES:Morning,Worship
END:VEVENT
BEGIN:VEVENT
DTSTART;TZID=America/Detroit:20270612T170000
DTEND;TZID=America/Detroit:20270612T180000
DTSTAMP:20260420T155625
CREATED:20250409T013409Z
LAST-MODIFIED:20250409T013411Z
UID:10011203-1812819600-1812823200@www.fumc-a2.org
SUMMARY:Contemporary Worship
DESCRIPTION:Join us for our contemporary worship service in the Green Wood Sanctuary on Saturdays at 5 p.m.
URL:https://www.fumc-a2.org/event/green-wood-worship-4-3/2027-06-12/
CATEGORIES:Evening,Worship
END:VEVENT
BEGIN:VEVENT
DTSTART;TZID=America/Detroit:20270613T100000
DTEND;TZID=America/Detroit:20270613T110000
DTSTAMP:20260420T155625
CREATED:20250411T171607Z
LAST-MODIFIED:20250411T171819Z
UID:10010942-1812880800-1812884400@www.fumc-a2.org
SUMMARY:Traditional Worship
DESCRIPTION:Join us for our traditional worship service downtown on Sundays at 10 a.m. Or livestream the service on YouTube.
URL:https://www.fumc-a2.org/event/downtown-worship-4/2027-06-13/
CATEGORIES:Morning,Worship
END:VEVENT
BEGIN:VEVENT
DTSTART;TZID=America/Detroit:20270619T170000
DTEND;TZID=America/Detroit:20270619T180000
DTSTAMP:20260420T155625
CREATED:20250409T013409Z
LAST-MODIFIED:20250409T013411Z
UID:10011204-1813424400-1813428000@www.fumc-a2.org
SUMMARY:Contemporary Worship
DESCRIPTION:Join us for our contemporary worship service in the Green Wood Sanctuary on Saturdays at 5 p.m.
URL:https://www.fumc-a2.org/event/green-wood-worship-4-3/2027-06-19/
CATEGORIES:Evening,Worship
END:VEVENT
BEGIN:VEVENT
DTSTART;TZID=America/Detroit:20270620T100000
DTEND;TZID=America/Detroit:20270620T110000
DTSTAMP:20260420T155625
CREATED:20250411T171607Z
LAST-MODIFIED:20250411T171819Z
UID:10010943-1813485600-1813489200@www.fumc-a2.org
SUMMARY:Traditional Worship
DESCRIPTION:Join us for our traditional worship service downtown on Sundays at 10 a.m. Or livestream the service on YouTube.
URL:https://www.fumc-a2.org/event/downtown-worship-4/2027-06-20/
CATEGORIES:Morning,Worship
END:VEVENT
BEGIN:VEVENT
DTSTART;TZID=America/Detroit:20270626T170000
DTEND;TZID=America/Detroit:20270626T180000
DTSTAMP:20260420T155625
CREATED:20250409T013409Z
LAST-MODIFIED:20250409T013411Z
UID:10011205-1814029200-1814032800@www.fumc-a2.org
SUMMARY:Contemporary Worship
DESCRIPTION:Join us for our contemporary worship service in the Green Wood Sanctuary on Saturdays at 5 p.m.
URL:https://www.fumc-a2.org/event/green-wood-worship-4-3/2027-06-26/
CATEGORIES:Evening,Worship
END:VEVENT
BEGIN:VEVENT
DTSTART;TZID=America/Detroit:20270627T100000
DTEND;TZID=America/Detroit:20270627T110000
DTSTAMP:20260420T155625
CREATED:20250411T171607Z
LAST-MODIFIED:20250411T171819Z
UID:10010944-1814090400-1814094000@www.fumc-a2.org
SUMMARY:Traditional Worship
DESCRIPTION:Join us for our traditional worship service downtown on Sundays at 10 a.m. Or livestream the service on YouTube.
URL:https://www.fumc-a2.org/event/downtown-worship-4/2027-06-27/
CATEGORIES:Morning,Worship
END:VEVENT
BEGIN:VEVENT
DTSTART;TZID=America/Detroit:20270703T170000
DTEND;TZID=America/Detroit:20270703T180000
DTSTAMP:20260420T155625
CREATED:20250409T013409Z
LAST-MODIFIED:20250409T013411Z
UID:10011206-1814634000-1814637600@www.fumc-a2.org
SUMMARY:Contemporary Worship
DESCRIPTION:Join us for our contemporary worship service in the Green Wood Sanctuary on Saturdays at 5 p.m.
URL:https://www.fumc-a2.org/event/green-wood-worship-4-3/2027-07-03/
CATEGORIES:Evening,Worship
END:VEVENT
BEGIN:VEVENT
DTSTART;TZID=America/Detroit:20270704T100000
DTEND;TZID=America/Detroit:20270704T110000
DTSTAMP:20260420T155625
CREATED:20250411T171607Z
LAST-MODIFIED:20250411T171819Z
UID:10010945-1814695200-1814698800@www.fumc-a2.org
SUMMARY:Traditional Worship
DESCRIPTION:Join us for our traditional worship service downtown on Sundays at 10 a.m. Or livestream the service on YouTube.
URL:https://www.fumc-a2.org/event/downtown-worship-4/2027-07-04/
CATEGORIES:Morning,Worship
END:VEVENT
BEGIN:VEVENT
DTSTART;TZID=America/Detroit:20270710T170000
DTEND;TZID=America/Detroit:20270710T180000
DTSTAMP:20260420T155625
CREATED:20250409T013409Z
LAST-MODIFIED:20250409T013411Z
UID:10011207-1815238800-1815242400@www.fumc-a2.org
SUMMARY:Contemporary Worship
DESCRIPTION:Join us for our contemporary worship service in the Green Wood Sanctuary on Saturdays at 5 p.m.
URL:https://www.fumc-a2.org/event/green-wood-worship-4-3/2027-07-10/
CATEGORIES:Evening,Worship
END:VEVENT
BEGIN:VEVENT
DTSTART;TZID=America/Detroit:20270711T100000
DTEND;TZID=America/Detroit:20270711T110000
DTSTAMP:20260420T155625
CREATED:20250411T171607Z
LAST-MODIFIED:20250411T171819Z
UID:10010946-1815300000-1815303600@www.fumc-a2.org
SUMMARY:Traditional Worship
DESCRIPTION:Join us for our traditional worship service downtown on Sundays at 10 a.m. Or livestream the service on YouTube.
URL:https://www.fumc-a2.org/event/downtown-worship-4/2027-07-11/
CATEGORIES:Morning,Worship
END:VEVENT
BEGIN:VEVENT
DTSTART;TZID=America/Detroit:20270717T170000
DTEND;TZID=America/Detroit:20270717T180000
DTSTAMP:20260420T155625
CREATED:20250409T013409Z
LAST-MODIFIED:20250409T013411Z
UID:10011208-1815843600-1815847200@www.fumc-a2.org
SUMMARY:Contemporary Worship
DESCRIPTION:Join us for our contemporary worship service in the Green Wood Sanctuary on Saturdays at 5 p.m.
URL:https://www.fumc-a2.org/event/green-wood-worship-4-3/2027-07-17/
CATEGORIES:Evening,Worship
END:VEVENT
BEGIN:VEVENT
DTSTART;TZID=America/Detroit:20270718T100000
DTEND;TZID=America/Detroit:20270718T110000
DTSTAMP:20260420T155625
CREATED:20250411T171607Z
LAST-MODIFIED:20250411T171819Z
UID:10010947-1815904800-1815908400@www.fumc-a2.org
SUMMARY:Traditional Worship
DESCRIPTION:Join us for our traditional worship service downtown on Sundays at 10 a.m. Or livestream the service on YouTube.
URL:https://www.fumc-a2.org/event/downtown-worship-4/2027-07-18/
CATEGORIES:Morning,Worship
END:VEVENT
BEGIN:VEVENT
DTSTART;TZID=America/Detroit:20270724T170000
DTEND;TZID=America/Detroit:20270724T180000
DTSTAMP:20260420T155625
CREATED:20250409T013409Z
LAST-MODIFIED:20250409T013411Z
UID:10011209-1816448400-1816452000@www.fumc-a2.org
SUMMARY:Contemporary Worship
DESCRIPTION:Join us for our contemporary worship service in the Green Wood Sanctuary on Saturdays at 5 p.m.
URL:https://www.fumc-a2.org/event/green-wood-worship-4-3/2027-07-24/
CATEGORIES:Evening,Worship
END:VEVENT
BEGIN:VEVENT
DTSTART;TZID=America/Detroit:20270725T100000
DTEND;TZID=America/Detroit:20270725T110000
DTSTAMP:20260420T155625
CREATED:20250411T171607Z
LAST-MODIFIED:20250411T171819Z
UID:10010948-1816509600-1816513200@www.fumc-a2.org
SUMMARY:Traditional Worship
DESCRIPTION:Join us for our traditional worship service downtown on Sundays at 10 a.m. Or livestream the service on YouTube.
URL:https://www.fumc-a2.org/event/downtown-worship-4/2027-07-25/
CATEGORIES:Morning,Worship
END:VEVENT
BEGIN:VEVENT
DTSTART;TZID=America/Detroit:20270731T170000
DTEND;TZID=America/Detroit:20270731T180000
DTSTAMP:20260420T155625
CREATED:20250409T013409Z
LAST-MODIFIED:20250409T013411Z
UID:10011210-1817053200-1817056800@www.fumc-a2.org
SUMMARY:Contemporary Worship
DESCRIPTION:Join us for our contemporary worship service in the Green Wood Sanctuary on Saturdays at 5 p.m.
URL:https://www.fumc-a2.org/event/green-wood-worship-4-3/2027-07-31/
CATEGORIES:Evening,Worship
END:VEVENT
BEGIN:VEVENT
DTSTART;TZID=America/Detroit:20270801T100000
DTEND;TZID=America/Detroit:20270801T110000
DTSTAMP:20260420T155625
CREATED:20250411T171607Z
LAST-MODIFIED:20250411T171819Z
UID:10010949-1817114400-1817118000@www.fumc-a2.org
SUMMARY:Traditional Worship
DESCRIPTION:Join us for our traditional worship service downtown on Sundays at 10 a.m. Or livestream the service on YouTube.
URL:https://www.fumc-a2.org/event/downtown-worship-4/2027-08-01/
CATEGORIES:Morning,Worship
END:VEVENT
BEGIN:VEVENT
DTSTART;TZID=America/Detroit:20270807T170000
DTEND;TZID=America/Detroit:20270807T180000
DTSTAMP:20260420T155625
CREATED:20250409T013409Z
LAST-MODIFIED:20250409T013411Z
UID:10011211-1817658000-1817661600@www.fumc-a2.org
SUMMARY:Contemporary Worship
DESCRIPTION:Join us for our contemporary worship service in the Green Wood Sanctuary on Saturdays at 5 p.m.
URL:https://www.fumc-a2.org/event/green-wood-worship-4-3/2027-08-07/
CATEGORIES:Evening,Worship
END:VEVENT
BEGIN:VEVENT
DTSTART;TZID=America/Detroit:20270808T100000
DTEND;TZID=America/Detroit:20270808T110000
DTSTAMP:20260420T155625
CREATED:20250411T171607Z
LAST-MODIFIED:20250411T171819Z
UID:10010950-1817719200-1817722800@www.fumc-a2.org
SUMMARY:Traditional Worship
DESCRIPTION:Join us for our traditional worship service downtown on Sundays at 10 a.m. Or livestream the service on YouTube.
URL:https://www.fumc-a2.org/event/downtown-worship-4/2027-08-08/
CATEGORIES:Morning,Worship
END:VEVENT
BEGIN:VEVENT
DTSTART;TZID=America/Detroit:20270814T170000
DTEND;TZID=America/Detroit:20270814T180000
DTSTAMP:20260420T155625
CREATED:20250409T013409Z
LAST-MODIFIED:20250409T013411Z
UID:10011212-1818262800-1818266400@www.fumc-a2.org
SUMMARY:Contemporary Worship
DESCRIPTION:Join us for our contemporary worship service in the Green Wood Sanctuary on Saturdays at 5 p.m.
URL:https://www.fumc-a2.org/event/green-wood-worship-4-3/2027-08-14/
CATEGORIES:Evening,Worship
END:VEVENT
BEGIN:VEVENT
DTSTART;TZID=America/Detroit:20270815T100000
DTEND;TZID=America/Detroit:20270815T110000
DTSTAMP:20260420T155625
CREATED:20250411T171607Z
LAST-MODIFIED:20250411T171819Z
UID:10010951-1818324000-1818327600@www.fumc-a2.org
SUMMARY:Traditional Worship
DESCRIPTION:Join us for our traditional worship service downtown on Sundays at 10 a.m. Or livestream the service on YouTube.
URL:https://www.fumc-a2.org/event/downtown-worship-4/2027-08-15/
CATEGORIES:Morning,Worship
END:VEVENT
BEGIN:VEVENT
DTSTART;TZID=America/Detroit:20270821T170000
DTEND;TZID=America/Detroit:20270821T180000
DTSTAMP:20260420T155625
CREATED:20250409T013409Z
LAST-MODIFIED:20250409T013411Z
UID:10011213-1818867600-1818871200@www.fumc-a2.org
SUMMARY:Contemporary Worship
DESCRIPTION:Join us for our contemporary worship service in the Green Wood Sanctuary on Saturdays at 5 p.m.
URL:https://www.fumc-a2.org/event/green-wood-worship-4-3/2027-08-21/
CATEGORIES:Evening,Worship
END:VEVENT
BEGIN:VEVENT
DTSTART;TZID=America/Detroit:20270822T100000
DTEND;TZID=America/Detroit:20270822T110000
DTSTAMP:20260420T155625
CREATED:20250411T171607Z
LAST-MODIFIED:20250411T171819Z
UID:10010952-1818928800-1818932400@www.fumc-a2.org
SUMMARY:Traditional Worship
DESCRIPTION:Join us for our traditional worship service downtown on Sundays at 10 a.m. Or livestream the service on YouTube.
URL:https://www.fumc-a2.org/event/downtown-worship-4/2027-08-22/
CATEGORIES:Morning,Worship
END:VEVENT
BEGIN:VEVENT
DTSTART;TZID=America/Detroit:20270828T170000
DTEND;TZID=America/Detroit:20270828T180000
DTSTAMP:20260420T155625
CREATED:20250409T013409Z
LAST-MODIFIED:20250409T013411Z
UID:10011214-1819472400-1819476000@www.fumc-a2.org
SUMMARY:Contemporary Worship
DESCRIPTION:Join us for our contemporary worship service in the Green Wood Sanctuary on Saturdays at 5 p.m.
URL:https://www.fumc-a2.org/event/green-wood-worship-4-3/2027-08-28/
CATEGORIES:Evening,Worship
END:VEVENT
BEGIN:VEVENT
DTSTART;TZID=America/Detroit:20270829T100000
DTEND;TZID=America/Detroit:20270829T110000
DTSTAMP:20260420T155625
CREATED:20250411T171607Z
LAST-MODIFIED:20250411T171819Z
UID:10010953-1819533600-1819537200@www.fumc-a2.org
SUMMARY:Traditional Worship
DESCRIPTION:Join us for our traditional worship service downtown on Sundays at 10 a.m. Or livestream the service on YouTube.
URL:https://www.fumc-a2.org/event/downtown-worship-4/2027-08-29/
CATEGORIES:Morning,Worship
END:VEVENT
BEGIN:VEVENT
DTSTART;TZID=America/Detroit:20270904T170000
DTEND;TZID=America/Detroit:20270904T180000
DTSTAMP:20260420T155625
CREATED:20250409T013409Z
LAST-MODIFIED:20250409T013411Z
UID:10011215-1820077200-1820080800@www.fumc-a2.org
SUMMARY:Contemporary Worship
DESCRIPTION:Join us for our contemporary worship service in the Green Wood Sanctuary on Saturdays at 5 p.m.
URL:https://www.fumc-a2.org/event/green-wood-worship-4-3/2027-09-04/
CATEGORIES:Evening,Worship
END:VEVENT
BEGIN:VEVENT
DTSTART;TZID=America/Detroit:20270905T100000
DTEND;TZID=America/Detroit:20270905T110000
DTSTAMP:20260420T155625
CREATED:20250411T171607Z
LAST-MODIFIED:20250411T171819Z
UID:10010954-1820138400-1820142000@www.fumc-a2.org
SUMMARY:Traditional Worship
DESCRIPTION:Join us for our traditional worship service downtown on Sundays at 10 a.m. Or livestream the service on YouTube.
URL:https://www.fumc-a2.org/event/downtown-worship-4/2027-09-05/
CATEGORIES:Morning,Worship
END:VEVENT
BEGIN:VEVENT
DTSTART;TZID=America/Detroit:20270911T170000
DTEND;TZID=America/Detroit:20270911T180000
DTSTAMP:20260420T155625
CREATED:20250409T013409Z
LAST-MODIFIED:20250409T013411Z
UID:10011216-1820682000-1820685600@www.fumc-a2.org
SUMMARY:Contemporary Worship
DESCRIPTION:Join us for our contemporary worship service in the Green Wood Sanctuary on Saturdays at 5 p.m.
URL:https://www.fumc-a2.org/event/green-wood-worship-4-3/2027-09-11/
CATEGORIES:Evening,Worship
END:VEVENT
END:VCALENDAR