BEGIN:VCALENDAR
VERSION:2.0
PRODID:-//First United Methodist Church - ECPv6.15.17.1//NONSGML v1.0//EN
CALSCALE:GREGORIAN
METHOD:PUBLISH
X-WR-CALNAME:First United Methodist Church
X-ORIGINAL-URL:https://www.fumc-a2.org
X-WR-CALDESC:Events for First United Methodist Church
REFRESH-INTERVAL;VALUE=DURATION:PT1H
X-Robots-Tag:noindex
X-PUBLISHED-TTL:PT1H
BEGIN:VTIMEZONE
TZID:America/Detroit
BEGIN:DAYLIGHT
TZOFFSETFROM:-0500
TZOFFSETTO:-0400
TZNAME:EDT
DTSTART:20230312T070000
END:DAYLIGHT
BEGIN:STANDARD
TZOFFSETFROM:-0400
TZOFFSETTO:-0500
TZNAME:EST
DTSTART:20231105T060000
END:STANDARD
BEGIN:DAYLIGHT
TZOFFSETFROM:-0500
TZOFFSETTO:-0400
TZNAME:EDT
DTSTART:20240310T070000
END:DAYLIGHT
BEGIN:STANDARD
TZOFFSETFROM:-0400
TZOFFSETTO:-0500
TZNAME:EST
DTSTART:20241103T060000
END:STANDARD
BEGIN:DAYLIGHT
TZOFFSETFROM:-0500
TZOFFSETTO:-0400
TZNAME:EDT
DTSTART:20250309T070000
END:DAYLIGHT
BEGIN:STANDARD
TZOFFSETFROM:-0400
TZOFFSETTO:-0500
TZNAME:EST
DTSTART:20251102T060000
END:STANDARD
END:VTIMEZONE
BEGIN:VEVENT
DTSTART;TZID=America/Detroit:20240404T193000
DTEND;TZID=America/Detroit:20240404T203000
DTSTAMP:20260420T171639
CREATED:20240226T135529Z
LAST-MODIFIED:20240321T183055Z
UID:10011299-1712259000-1712262600@www.fumc-a2.org
SUMMARY:Open Table
DESCRIPTION:Open Table Zoom \nThis friendly group studies the Bible together on Thursday evenings. No assigned reading\, no homework! We meet weekly on Zoom on Thursdays\, 7:30-8:30 p.m. \nJoin the group here.
URL:https://www.fumc-a2.org/event/open-table-3/2024-04-04/
LOCATION:Zoom
CATEGORIES:Adult Faith Formation,Adults,Evening
END:VEVENT
BEGIN:VEVENT
DTSTART;TZID=America/Detroit:20240403T080000
DTEND;TZID=America/Detroit:20240403T083000
DTSTAMP:20260420T171639
CREATED:20230824T204751Z
LAST-MODIFIED:20230825T192626Z
UID:10009734-1712131200-1712133000@www.fumc-a2.org
SUMMARY:Rise and Shine Service
DESCRIPTION:Start your day with scripture\, song\, prayer concerns and gratitudes. No sermon. You can be on your way by 8:30 a.m. \nJoin the Zoom meeting here. \nQuestions? Contact Amy Kennedy.
URL:https://www.fumc-a2.org/event/rise-and-shine-service-4/2024-04-03/
LOCATION:Zoom
CATEGORIES:Adults,Morning,Worship
END:VEVENT
BEGIN:VEVENT
DTSTART;TZID=America/Detroit:20240402T120000
DTEND;TZID=America/Detroit:20240402T130000
DTSTAMP:20260420T171639
CREATED:20231213T154308Z
LAST-MODIFIED:20240228T150811Z
UID:10010525-1712059200-1712062800@www.fumc-a2.org
SUMMARY:Open Table
DESCRIPTION:Open Table Zoom \nThis friendly group studies the Bible together weekly at lunch time on Tuesday. No assigned reading\, no homework! We meet weekly on Zoom on Tuesdays\, noon-1 p.m. \nJoin the group here.
URL:https://www.fumc-a2.org/event/open-table/2024-04-02/
LOCATION:Zoom
CATEGORIES:Adult Faith Formation,Adults,Daytime
END:VEVENT
BEGIN:VEVENT
DTSTART;TZID=America/Detroit:20240401T140000
DTEND;TZID=America/Detroit:20240401T150000
DTSTAMP:20260420T171639
CREATED:20230901T182447Z
LAST-MODIFIED:20230901T182447Z
UID:10009838-1711980000-1711983600@www.fumc-a2.org
SUMMARY:Sermon Chat
DESCRIPTION:Join this drop-in group on Mondays for a review of Sunday’s sermon on Zoom. Discuss questions provided by the preacher and questions you may have. \nJoin the Zoom meeting here. \nQuestions? Contact Helen Ryan.
URL:https://www.fumc-a2.org/event/sermon-chat-3/2024-04-01/
LOCATION:Zoom
CATEGORIES:Adult Faith Formation,Adults
END:VEVENT
BEGIN:VEVENT
DTSTART;TZID=America/Detroit:20240401T080000
DTEND;TZID=America/Detroit:20240401T090000
DTSTAMP:20260420T171639
CREATED:20230824T205304Z
LAST-MODIFIED:20240129T143203Z
UID:10009772-1711958400-1711962000@www.fumc-a2.org
SUMMARY:Mindful Monday
DESCRIPTION:All are welcome to join this group that practices different mindful techniques. \nJoin the Zoom meeting here. \nQuestions? Contact Amy Kennedy.
URL:https://www.fumc-a2.org/event/mindful-monday/2024-04-01/
LOCATION:Zoom
CATEGORIES:Adult Faith Formation,Adults,Morning
END:VEVENT
BEGIN:VEVENT
DTSTART;VALUE=DATE:20240401
DTEND;VALUE=DATE:20240402
DTSTAMP:20260420T171639
CREATED:20231211T145254Z
LAST-MODIFIED:20231211T145254Z
UID:10010409-1711929600-1712015999@www.fumc-a2.org
SUMMARY:Office closed
DESCRIPTION:The church office is closed Monday\, April 1.
URL:https://www.fumc-a2.org/event/office-closed-17/
LOCATION:MI
END:VEVENT
BEGIN:VEVENT
DTSTART;TZID=America/Detroit:20240331T130000
DTEND;TZID=America/Detroit:20240331T140000
DTSTAMP:20260420T171639
CREATED:20230823T164135Z
LAST-MODIFIED:20230905T145828Z
UID:10009434-1711890000-1711893600@www.fumc-a2.org
SUMMARY:Global Issues
DESCRIPTION:Global Issues uses the Foreign Policy Associations Great Decisions DVD & book. The curriculum is very secular\, but the group attempts to look at the issues from a Christian perspective asking\, “What are we called to do about it?” Occasionally\, participants bring in items from the news that the group discusses. Learn more about this offering. Questions? Contact Leo Shedden. \nJoin the Zoom meeting here.
URL:https://www.fumc-a2.org/event/global-issues-4/2024-03-31/
LOCATION:Zoom
CATEGORIES:Adult Faith Formation,Adults,Daytime
END:VEVENT
BEGIN:VEVENT
DTSTART;TZID=America/Detroit:20240331T113000
DTEND;TZID=America/Detroit:20240331T123000
DTSTAMP:20260420T171639
CREATED:20240117T214334Z
LAST-MODIFIED:20240117T214334Z
UID:10010629-1711884600-1711888200@www.fumc-a2.org
SUMMARY:Easter Service: Downtown
DESCRIPTION:Sunday\, March 31\, 11:30 a.m. | Downtown \nJoin us for Easter service as we celebrate the resurrection\, that Jesus is alive!
URL:https://www.fumc-a2.org/event/easter-service-downtown-2/
LOCATION:MI
CATEGORIES:Morning,Worship
END:VEVENT
BEGIN:VEVENT
DTSTART;TZID=America/Detroit:20240331T100000
DTEND;TZID=America/Detroit:20240331T110000
DTSTAMP:20260420T171639
CREATED:20240117T214225Z
LAST-MODIFIED:20240117T214225Z
UID:10010628-1711879200-1711882800@www.fumc-a2.org
SUMMARY:Easter Service: Downtown
DESCRIPTION:Sunday\, March 31\, 10 a.m. | Downtown and livestreamed on YouTube \nJoin us for Easter service as we celebrate the resurrection\, that Jesus is alive!
URL:https://www.fumc-a2.org/event/easter-service-downtown/
LOCATION:MI
CATEGORIES:Morning,Worship
END:VEVENT
BEGIN:VEVENT
DTSTART;TZID=America/Detroit:20240330T180000
DTEND;TZID=America/Detroit:20240330T190000
DTSTAMP:20260420T171639
CREATED:20240304T203732Z
LAST-MODIFIED:20240304T203732Z
UID:10010753-1711821600-1711825200@www.fumc-a2.org
SUMMARY:Green Wood Easter Egg Hunt & Potluck
DESCRIPTION:Please join us at Green Wood in celebrating Easter with a potluck. Side dishes and salads are great items to bring! There will be an Easter Egg hunt for the children while the adults set up tables and food.
URL:https://www.fumc-a2.org/event/green-wood-easter-egg-hunt-potluck/
LOCATION:MI
CATEGORIES:Adults,Evening,Kids,Youth
END:VEVENT
BEGIN:VEVENT
DTSTART;TZID=America/Detroit:20240330T170000
DTEND;TZID=America/Detroit:20240330T180000
DTSTAMP:20260420T171639
CREATED:20240117T213948Z
LAST-MODIFIED:20240117T213948Z
UID:10010627-1711818000-1711821600@www.fumc-a2.org
SUMMARY:Easter Service: Green Wood
DESCRIPTION:Saturday\, March 30\, 5 p.m. | Green Wood \nJoin us for Easter service as we celebrate the resurrection\, that Jesus is alive!
URL:https://www.fumc-a2.org/event/easter-service-green-wood/
LOCATION:MI
CATEGORIES:Evening,Worship
END:VEVENT
BEGIN:VEVENT
DTSTART;TZID=America/Detroit:20240330T083000
DTEND;TZID=America/Detroit:20240330T100000
DTSTAMP:20260420T171639
CREATED:20230823T164618Z
LAST-MODIFIED:20230828T224344Z
UID:10009474-1711787400-1711792800@www.fumc-a2.org
SUMMARY:Men of Faith
DESCRIPTION:This is a group for men who want to gather to share spiritual program material\, “God Sightings” and prayer. All men who are interested in growing their faith through study\, sharing and prayer are welcome to join! Questions? Contact Jim Higdon or Mark Wickham. \nLearn more about this offering.
URL:https://www.fumc-a2.org/event/men-of-faith/2024-03-30/
LOCATION:Zoom
CATEGORIES:Adult Faith Formation,Adults,Morning
END:VEVENT
BEGIN:VEVENT
DTSTART;TZID=America/Detroit:20240329T190000
DTEND;TZID=America/Detroit:20240329T193000
DTSTAMP:20260420T171639
CREATED:20240122T140044Z
LAST-MODIFIED:20240122T140044Z
UID:10010638-1711738800-1711740600@www.fumc-a2.org
SUMMARY:Good Friday Service: Green Wood
DESCRIPTION:Join us for a 30 minute service of music and prayers to remember the events of Good Friday in worship.
URL:https://www.fumc-a2.org/event/good-friday-service-green-wood/
LOCATION:MI
CATEGORIES:Evening,Worship
END:VEVENT
BEGIN:VEVENT
DTSTART;TZID=America/Detroit:20240329T120000
DTEND;TZID=America/Detroit:20240329T130000
DTSTAMP:20260420T171639
CREATED:20240129T153139Z
LAST-MODIFIED:20240206T002857Z
UID:10010705-1711713600-1711717200@www.fumc-a2.org
SUMMARY:Good Friday Service
DESCRIPTION:Join us for a joint community worship service at First Baptist Church of Ann Arbor (517 E Washington St.) starting at noon.
URL:https://www.fumc-a2.org/event/good-friday/
LOCATION:MI
CATEGORIES:Daytime,Worship
END:VEVENT
BEGIN:VEVENT
DTSTART;TZID=America/Detroit:20240328T193000
DTEND;TZID=America/Detroit:20240328T203000
DTSTAMP:20260420T171639
CREATED:20240226T135529Z
LAST-MODIFIED:20240321T183055Z
UID:10011298-1711654200-1711657800@www.fumc-a2.org
SUMMARY:Open Table
DESCRIPTION:Open Table Zoom \nThis friendly group studies the Bible together on Thursday evenings. No assigned reading\, no homework! We meet weekly on Zoom on Thursdays\, 7:30-8:30 p.m. \nJoin the group here.
URL:https://www.fumc-a2.org/event/open-table-3/2024-03-28/
LOCATION:Zoom
CATEGORIES:Adult Faith Formation,Adults,Evening
END:VEVENT
BEGIN:VEVENT
DTSTART;TZID=America/Detroit:20240328T190000
DTEND;TZID=America/Detroit:20240328T200000
DTSTAMP:20260420T171639
CREATED:20240117T213735Z
LAST-MODIFIED:20240117T213735Z
UID:10010626-1711652400-1711656000@www.fumc-a2.org
SUMMARY:Maundy Thursday Service
DESCRIPTION:Thursday\, March 28\, 7 p.m. | Downtown & livestreamed on YouTube \nJoin us for a service of Tenebrae readings and music that recount the events from the arrest of Jesus through his sentencing to death.
URL:https://www.fumc-a2.org/event/maundy-thursday-service-2/
LOCATION:MI
CATEGORIES:Evening,Worship
END:VEVENT
BEGIN:VEVENT
DTSTART;TZID=America/Detroit:20240327T190000
DTEND;TZID=America/Detroit:20240327T200000
DTSTAMP:20260420T171639
CREATED:20240304T195323Z
LAST-MODIFIED:20240304T195323Z
UID:10010751-1711566000-1711569600@www.fumc-a2.org
SUMMARY:Strategic Planning Review: Zoom
DESCRIPTION:Join us for a Strategic Planning Review on Zoom here at 7 p.m.
URL:https://www.fumc-a2.org/event/strategic-planning-review-zoom/
LOCATION:Zoom
CATEGORIES:Evening
END:VEVENT
BEGIN:VEVENT
DTSTART;TZID=America/Detroit:20240327T080000
DTEND;TZID=America/Detroit:20240327T083000
DTSTAMP:20260420T171639
CREATED:20230824T204751Z
LAST-MODIFIED:20230825T192626Z
UID:10009733-1711526400-1711528200@www.fumc-a2.org
SUMMARY:Rise and Shine Service
DESCRIPTION:Start your day with scripture\, song\, prayer concerns and gratitudes. No sermon. You can be on your way by 8:30 a.m. \nJoin the Zoom meeting here. \nQuestions? Contact Amy Kennedy.
URL:https://www.fumc-a2.org/event/rise-and-shine-service-4/2024-03-27/
LOCATION:Zoom
CATEGORIES:Adults,Morning,Worship
END:VEVENT
BEGIN:VEVENT
DTSTART;TZID=America/Detroit:20240326T173000
DTEND;TZID=America/Detroit:20240326T190000
DTSTAMP:20260420T171639
CREATED:20240115T182335Z
LAST-MODIFIED:20240122T230105Z
UID:10010565-1711474200-1711479600@www.fumc-a2.org
SUMMARY:Tuesdays Together
DESCRIPTION:Tuesdays Together: Lent 2024 \nFeb. 20\, Feb. 27\, March 5\, March 12\, March 19\, March 26 \nThis Lent\, join us for a faith experience featuring a new weekly practice with different leaders. \nLearn more and sign up here.
URL:https://www.fumc-a2.org/event/tuesdays-together-2/2024-03-26/
LOCATION:MI
CATEGORIES:Adult Faith Formation,Adults,Evening
END:VEVENT
BEGIN:VEVENT
DTSTART;TZID=America/Detroit:20240326T120000
DTEND;TZID=America/Detroit:20240326T130000
DTSTAMP:20260420T171639
CREATED:20231213T154308Z
LAST-MODIFIED:20240228T150811Z
UID:10010524-1711454400-1711458000@www.fumc-a2.org
SUMMARY:Open Table
DESCRIPTION:Open Table Zoom \nThis friendly group studies the Bible together weekly at lunch time on Tuesday. No assigned reading\, no homework! We meet weekly on Zoom on Tuesdays\, noon-1 p.m. \nJoin the group here.
URL:https://www.fumc-a2.org/event/open-table/2024-03-26/
LOCATION:Zoom
CATEGORIES:Adult Faith Formation,Adults,Daytime
END:VEVENT
BEGIN:VEVENT
DTSTART;TZID=America/Detroit:20240325T140000
DTEND;TZID=America/Detroit:20240325T150000
DTSTAMP:20260420T171639
CREATED:20230901T182447Z
LAST-MODIFIED:20230901T182447Z
UID:10009837-1711375200-1711378800@www.fumc-a2.org
SUMMARY:Sermon Chat
DESCRIPTION:Join this drop-in group on Mondays for a review of Sunday’s sermon on Zoom. Discuss questions provided by the preacher and questions you may have. \nJoin the Zoom meeting here. \nQuestions? Contact Helen Ryan.
URL:https://www.fumc-a2.org/event/sermon-chat-3/2024-03-25/
LOCATION:Zoom
CATEGORIES:Adult Faith Formation,Adults
END:VEVENT
BEGIN:VEVENT
DTSTART;TZID=America/Detroit:20240325T080000
DTEND;TZID=America/Detroit:20240325T090000
DTSTAMP:20260420T171639
CREATED:20230824T205304Z
LAST-MODIFIED:20240129T143203Z
UID:10009771-1711353600-1711357200@www.fumc-a2.org
SUMMARY:Mindful Monday
DESCRIPTION:All are welcome to join this group that practices different mindful techniques. \nJoin the Zoom meeting here. \nQuestions? Contact Amy Kennedy.
URL:https://www.fumc-a2.org/event/mindful-monday/2024-03-25/
LOCATION:Zoom
CATEGORIES:Adult Faith Formation,Adults,Morning
END:VEVENT
BEGIN:VEVENT
DTSTART;TZID=America/Detroit:20240324T180000
DTEND;TZID=America/Detroit:20240324T200000
DTSTAMP:20260420T171639
CREATED:20240304T205314Z
LAST-MODIFIED:20240304T205314Z
UID:10010767-1711303200-1711310400@www.fumc-a2.org
SUMMARY:Youth Group Game Night
DESCRIPTION:Join us for Youth Group Game Night at 6 p.m. in the Social Hall! Questions? Contact Daniel Reaume.
URL:https://www.fumc-a2.org/event/youth-group-game-night/
LOCATION:MI
CATEGORIES:Evening,Youth
END:VEVENT
BEGIN:VEVENT
DTSTART;TZID=America/Detroit:20240324T130000
DTEND;TZID=America/Detroit:20240324T140000
DTSTAMP:20260420T171639
CREATED:20230823T164135Z
LAST-MODIFIED:20230905T145828Z
UID:10009433-1711285200-1711288800@www.fumc-a2.org
SUMMARY:Global Issues
DESCRIPTION:Global Issues uses the Foreign Policy Associations Great Decisions DVD & book. The curriculum is very secular\, but the group attempts to look at the issues from a Christian perspective asking\, “What are we called to do about it?” Occasionally\, participants bring in items from the news that the group discusses. Learn more about this offering. Questions? Contact Leo Shedden. \nJoin the Zoom meeting here.
URL:https://www.fumc-a2.org/event/global-issues-4/2024-03-24/
LOCATION:Zoom
CATEGORIES:Adult Faith Formation,Adults,Daytime
END:VEVENT
BEGIN:VEVENT
DTSTART;TZID=America/Detroit:20240324T113000
DTEND;TZID=America/Detroit:20240324T124500
DTSTAMP:20260420T171639
CREATED:20230919T224530Z
LAST-MODIFIED:20231011T181201Z
UID:10009887-1711279800-1711284300@www.fumc-a2.org
SUMMARY:Disability Awareness Talks
DESCRIPTION:Join us to learn and share about the challenges that people with all sorts of disabilities and struggles encounter and also the gifts that they offer. Becoming more aware is the first step in being more inclusive and welcoming. This group meets monthly on the fourth Sunday of each month at our downtown church in Calkins or connect remotely via Zoom. \nContact Wendy Everett for more information. \nLearn more and find the Zoom link here.
URL:https://www.fumc-a2.org/event/dat-3/2024-03-24/
LOCATION:Downtown Campus of First United Methodist Church or Zoom\, Michigan\, 48104
CATEGORIES:Adult Faith Formation,Adults,Daytime
END:VEVENT
BEGIN:VEVENT
DTSTART;TZID=America/Detroit:20240324T113000
DTEND;TZID=America/Detroit:20240324T123000
DTSTAMP:20260420T171639
CREATED:20240117T213607Z
LAST-MODIFIED:20240205T174416Z
UID:10010625-1711279800-1711283400@www.fumc-a2.org
SUMMARY:Ukrainian Egg Event
DESCRIPTION:Create your own Ukrainian egg (Pysanky)! \nThis longtime annual tradition at FUMC is back\, and sure to be an afternoon of memory making!  Open to all ages\, with younger kids assisted by their grownups.  A few tables will be set aside for adults as well. \nPizza & salad lunch will be provided. \nRegister here.
URL:https://www.fumc-a2.org/event/ukrainian-egg-event/
LOCATION:MI
CATEGORIES:Adults,Daytime,Families,Kids,Morning,Young Adults,Youth
END:VEVENT
BEGIN:VEVENT
DTSTART;TZID=America/Detroit:20240324T113000
DTEND;TZID=America/Detroit:20240324T120000
DTSTAMP:20260420T171639
CREATED:20240117T213428Z
LAST-MODIFIED:20240117T213428Z
UID:10010624-1711279800-1711281600@www.fumc-a2.org
SUMMARY:Easter Egg Hunt
DESCRIPTION:Join us for our Kid’s Ministry Easter Egg Hunt on March 24 at 11:30 a.m. on the Wesley Lawn.
URL:https://www.fumc-a2.org/event/easter-egg-hunt-2/
LOCATION:MI
CATEGORIES:Daytime,Families,Kids,Morning
END:VEVENT
BEGIN:VEVENT
DTSTART;TZID=America/Detroit:20240324T113000
DTEND;TZID=America/Detroit:20240324T120000
DTSTAMP:20260420T171639
CREATED:20240115T152006Z
LAST-MODIFIED:20240115T152006Z
UID:10010559-1711279800-1711281600@www.fumc-a2.org
SUMMARY:Easter Egg Hunt
DESCRIPTION:Join us for our Kids Ministry Easter Egg Hunt at 11:30 a.m. on the Wesley Law.
URL:https://www.fumc-a2.org/event/easter-egg-hunt/
LOCATION:MI
CATEGORIES:Daytime,Kids,Morning
END:VEVENT
BEGIN:VEVENT
DTSTART;TZID=America/Detroit:20240324T101500
DTEND;TZID=America/Detroit:20240324T110000
DTSTAMP:20260420T171639
CREATED:20230522T192306Z
LAST-MODIFIED:20230911T132334Z
UID:10009360-1711275300-1711278000@www.fumc-a2.org
SUMMARY:Kids Sunday School
DESCRIPTION:Join us at 10:15 a.m. following the Children’s Moment. We will meet in the Social Hall. \nSunday School is nursery through 5th grade. \nSunday School does not meet on the first Sunday of the month. \nQuestions? Email childrensministry@fumc-a2.org.
URL:https://www.fumc-a2.org/event/kids-sunday-school-2/2024-03-24/
LOCATION:MI
CATEGORIES:Kids,Morning
END:VEVENT
BEGIN:VEVENT
DTSTART;TZID=America/Detroit:20240324T100000
DTEND;TZID=America/Detroit:20240324T110000
DTSTAMP:20260420T171639
CREATED:20240304T210408Z
LAST-MODIFIED:20240304T210408Z
UID:10010774-1711274400-1711278000@www.fumc-a2.org
SUMMARY:Downtown Worship
DESCRIPTION:Join for us worship downtown on Sundays at 10 a.m. Or livestream the service on YouTube.
URL:https://www.fumc-a2.org/event/downtown-worship/2024-03-24/
LOCATION:MI
CATEGORIES:Morning,Worship
END:VEVENT
END:VCALENDAR