BEGIN:VCALENDAR
VERSION:2.0
PRODID:-//First United Methodist Church - ECPv6.15.17.1//NONSGML v1.0//EN
CALSCALE:GREGORIAN
METHOD:PUBLISH
X-WR-CALNAME:First United Methodist Church
X-ORIGINAL-URL:https://www.fumc-a2.org
X-WR-CALDESC:Events for First United Methodist Church
REFRESH-INTERVAL;VALUE=DURATION:PT1H
X-Robots-Tag:noindex
X-PUBLISHED-TTL:PT1H
BEGIN:VTIMEZONE
TZID:America/Detroit
BEGIN:DAYLIGHT
TZOFFSETFROM:-0500
TZOFFSETTO:-0400
TZNAME:EDT
DTSTART:20230312T070000
END:DAYLIGHT
BEGIN:STANDARD
TZOFFSETFROM:-0400
TZOFFSETTO:-0500
TZNAME:EST
DTSTART:20231105T060000
END:STANDARD
BEGIN:DAYLIGHT
TZOFFSETFROM:-0500
TZOFFSETTO:-0400
TZNAME:EDT
DTSTART:20240310T070000
END:DAYLIGHT
BEGIN:STANDARD
TZOFFSETFROM:-0400
TZOFFSETTO:-0500
TZNAME:EST
DTSTART:20241103T060000
END:STANDARD
BEGIN:DAYLIGHT
TZOFFSETFROM:-0500
TZOFFSETTO:-0400
TZNAME:EDT
DTSTART:20250309T070000
END:DAYLIGHT
BEGIN:STANDARD
TZOFFSETFROM:-0400
TZOFFSETTO:-0500
TZNAME:EST
DTSTART:20251102T060000
END:STANDARD
END:VTIMEZONE
BEGIN:VEVENT
DTSTART;VALUE=DATE:20240406
DTEND;VALUE=DATE:20240407
DTSTAMP:20260420T111432
CREATED:20240325T134914Z
LAST-MODIFIED:20240325T134914Z
UID:10011308-1712361600-1712447999@www.fumc-a2.org
SUMMARY:SCRAP Creative Reuse Center Collection (Green Wood)
DESCRIPTION:FUMC’s Creation Care is collecting items for SCRAP Creative Reuse Center on April 6 at Green Wood. \nSCRAP especially needs artist supplies\, craft supplies\, rubber bands\, glue sticks\, paper grocery bags\, clear packing tape\, fabric\, yarn\, and small clean glass jars with lids and no labels. Find a complete list here.
URL:https://www.fumc-a2.org/event/scrap-collection-april6/
LOCATION:MI
END:VEVENT
BEGIN:VEVENT
DTSTART;TZID=America/Detroit:20240406T083000
DTEND;TZID=America/Detroit:20240406T100000
DTSTAMP:20260420T111432
CREATED:20230823T164618Z
LAST-MODIFIED:20230828T224344Z
UID:10009475-1712392200-1712397600@www.fumc-a2.org
SUMMARY:Men of Faith
DESCRIPTION:This is a group for men who want to gather to share spiritual program material\, “God Sightings” and prayer. All men who are interested in growing their faith through study\, sharing and prayer are welcome to join! Questions? Contact Jim Higdon or Mark Wickham. \nLearn more about this offering.
URL:https://www.fumc-a2.org/event/men-of-faith/2024-04-06/
LOCATION:Zoom
CATEGORIES:Adult Faith Formation,Adults,Morning
END:VEVENT
BEGIN:VEVENT
DTSTART;TZID=America/Detroit:20240406T170000
DTEND;TZID=America/Detroit:20240406T180000
DTSTAMP:20260420T111432
CREATED:20240304T210611Z
LAST-MODIFIED:20240304T210611Z
UID:10011037-1712422800-1712426400@www.fumc-a2.org
SUMMARY:Green Wood Worship
DESCRIPTION:Join us for worship at Green Wood on Saturdays at 5 p.m.
URL:https://www.fumc-a2.org/event/green-wood-worship-4/2024-04-06/
LOCATION:MI
CATEGORIES:Evening,Worship
END:VEVENT
BEGIN:VEVENT
DTSTART;VALUE=DATE:20240407
DTEND;VALUE=DATE:20240408
DTSTAMP:20260420T111432
CREATED:20240325T135148Z
LAST-MODIFIED:20240325T135148Z
UID:10011309-1712448000-1712534399@www.fumc-a2.org
SUMMARY:SCRAP Creative Reuse Center Collection (Downtown)
DESCRIPTION:FUMC’s Creation Care is collecting items for SCRAP Creative Reuse Center on April 7 downtown. Look for the box near the office. \nSCRAP especially needs artist supplies\, craft supplies\, rubber bands\, glue sticks\, paper grocery bags\, clear packing tape\, fabric\, yarn\, and small clean glass jars with lids and no labels. Find a complete list here.
URL:https://www.fumc-a2.org/event/scrap-collection-april7/
LOCATION:MI
END:VEVENT
BEGIN:VEVENT
DTSTART;TZID=America/Detroit:20240407T100000
DTEND;TZID=America/Detroit:20240407T110000
DTSTAMP:20260420T111432
CREATED:20240304T210408Z
LAST-MODIFIED:20240304T210408Z
UID:10010776-1712484000-1712487600@www.fumc-a2.org
SUMMARY:Downtown Worship
DESCRIPTION:Join for us worship downtown on Sundays at 10 a.m. Or livestream the service on YouTube.
URL:https://www.fumc-a2.org/event/downtown-worship/2024-04-07/
LOCATION:MI
CATEGORIES:Morning,Worship
END:VEVENT
BEGIN:VEVENT
DTSTART;TZID=America/Detroit:20240407T111500
DTEND;TZID=America/Detroit:20240407T121500
DTSTAMP:20260420T111432
CREATED:20240304T195625Z
LAST-MODIFIED:20240406T181650Z
UID:10010752-1712488500-1712492100@www.fumc-a2.org
SUMMARY:All-Church Meeting
DESCRIPTION:Join us on April 7 for an all-church meeting to discuss 2024 strategic priorities. We will meet in the sanctuary at 11:15 a.m. Coffee will be available. Join the livestream of the meeting here. \nThis meeting will be recorded and a summary provided.
URL:https://www.fumc-a2.org/event/all-church-meeting-2/
LOCATION:MI
CATEGORIES:Morning
END:VEVENT
BEGIN:VEVENT
DTSTART;TZID=America/Detroit:20240407T113000
DTEND;TZID=America/Detroit:20240407T124500
DTSTAMP:20260420T111432
CREATED:20230919T222436Z
LAST-MODIFIED:20240228T204958Z
UID:10009872-1712489400-1712493900@www.fumc-a2.org
SUMMARY:Creation Care
DESCRIPTION:FUMC’s environmental group to educate and learn from each other and to inspire our congregation (and beyond) to take care of God’s creation. We meet monthly on the first Sunday of each month at our downtown church in Calkins or connect remotely via Zoom. \nContact Wendy Everett for more information. \nLearn more and find the Zoom link here.
URL:https://www.fumc-a2.org/event/creation-care-3/2024-04-07/
LOCATION:Downtown Campus of First United Methodist Church or Zoom\, Michigan\, 48104
CATEGORIES:Adult Faith Formation,Adults,Daytime
END:VEVENT
BEGIN:VEVENT
DTSTART;TZID=America/Detroit:20240407T130000
DTEND;TZID=America/Detroit:20240407T140000
DTSTAMP:20260420T111432
CREATED:20230823T164135Z
LAST-MODIFIED:20230905T145828Z
UID:10009435-1712494800-1712498400@www.fumc-a2.org
SUMMARY:Global Issues
DESCRIPTION:Global Issues uses the Foreign Policy Associations Great Decisions DVD & book. The curriculum is very secular\, but the group attempts to look at the issues from a Christian perspective asking\, “What are we called to do about it?” Occasionally\, participants bring in items from the news that the group discusses. Learn more about this offering. Questions? Contact Leo Shedden. \nJoin the Zoom meeting here.
URL:https://www.fumc-a2.org/event/global-issues-4/2024-04-07/
LOCATION:Zoom
CATEGORIES:Adult Faith Formation,Adults,Daytime
END:VEVENT
BEGIN:VEVENT
DTSTART;TZID=America/Detroit:20240407T170000
DTEND;TZID=America/Detroit:20240407T180000
DTSTAMP:20260420T111432
CREATED:20240304T204703Z
LAST-MODIFIED:20240304T204703Z
UID:10010759-1712509200-1712512800@www.fumc-a2.org
SUMMARY:Youth Ministry Confirmation Class
DESCRIPTION:Join us for Confirmation class at 5 p.m. in the Chapel. Questions? Contact Daniel Reaume.
URL:https://www.fumc-a2.org/event/youth-ministry-confirmation-class/2024-04-07/
LOCATION:MI
CATEGORIES:Evening,Youth
END:VEVENT
BEGIN:VEVENT
DTSTART;TZID=America/Detroit:20240407T180000
DTEND;TZID=America/Detroit:20240407T190000
DTSTAMP:20260420T111432
CREATED:20240304T205017Z
LAST-MODIFIED:20240304T205017Z
UID:10010764-1712512800-1712516400@www.fumc-a2.org
SUMMARY:Youth Group
DESCRIPTION:Join us for Youth Group at 6 p.m. in the Social Hall! Questions? Contact Daniel Reaume.
URL:https://www.fumc-a2.org/event/youth-group-24/2024-04-07/
LOCATION:MI
CATEGORIES:Evening,Youth
END:VEVENT
BEGIN:VEVENT
DTSTART;TZID=America/Detroit:20240408T080000
DTEND;TZID=America/Detroit:20240408T090000
DTSTAMP:20260420T111432
CREATED:20230824T205304Z
LAST-MODIFIED:20240129T143203Z
UID:10009773-1712563200-1712566800@www.fumc-a2.org
SUMMARY:Mindful Monday
DESCRIPTION:All are welcome to join this group that practices different mindful techniques. \nJoin the Zoom meeting here. \nQuestions? Contact Amy Kennedy.
URL:https://www.fumc-a2.org/event/mindful-monday/2024-04-08/
LOCATION:Zoom
CATEGORIES:Adult Faith Formation,Adults,Morning
END:VEVENT
BEGIN:VEVENT
DTSTART;TZID=America/Detroit:20240408T140000
DTEND;TZID=America/Detroit:20240408T150000
DTSTAMP:20260420T111432
CREATED:20230901T182447Z
LAST-MODIFIED:20230901T182447Z
UID:10009839-1712584800-1712588400@www.fumc-a2.org
SUMMARY:Sermon Chat
DESCRIPTION:Join this drop-in group on Mondays for a review of Sunday’s sermon on Zoom. Discuss questions provided by the preacher and questions you may have. \nJoin the Zoom meeting here. \nQuestions? Contact Helen Ryan.
URL:https://www.fumc-a2.org/event/sermon-chat-3/2024-04-08/
LOCATION:Zoom
CATEGORIES:Adult Faith Formation,Adults
END:VEVENT
BEGIN:VEVENT
DTSTART;TZID=America/Detroit:20240408T140000
DTEND;TZID=America/Detroit:20240408T153000
DTSTAMP:20260420T111432
CREATED:20240403T190820Z
LAST-MODIFIED:20240403T190820Z
UID:10011310-1712584800-1712590200@www.fumc-a2.org
SUMMARY:Eclipse Enthusiasts Unite!
DESCRIPTION:Join us on the Wesley lawn at the picnic tables for eclipse-inspired snacks and viewing! Kids welcome! The eclipse will be at its peak\, about 98%\, around 3 p.m.
URL:https://www.fumc-a2.org/event/eclipse-enthusiasts-unite/
LOCATION:MI
CATEGORIES:Adults,Kids
END:VEVENT
BEGIN:VEVENT
DTSTART;TZID=America/Detroit:20240409T120000
DTEND;TZID=America/Detroit:20240409T130000
DTSTAMP:20260420T111432
CREATED:20231213T154308Z
LAST-MODIFIED:20240228T150811Z
UID:10010526-1712664000-1712667600@www.fumc-a2.org
SUMMARY:Open Table
DESCRIPTION:Open Table Zoom \nThis friendly group studies the Bible together weekly at lunch time on Tuesday. No assigned reading\, no homework! We meet weekly on Zoom on Tuesdays\, noon-1 p.m. \nJoin the group here.
URL:https://www.fumc-a2.org/event/open-table/2024-04-09/
LOCATION:Zoom
CATEGORIES:Adult Faith Formation,Adults,Daytime
END:VEVENT
BEGIN:VEVENT
DTSTART;TZID=America/Detroit:20240410T080000
DTEND;TZID=America/Detroit:20240410T083000
DTSTAMP:20260420T111432
CREATED:20230824T204751Z
LAST-MODIFIED:20230825T192626Z
UID:10009735-1712736000-1712737800@www.fumc-a2.org
SUMMARY:Rise and Shine Service
DESCRIPTION:Start your day with scripture\, song\, prayer concerns and gratitudes. No sermon. You can be on your way by 8:30 a.m. \nJoin the Zoom meeting here. \nQuestions? Contact Amy Kennedy.
URL:https://www.fumc-a2.org/event/rise-and-shine-service-4/2024-04-10/
LOCATION:Zoom
CATEGORIES:Adults,Morning,Worship
END:VEVENT
BEGIN:VEVENT
DTSTART;TZID=America/Detroit:20240411T193000
DTEND;TZID=America/Detroit:20240411T203000
DTSTAMP:20260420T111432
CREATED:20240226T135529Z
LAST-MODIFIED:20240321T183055Z
UID:10011300-1712863800-1712867400@www.fumc-a2.org
SUMMARY:Open Table
DESCRIPTION:Open Table Zoom \nThis friendly group studies the Bible together on Thursday evenings. No assigned reading\, no homework! We meet weekly on Zoom on Thursdays\, 7:30-8:30 p.m. \nJoin the group here.
URL:https://www.fumc-a2.org/event/open-table-3/2024-04-11/
LOCATION:Zoom
CATEGORIES:Adult Faith Formation,Adults,Evening
END:VEVENT
BEGIN:VEVENT
DTSTART;TZID=America/Detroit:20240413T083000
DTEND;TZID=America/Detroit:20240413T100000
DTSTAMP:20260420T111432
CREATED:20230823T164618Z
LAST-MODIFIED:20230828T224344Z
UID:10009476-1712997000-1713002400@www.fumc-a2.org
SUMMARY:Men of Faith
DESCRIPTION:This is a group for men who want to gather to share spiritual program material\, “God Sightings” and prayer. All men who are interested in growing their faith through study\, sharing and prayer are welcome to join! Questions? Contact Jim Higdon or Mark Wickham. \nLearn more about this offering.
URL:https://www.fumc-a2.org/event/men-of-faith/2024-04-13/
LOCATION:Zoom
CATEGORIES:Adult Faith Formation,Adults,Morning
END:VEVENT
BEGIN:VEVENT
DTSTART;TZID=America/Detroit:20240413T170000
DTEND;TZID=America/Detroit:20240413T180000
DTSTAMP:20260420T111432
CREATED:20240304T210611Z
LAST-MODIFIED:20240304T210611Z
UID:10011038-1713027600-1713031200@www.fumc-a2.org
SUMMARY:Green Wood Worship
DESCRIPTION:Join us for worship at Green Wood on Saturdays at 5 p.m.
URL:https://www.fumc-a2.org/event/green-wood-worship-4/2024-04-13/
LOCATION:MI
CATEGORIES:Evening,Worship
END:VEVENT
BEGIN:VEVENT
DTSTART;TZID=America/Detroit:20240414T100000
DTEND;TZID=America/Detroit:20240414T110000
DTSTAMP:20260420T111432
CREATED:20231214T200510Z
LAST-MODIFIED:20240214T151811Z
UID:10010537-1713088800-1713092400@www.fumc-a2.org
SUMMARY:Kindergarten Milestone Sunday
DESCRIPTION:Do you have a Kindergartener? We have an exciting milestone program launching soon and we will be celebrating together in worship on April 14! Following service\, there will be a small reception for Kindergartners and their families!
URL:https://www.fumc-a2.org/event/kindergarten-milestone-sunday/
LOCATION:MI
CATEGORIES:Kids,Morning
END:VEVENT
BEGIN:VEVENT
DTSTART;TZID=America/Detroit:20240414T100000
DTEND;TZID=America/Detroit:20240414T110000
DTSTAMP:20260420T111432
CREATED:20240304T204231Z
LAST-MODIFIED:20240304T204231Z
UID:10010755-1713088800-1713092400@www.fumc-a2.org
SUMMARY:Youth Ministry Sol Cafe
DESCRIPTION:Join us for Sol Cafe at 10 a.m. in Calkins! Questions? Contact Daniel Reaume.
URL:https://www.fumc-a2.org/event/youth-ministry-sol-cafe/2024-04-14/
LOCATION:MI
CATEGORIES:Morning,Youth
END:VEVENT
BEGIN:VEVENT
DTSTART;TZID=America/Detroit:20240414T100000
DTEND;TZID=America/Detroit:20240414T110000
DTSTAMP:20260420T111432
CREATED:20240304T210408Z
LAST-MODIFIED:20240304T210408Z
UID:10010777-1713088800-1713092400@www.fumc-a2.org
SUMMARY:Downtown Worship
DESCRIPTION:Join for us worship downtown on Sundays at 10 a.m. Or livestream the service on YouTube.
URL:https://www.fumc-a2.org/event/downtown-worship/2024-04-14/
LOCATION:MI
CATEGORIES:Morning,Worship
END:VEVENT
BEGIN:VEVENT
DTSTART;TZID=America/Detroit:20240414T101500
DTEND;TZID=America/Detroit:20240414T110000
DTSTAMP:20260420T111432
CREATED:20230522T192306Z
LAST-MODIFIED:20230911T132334Z
UID:10009362-1713089700-1713092400@www.fumc-a2.org
SUMMARY:Kids Sunday School
DESCRIPTION:Join us at 10:15 a.m. following the Children’s Moment. We will meet in the Social Hall. \nSunday School is nursery through 5th grade. \nSunday School does not meet on the first Sunday of the month. \nQuestions? Email childrensministry@fumc-a2.org.
URL:https://www.fumc-a2.org/event/kids-sunday-school-2/2024-04-14/
LOCATION:MI
CATEGORIES:Kids,Morning
END:VEVENT
BEGIN:VEVENT
DTSTART;TZID=America/Detroit:20240414T113000
DTEND;TZID=America/Detroit:20240414T124500
DTSTAMP:20260420T111432
CREATED:20230919T223452Z
LAST-MODIFIED:20231011T181854Z
UID:10009880-1713094200-1713098700@www.fumc-a2.org
SUMMARY:Conversations about Science and Religion
DESCRIPTION:How do we bridge the gap between science and religion? Join members of our own FUMC science and medical community for conversations about experiences and struggles with faith\, belief\, and the place of God in scientific study. This group meets monthly on the second Sunday of each month at our downtown church in Calkins or connect remotely via Zoom. \nContact Wendy Everett for more information. \nLearn more and find the Zoom link here.
URL:https://www.fumc-a2.org/event/science-and-religion/2024-04-14/
LOCATION:Downtown Campus of First United Methodist Church or Zoom\, Michigan\, 48104
CATEGORIES:Adult Faith Formation,Adults,Daytime
END:VEVENT
BEGIN:VEVENT
DTSTART;TZID=America/Detroit:20240414T130000
DTEND;TZID=America/Detroit:20240414T140000
DTSTAMP:20260420T111432
CREATED:20230823T164135Z
LAST-MODIFIED:20230905T145828Z
UID:10009436-1713099600-1713103200@www.fumc-a2.org
SUMMARY:Global Issues
DESCRIPTION:Global Issues uses the Foreign Policy Associations Great Decisions DVD & book. The curriculum is very secular\, but the group attempts to look at the issues from a Christian perspective asking\, “What are we called to do about it?” Occasionally\, participants bring in items from the news that the group discusses. Learn more about this offering. Questions? Contact Leo Shedden. \nJoin the Zoom meeting here.
URL:https://www.fumc-a2.org/event/global-issues-4/2024-04-14/
LOCATION:Zoom
CATEGORIES:Adult Faith Formation,Adults,Daytime
END:VEVENT
BEGIN:VEVENT
DTSTART;TZID=America/Detroit:20240414T170000
DTEND;TZID=America/Detroit:20240414T180000
DTSTAMP:20260420T111432
CREATED:20240304T204703Z
LAST-MODIFIED:20240304T204703Z
UID:10010760-1713114000-1713117600@www.fumc-a2.org
SUMMARY:Youth Ministry Confirmation Class
DESCRIPTION:Join us for Confirmation class at 5 p.m. in the Chapel. Questions? Contact Daniel Reaume.
URL:https://www.fumc-a2.org/event/youth-ministry-confirmation-class/2024-04-14/
LOCATION:MI
CATEGORIES:Evening,Youth
END:VEVENT
BEGIN:VEVENT
DTSTART;TZID=America/Detroit:20240414T180000
DTEND;TZID=America/Detroit:20240414T190000
DTSTAMP:20260420T111432
CREATED:20240304T205017Z
LAST-MODIFIED:20240304T205017Z
UID:10010765-1713117600-1713121200@www.fumc-a2.org
SUMMARY:Youth Group
DESCRIPTION:Join us for Youth Group at 6 p.m. in the Social Hall! Questions? Contact Daniel Reaume.
URL:https://www.fumc-a2.org/event/youth-group-24/2024-04-14/
LOCATION:MI
CATEGORIES:Evening,Youth
END:VEVENT
BEGIN:VEVENT
DTSTART;TZID=America/Detroit:20240415T080000
DTEND;TZID=America/Detroit:20240415T090000
DTSTAMP:20260420T111432
CREATED:20230824T205304Z
LAST-MODIFIED:20240129T143203Z
UID:10009774-1713168000-1713171600@www.fumc-a2.org
SUMMARY:Mindful Monday
DESCRIPTION:All are welcome to join this group that practices different mindful techniques. \nJoin the Zoom meeting here. \nQuestions? Contact Amy Kennedy.
URL:https://www.fumc-a2.org/event/mindful-monday/2024-04-15/
LOCATION:Zoom
CATEGORIES:Adult Faith Formation,Adults,Morning
END:VEVENT
BEGIN:VEVENT
DTSTART;TZID=America/Detroit:20240415T140000
DTEND;TZID=America/Detroit:20240415T150000
DTSTAMP:20260420T111432
CREATED:20230901T182447Z
LAST-MODIFIED:20230901T182447Z
UID:10009840-1713189600-1713193200@www.fumc-a2.org
SUMMARY:Sermon Chat
DESCRIPTION:Join this drop-in group on Mondays for a review of Sunday’s sermon on Zoom. Discuss questions provided by the preacher and questions you may have. \nJoin the Zoom meeting here. \nQuestions? Contact Helen Ryan.
URL:https://www.fumc-a2.org/event/sermon-chat-3/2024-04-15/
LOCATION:Zoom
CATEGORIES:Adult Faith Formation,Adults
END:VEVENT
BEGIN:VEVENT
DTSTART;TZID=America/Detroit:20240416T120000
DTEND;TZID=America/Detroit:20240416T130000
DTSTAMP:20260420T111432
CREATED:20231213T154308Z
LAST-MODIFIED:20240228T150811Z
UID:10010527-1713268800-1713272400@www.fumc-a2.org
SUMMARY:Open Table
DESCRIPTION:Open Table Zoom \nThis friendly group studies the Bible together weekly at lunch time on Tuesday. No assigned reading\, no homework! We meet weekly on Zoom on Tuesdays\, noon-1 p.m. \nJoin the group here.
URL:https://www.fumc-a2.org/event/open-table/2024-04-16/
LOCATION:Zoom
CATEGORIES:Adult Faith Formation,Adults,Daytime
END:VEVENT
BEGIN:VEVENT
DTSTART;TZID=America/Detroit:20240417T080000
DTEND;TZID=America/Detroit:20240417T083000
DTSTAMP:20260420T111432
CREATED:20230824T204751Z
LAST-MODIFIED:20230825T192626Z
UID:10009736-1713340800-1713342600@www.fumc-a2.org
SUMMARY:Rise and Shine Service
DESCRIPTION:Start your day with scripture\, song\, prayer concerns and gratitudes. No sermon. You can be on your way by 8:30 a.m. \nJoin the Zoom meeting here. \nQuestions? Contact Amy Kennedy.
URL:https://www.fumc-a2.org/event/rise-and-shine-service-4/2024-04-17/
LOCATION:Zoom
CATEGORIES:Adults,Morning,Worship
END:VEVENT
END:VCALENDAR