BEGIN:VCALENDAR
VERSION:2.0
PRODID:-//First United Methodist Church - ECPv6.15.17.1//NONSGML v1.0//EN
CALSCALE:GREGORIAN
METHOD:PUBLISH
X-ORIGINAL-URL:https://www.fumc-a2.org
X-WR-CALDESC:Events for First United Methodist Church
REFRESH-INTERVAL;VALUE=DURATION:PT1H
X-Robots-Tag:noindex
X-PUBLISHED-TTL:PT1H
BEGIN:VTIMEZONE
TZID:America/Detroit
BEGIN:DAYLIGHT
TZOFFSETFROM:-0500
TZOFFSETTO:-0400
TZNAME:EDT
DTSTART:20240310T070000
END:DAYLIGHT
BEGIN:STANDARD
TZOFFSETFROM:-0400
TZOFFSETTO:-0500
TZNAME:EST
DTSTART:20241103T060000
END:STANDARD
BEGIN:DAYLIGHT
TZOFFSETFROM:-0500
TZOFFSETTO:-0400
TZNAME:EDT
DTSTART:20250309T070000
END:DAYLIGHT
BEGIN:STANDARD
TZOFFSETFROM:-0400
TZOFFSETTO:-0500
TZNAME:EST
DTSTART:20251102T060000
END:STANDARD
BEGIN:DAYLIGHT
TZOFFSETFROM:-0500
TZOFFSETTO:-0400
TZNAME:EDT
DTSTART:20260308T070000
END:DAYLIGHT
BEGIN:STANDARD
TZOFFSETFROM:-0400
TZOFFSETTO:-0500
TZNAME:EST
DTSTART:20261101T060000
END:STANDARD
END:VTIMEZONE
BEGIN:VEVENT
DTSTART;VALUE=DATE:20250523
DTEND;VALUE=DATE:20250526
DTSTAMP:20260423T074216
CREATED:20250415T223038Z
LAST-MODIFIED:20250415T223122Z
UID:10012807-1747958400-1748217599@www.fumc-a2.org
SUMMARY:Family Camp
DESCRIPTION:Join us for a weekend of faith\, fun\, fellowship and relaxation at the beautiful Camp Algonquin in Hastings\, Michigan! We believe families come in all shapes and sizes so our camp is open to all whether you’re coming with your biological\, friend or church family\, and we can’t wait to have you join us! \nCamp Algonquin offers serenity and adventure all at once. Whether you’d like to sit by the lakeside to read a book\, or go zip lining through the trees\, there is something for everyone at camp. Register here.
URL:https://www.fumc-a2.org/event/family-camp-2/
LOCATION:Camp Algonquin\, 2055 Iroquois Trail\, Hastings\, MI\, 49058
CATEGORIES:Families,Kids,Volunteer event,Youth
END:VEVENT
BEGIN:VEVENT
DTSTART;TZID=America/Detroit:20250525T100000
DTEND;TZID=America/Detroit:20250525T110000
DTSTAMP:20260423T074216
CREATED:20250411T171607Z
LAST-MODIFIED:20250411T171819Z
UID:10010835-1748167200-1748170800@www.fumc-a2.org
SUMMARY:Traditional Worship
DESCRIPTION:Join us for our traditional worship service downtown on Sundays at 10 a.m. Or livestream the service on YouTube.
URL:https://www.fumc-a2.org/event/downtown-worship-4/2025-05-25/
LOCATION:MI
CATEGORIES:Morning,Worship
END:VEVENT
BEGIN:VEVENT
DTSTART;TZID=America/Detroit:20250525T130000
DTEND;TZID=America/Detroit:20250525T140000
DTSTAMP:20260423T074216
CREATED:20241002T141601Z
LAST-MODIFIED:20241002T141601Z
UID:10012431-1748178000-1748181600@www.fumc-a2.org
SUMMARY:Global Issues
DESCRIPTION:This group uses the Foreign Policy association Great Decisions DVD & book\, which can be found at fpa.org. Occasionally\, participants bring in items from the news for group discussion. \nThe curriculum is secular\, but the group looks at the issues from a Christian perspective\, asking\, “What are we called to do about it?” Our guiding principle can be found in Micah (chapter 6\, verse 8): “What does the Lord require of you but to act justly\, to love kindness\, and to walk humbly with your God?” \nContact Wendy Everett for more information. \nLearn more and find the Zoom link here.
URL:https://www.fumc-a2.org/event/global-issues-5/2025-05-25/
LOCATION:Zoom
CATEGORIES:Adults,Daytime
END:VEVENT
BEGIN:VEVENT
DTSTART;VALUE=DATE:20250526
DTEND;VALUE=DATE:20250527
DTSTAMP:20260423T074216
CREATED:20241222T141135Z
LAST-MODIFIED:20241222T141135Z
UID:10012554-1748217600-1748303999@www.fumc-a2.org
SUMMARY:Office closed
DESCRIPTION:The church office is closed Monday\, May 26.
URL:https://www.fumc-a2.org/event/office-closed-29/
LOCATION:MI
END:VEVENT
BEGIN:VEVENT
DTSTART;TZID=America/Detroit:20250527T120000
DTEND;TZID=America/Detroit:20250527T130000
DTSTAMP:20260423T074216
CREATED:20240924T201116Z
LAST-MODIFIED:20241117T175542Z
UID:10012543-1748347200-1748350800@www.fumc-a2.org
SUMMARY:Open Table Tuesdays
DESCRIPTION:Open Table Tuesday: Conversations about Faith and the Bible \n\n\n\nThis friendly group studies the Bible together weekly at lunch time on Tuesday – you are welcome to bring your lunch\, have a Bible handy\, and join us. No assigned reading\, no homework! \nLearn more and access the weekly Zoom link here.
URL:https://www.fumc-a2.org/event/open-table-tuesdays-2/2025-05-27/
LOCATION:Zoom
CATEGORIES:Adult Faith Formation,Adults,Daytime
END:VEVENT
BEGIN:VEVENT
DTSTART;TZID=America/Detroit:20250528T080000
DTEND;TZID=America/Detroit:20250528T083000
DTSTAMP:20260423T074216
CREATED:20240624T145359Z
LAST-MODIFIED:20250527T142428Z
UID:10012818-1748419200-1748421000@www.fumc-a2.org
SUMMARY:Rise and Shine Service
DESCRIPTION:Start your day with scripture\, song\, prayer concerns and gratitudes! No sermon. You can be on your way by 8:30 a.m. \nJoin the Zoom meeting here. \nQuestions? Contact Amy Kennedy.
URL:https://www.fumc-a2.org/event/rise-and-shine-service/2025-05-28/
LOCATION:Zoom
CATEGORIES:Adults,Morning,Worship
END:VEVENT
BEGIN:VEVENT
DTSTART;TZID=America/Detroit:20250528T190000
DTEND;TZID=America/Detroit:20250528T203000
DTSTAMP:20260423T074216
CREATED:20250210T213039Z
LAST-MODIFIED:20250211T181331Z
UID:10012700-1748458800-1748464200@www.fumc-a2.org
SUMMARY:Chancel Choir rehearsal
DESCRIPTION:All are welcome to join the Chancel Choir at any time – no experience is necessary. The Chancel Choir rehearses weekly on Wednesday evenings\, then again prior to 10am Sunday services. \nOccasional retreats are planned to prepare for larger works. \nWith interest or questions about the Chancel Choir\, please contact Ken Sieloff. \nJoin the choir here.
URL:https://www.fumc-a2.org/event/chancel-choir-rehearsal-2-2/2025-05-28/
LOCATION:MI
CATEGORIES:Adults,Evening,Music,Worship
END:VEVENT
BEGIN:VEVENT
DTSTART;TZID=America/Detroit:20250529T110000
DTEND;TZID=America/Detroit:20250529T130000
DTSTAMP:20260423T074216
CREATED:20250527T134003Z
LAST-MODIFIED:20250527T134003Z
UID:10012814-1748516400-1748523600@www.fumc-a2.org
SUMMARY:Julie Brabbs Memorial Service
DESCRIPTION:
URL:https://www.fumc-a2.org/event/julie-brabbs-memorial-service/
LOCATION:MI
CATEGORIES:Daytime,Memorial Service,Morning
END:VEVENT
BEGIN:VEVENT
DTSTART;TZID=America/Detroit:20250529T193000
DTEND;TZID=America/Detroit:20250529T203000
DTSTAMP:20260423T074216
CREATED:20240906T145707Z
LAST-MODIFIED:20241117T175459Z
UID:10012520-1748547000-1748550600@www.fumc-a2.org
SUMMARY:Open Table Thursdays
DESCRIPTION:Open Table Thursday: Conversations about Faith and the Bible \n\nThis friendly group studies the Bible together on Thursday evenings – please feel welcome to join us at 7:30 p.m. No assigned reading\, no homework (have a Bible handy though)! \nLearn more and access the weekly Zoom link here.
URL:https://www.fumc-a2.org/event/open-table-thursdays/2025-05-29/
LOCATION:Zoom
CATEGORIES:Adult Faith Formation,Adults,Evening
END:VEVENT
BEGIN:VEVENT
DTSTART;TZID=America/Detroit:20250531T083000
DTEND;TZID=America/Detroit:20250531T100000
DTSTAMP:20260423T074216
CREATED:20230823T164618Z
LAST-MODIFIED:20230828T224344Z
UID:10009535-1748680200-1748685600@www.fumc-a2.org
SUMMARY:Men of Faith
DESCRIPTION:This is a group for men who want to gather to share spiritual program material\, “God Sightings” and prayer. All men who are interested in growing their faith through study\, sharing and prayer are welcome to join! Questions? Contact Jim Higdon or Mark Wickham. \nLearn more about this offering.
URL:https://www.fumc-a2.org/event/men-of-faith/2025-05-31/
LOCATION:Zoom
CATEGORIES:Adult Faith Formation,Adults,Morning
END:VEVENT
BEGIN:VEVENT
DTSTART;TZID=America/Detroit:20250531T170000
DTEND;TZID=America/Detroit:20250531T180000
DTSTAMP:20260423T074216
CREATED:20250409T013409Z
LAST-MODIFIED:20250409T013411Z
UID:10011097-1748710800-1748714400@www.fumc-a2.org
SUMMARY:Contemporary Worship
DESCRIPTION:Join us for our contemporary worship service in the Green Wood Sanctuary on Saturdays at 5 p.m.
URL:https://www.fumc-a2.org/event/green-wood-worship-4-3/2025-05-31/
LOCATION:MI
CATEGORIES:Evening,Worship
END:VEVENT
BEGIN:VEVENT
DTSTART;TZID=America/Detroit:20250601T100000
DTEND;TZID=America/Detroit:20250601T110000
DTSTAMP:20260423T074216
CREATED:20250411T171607Z
LAST-MODIFIED:20250411T171819Z
UID:10010836-1748772000-1748775600@www.fumc-a2.org
SUMMARY:Traditional Worship
DESCRIPTION:Join us for our traditional worship service downtown on Sundays at 10 a.m. Or livestream the service on YouTube.
URL:https://www.fumc-a2.org/event/downtown-worship-4/2025-06-01/
LOCATION:MI
CATEGORIES:Morning,Worship
END:VEVENT
BEGIN:VEVENT
DTSTART;TZID=America/Detroit:20250602T080000
DTEND;TZID=America/Detroit:20250602T090000
DTSTAMP:20260423T074216
CREATED:20250527T141910Z
LAST-MODIFIED:20250527T141910Z
UID:10012815-1748851200-1748854800@www.fumc-a2.org
SUMMARY:Mindful Monday
DESCRIPTION:All are welcome to join this group that practices different mindful techniques. \nJoin the Zoom meeting here. \nQuestions? Contact Amy Kennedy.
URL:https://www.fumc-a2.org/event/mindful-monday-5/
LOCATION:MI
CATEGORIES:Music,Worship
END:VEVENT
BEGIN:VEVENT
DTSTART;TZID=America/Detroit:20250604T080000
DTEND;TZID=America/Detroit:20250604T083000
DTSTAMP:20260423T074216
CREATED:20240624T145359Z
LAST-MODIFIED:20250527T142428Z
UID:10012819-1749024000-1749025800@www.fumc-a2.org
SUMMARY:Rise and Shine Service
DESCRIPTION:Start your day with scripture\, song\, prayer concerns and gratitudes! No sermon. You can be on your way by 8:30 a.m. \nJoin the Zoom meeting here. \nQuestions? Contact Amy Kennedy.
URL:https://www.fumc-a2.org/event/rise-and-shine-service/2025-06-04/
LOCATION:Zoom
CATEGORIES:Adults,Morning,Worship
END:VEVENT
BEGIN:VEVENT
DTSTART;TZID=America/Detroit:20250604T190000
DTEND;TZID=America/Detroit:20250604T203000
DTSTAMP:20260423T074216
CREATED:20250210T213039Z
LAST-MODIFIED:20250211T181331Z
UID:10012701-1749063600-1749069000@www.fumc-a2.org
SUMMARY:Chancel Choir rehearsal
DESCRIPTION:All are welcome to join the Chancel Choir at any time – no experience is necessary. The Chancel Choir rehearses weekly on Wednesday evenings\, then again prior to 10am Sunday services. \nOccasional retreats are planned to prepare for larger works. \nWith interest or questions about the Chancel Choir\, please contact Ken Sieloff. \nJoin the choir here.
URL:https://www.fumc-a2.org/event/chancel-choir-rehearsal-2-2/2025-06-04/
LOCATION:MI
CATEGORIES:Adults,Evening,Music,Worship
END:VEVENT
BEGIN:VEVENT
DTSTART;TZID=America/Detroit:20250606T090000
DTEND;TZID=America/Detroit:20250606T163000
DTSTAMP:20260423T074216
CREATED:20250527T135953Z
LAST-MODIFIED:20250527T135955Z
UID:10012787-1749200400-1749227400@www.fumc-a2.org
SUMMARY:Community Swap Event Drop Off
DESCRIPTION:Community Swap Event Drop off  \n\nFriday\, June 6 anytime between 9 a.m. – 4:30 p.m.\nSaturday\, June 7 (before the swap) 8-9 a.m.\n\nYou are welcome to drop off items in good condition that you no longer need or want the day before (June 6) or the day of the event (June 7) at FUMC downtown. Items will need to be laundered and cleaned. Please no broken items\, items with holes/stains\, or furniture. Contact Selyna Beverly if you have any questions. Learn more here. \nThese items include: \n\n\nChildren’s clothes – newborn\, 0-3 month\, 3-6 month\, 6-9 month\, 9-12 month\, 18 month\, 2T\, 3T\, 4T\, 5T and up. \n\n\nTeen clothes/young adult \n\n\nChildren’s shoes \n\n\nBaby equipment/supplies \n\n\nToys/games \n\n\nChildren’s books \n\n\nChildren’s sports equipment \n\n\nMaternity clothes \n\n\nMen’s clothes and shoes \n\n\nWomen’s clothes and shoes \n\n\nCrafts/art supplies \n\n\nKitchen items including small appliances \n\n\nHousehold decor \n\n\nAccessories (purses\, backpacks\, jewelry\, watches\, belts)
URL:https://www.fumc-a2.org/event/community-swap-event-drop-off-2/
LOCATION:MI
CATEGORIES:Daytime,Families,Kids,Morning,Volunteer event
END:VEVENT
BEGIN:VEVENT
DTSTART;TZID=America/Detroit:20250607T080000
DTEND;TZID=America/Detroit:20250607T090000
DTSTAMP:20260423T074216
CREATED:20250331T154751Z
LAST-MODIFIED:20250331T154751Z
UID:10012788-1749283200-1749286800@www.fumc-a2.org
SUMMARY:Community Swap Event Drop Off
DESCRIPTION:Community Swap Event Drop off  \n\nFriday\, June 6 anytime between 9 a.m. – 4:30 p.m.\nSaturday\, June 7 (before the swap) 8-9 a.m.\n\nYou are welcome to drop off items in good condition that you no longer need or want the day before (June 6) or the day of the event (June 7) at FUMC downtown. Items will need to be laundered and cleaned. Please no broken items\, items with holes/stains\, or furniture. Contact Selyna Beverly if you have any questions. \nThese items include: \n\n\nChildren’s clothes – newborn\, 0-3 month\, 3-6 month\, 6-9 month\, 9-12 month\, 18 month\, 2T\, 3T\, 4T\, 5T and up. \n\n\nTeen clothes/young adult \n\n\nChildren’s shoes \n\n\nBaby equipment/supplies \n\n\nToys/games \n\n\nChildren’s books \n\n\nChildren’s sports equipment \n\n\nMaternity clothes \n\n\nMen’s clothes and shoes \n\n\nWomen’s clothes and shoes \n\n\nCrafts/art supplies \n\n\nKitchen items including small appliances \n\n\nHousehold decor \n\n\nAccessories (purses\, backpacks\, jewelry\, watches\, belts)
URL:https://www.fumc-a2.org/event/community-swap-event-drop-off/2025-06-07/
LOCATION:MI
CATEGORIES:Daytime,Families,Kids,Morning,Volunteer event
END:VEVENT
BEGIN:VEVENT
DTSTART;TZID=America/Detroit:20250607T083000
DTEND;TZID=America/Detroit:20250607T100000
DTSTAMP:20260423T074216
CREATED:20230823T164618Z
LAST-MODIFIED:20230828T224344Z
UID:10009536-1749285000-1749290400@www.fumc-a2.org
SUMMARY:Men of Faith
DESCRIPTION:This is a group for men who want to gather to share spiritual program material\, “God Sightings” and prayer. All men who are interested in growing their faith through study\, sharing and prayer are welcome to join! Questions? Contact Jim Higdon or Mark Wickham. \nLearn more about this offering.
URL:https://www.fumc-a2.org/event/men-of-faith/2025-06-07/
LOCATION:Zoom
CATEGORIES:Adult Faith Formation,Adults,Morning
END:VEVENT
BEGIN:VEVENT
DTSTART;TZID=America/Detroit:20250607T090000
DTEND;TZID=America/Detroit:20250607T120000
DTSTAMP:20260423T074216
CREATED:20250331T154418Z
LAST-MODIFIED:20250527T135842Z
UID:10012786-1749286800-1749297600@www.fumc-a2.org
SUMMARY:Community Swap Event 
DESCRIPTION:Join us for the Community Swap Event! Saturday\, June 7- pick up items anytime between 9 a.m. – noon. \nFree parking will be available in the church parking lot. \nYou are welcome to drop off items in good condition that you no longer need or want the day before (June 6) or the day of the event (June 7) at FUMC Downtown. On the day of the event everyone can take any items. You do not need to donate items to pick up items. Learn more here. \nContact Selyna Beverly if you have any questions. \n 
URL:https://www.fumc-a2.org/event/community-swap-event-2/
LOCATION:MI
CATEGORIES:Daytime,Families,Kids,Morning,Volunteer event
END:VEVENT
BEGIN:VEVENT
DTSTART;TZID=America/Detroit:20250607T170000
DTEND;TZID=America/Detroit:20250607T180000
DTSTAMP:20260423T074216
CREATED:20250409T013409Z
LAST-MODIFIED:20250409T013411Z
UID:10011098-1749315600-1749319200@www.fumc-a2.org
SUMMARY:Contemporary Worship
DESCRIPTION:Join us for our contemporary worship service in the Green Wood Sanctuary on Saturdays at 5 p.m.
URL:https://www.fumc-a2.org/event/green-wood-worship-4-3/2025-06-07/
LOCATION:MI
CATEGORIES:Evening,Worship
END:VEVENT
BEGIN:VEVENT
DTSTART;TZID=America/Detroit:20250608T100000
DTEND;TZID=America/Detroit:20250608T110000
DTSTAMP:20260423T074216
CREATED:20250411T171607Z
LAST-MODIFIED:20250411T171819Z
UID:10010837-1749376800-1749380400@www.fumc-a2.org
SUMMARY:Traditional Worship
DESCRIPTION:Join us for our traditional worship service downtown on Sundays at 10 a.m. Or livestream the service on YouTube.
URL:https://www.fumc-a2.org/event/downtown-worship-4/2025-06-08/
LOCATION:MI
CATEGORIES:Morning,Worship
END:VEVENT
BEGIN:VEVENT
DTSTART;TZID=America/Detroit:20250608T113000
DTEND;TZID=America/Detroit:20250608T124500
DTSTAMP:20260423T074216
CREATED:20240906T141158Z
LAST-MODIFIED:20241002T135230Z
UID:10011545-1749382200-1749386700@www.fumc-a2.org
SUMMARY:Conversations about Science & Religion
DESCRIPTION:How do we bridge the gap between science and religion? Join members of our own FUMC science and medical community for conversations about experiences and struggles with faith\, belief\, and the place of God in scientific study. This group meets monthly on the second Sunday of each month at our downtown church in Calkins or connect remotely via Zoom. \nContact Wendy Everett for more information. \nLearn more and find the Zoom link here.
URL:https://www.fumc-a2.org/event/conversations-about-science-religion/2025-06-08/
LOCATION:MI
CATEGORIES:Adult Faith Formation,Adults
END:VEVENT
BEGIN:VEVENT
DTSTART;TZID=America/Detroit:20250608T130000
DTEND;TZID=America/Detroit:20250608T150000
DTSTAMP:20260423T074216
CREATED:20250416T174118Z
LAST-MODIFIED:20250602T133126Z
UID:10012808-1749387600-1749394800@www.fumc-a2.org
SUMMARY:Community Vigil: Just Love. Empowering Compassion.
DESCRIPTION:Join us for this community event to learn\, pray and gather inspiration to fight the federal cuts in human services. Learn more here. \nAgenda \n1:-2:30 p.m.: Main program to support nonprofits. \nNoon-1 p.m.\, 3- 4 p.m.: Reflections stations will be available in the Green Wood Sanctuary on the main floor of the FUMC church building. We need to keep our spirits focused! \n2:30-3 p.m.: Following the FUMC event we will encourage participants to march together to the 3 p.m. Washtenaw Congregational Sanctuary Vigil outside of the Ann Arbor Federal Building on Liberty and Fifth streets.
URL:https://www.fumc-a2.org/event/community-vigil/
LOCATION:MI
CATEGORIES:Adults,Daytime
END:VEVENT
BEGIN:VEVENT
DTSTART;TZID=America/Detroit:20250608T130000
DTEND;TZID=America/Detroit:20250608T150000
DTSTAMP:20260423T074216
CREATED:20250514T155043Z
LAST-MODIFIED:20250514T155043Z
UID:10012812-1749387600-1749394800@www.fumc-a2.org
SUMMARY:“Just Love: Empower Compassion”
DESCRIPTION:Federal funding cuts and staff reductions are hurting nonprofits who care for our most vulnerable people. On Sunday\, June 8 from 1-2:30 p.m. First United Methodist Church of Ann Arbor is hosting a community gathering to protest federal actions and support nonprofits on the frontlines in Washtenaw County. \nLearn more here.
URL:https://www.fumc-a2.org/event/just-love-empower-compassion/
LOCATION:MI
CATEGORIES:Daytime,Special event
END:VEVENT
BEGIN:VEVENT
DTSTART;VALUE=DATE:20250611
DTEND;VALUE=DATE:20250612
DTSTAMP:20260423T074216
CREATED:20250512T140358Z
LAST-MODIFIED:20250512T140358Z
UID:10012811-1749600000-1749686399@www.fumc-a2.org
SUMMARY:Office closed
DESCRIPTION:The church office is closed Wednesday\, June 11.
URL:https://www.fumc-a2.org/event/office-closed-35/
LOCATION:MI
END:VEVENT
BEGIN:VEVENT
DTSTART;TZID=America/Detroit:20250611T080000
DTEND;TZID=America/Detroit:20250611T083000
DTSTAMP:20260423T074216
CREATED:20240624T145359Z
LAST-MODIFIED:20250527T142428Z
UID:10012820-1749628800-1749630600@www.fumc-a2.org
SUMMARY:Rise and Shine Service
DESCRIPTION:Start your day with scripture\, song\, prayer concerns and gratitudes! No sermon. You can be on your way by 8:30 a.m. \nJoin the Zoom meeting here. \nQuestions? Contact Amy Kennedy.
URL:https://www.fumc-a2.org/event/rise-and-shine-service/2025-06-11/
LOCATION:Zoom
CATEGORIES:Adults,Morning,Worship
END:VEVENT
BEGIN:VEVENT
DTSTART;TZID=America/Detroit:20250614T083000
DTEND;TZID=America/Detroit:20250614T100000
DTSTAMP:20260423T074216
CREATED:20230823T164618Z
LAST-MODIFIED:20230828T224344Z
UID:10009537-1749889800-1749895200@www.fumc-a2.org
SUMMARY:Men of Faith
DESCRIPTION:This is a group for men who want to gather to share spiritual program material\, “God Sightings” and prayer. All men who are interested in growing their faith through study\, sharing and prayer are welcome to join! Questions? Contact Jim Higdon or Mark Wickham. \nLearn more about this offering.
URL:https://www.fumc-a2.org/event/men-of-faith/2025-06-14/
LOCATION:Zoom
CATEGORIES:Adult Faith Formation,Adults,Morning
END:VEVENT
BEGIN:VEVENT
DTSTART;TZID=America/Detroit:20250614T170000
DTEND;TZID=America/Detroit:20250614T180000
DTSTAMP:20260423T074216
CREATED:20250409T013409Z
LAST-MODIFIED:20250409T013411Z
UID:10011099-1749920400-1749924000@www.fumc-a2.org
SUMMARY:Contemporary Worship
DESCRIPTION:Join us for our contemporary worship service in the Green Wood Sanctuary on Saturdays at 5 p.m.
URL:https://www.fumc-a2.org/event/green-wood-worship-4-3/2025-06-14/
LOCATION:MI
CATEGORIES:Evening,Worship
END:VEVENT
BEGIN:VEVENT
DTSTART;TZID=America/Detroit:20250615T100000
DTEND;TZID=America/Detroit:20250615T110000
DTSTAMP:20260423T074216
CREATED:20250411T171607Z
LAST-MODIFIED:20250411T171819Z
UID:10010838-1749981600-1749985200@www.fumc-a2.org
SUMMARY:Traditional Worship
DESCRIPTION:Join us for our traditional worship service downtown on Sundays at 10 a.m. Or livestream the service on YouTube.
URL:https://www.fumc-a2.org/event/downtown-worship-4/2025-06-15/
LOCATION:MI
CATEGORIES:Morning,Worship
END:VEVENT
BEGIN:VEVENT
DTSTART;TZID=America/Detroit:20250618T080000
DTEND;TZID=America/Detroit:20250618T083000
DTSTAMP:20260423T074216
CREATED:20240624T145359Z
LAST-MODIFIED:20250527T142428Z
UID:10012821-1750233600-1750235400@www.fumc-a2.org
SUMMARY:Rise and Shine Service
DESCRIPTION:Start your day with scripture\, song\, prayer concerns and gratitudes! No sermon. You can be on your way by 8:30 a.m. \nJoin the Zoom meeting here. \nQuestions? Contact Amy Kennedy.
URL:https://www.fumc-a2.org/event/rise-and-shine-service/2025-06-18/
LOCATION:Zoom
CATEGORIES:Adults,Morning,Worship
END:VEVENT
END:VCALENDAR