BEGIN:VCALENDAR
VERSION:2.0
PRODID:-//First United Methodist Church - ECPv6.15.17.1//NONSGML v1.0//EN
CALSCALE:GREGORIAN
METHOD:PUBLISH
X-ORIGINAL-URL:https://www.fumc-a2.org
X-WR-CALDESC:Events for First United Methodist Church
REFRESH-INTERVAL;VALUE=DURATION:PT1H
X-Robots-Tag:noindex
X-PUBLISHED-TTL:PT1H
BEGIN:VTIMEZONE
TZID:America/Detroit
BEGIN:DAYLIGHT
TZOFFSETFROM:-0500
TZOFFSETTO:-0400
TZNAME:EDT
DTSTART:20250309T070000
END:DAYLIGHT
BEGIN:STANDARD
TZOFFSETFROM:-0400
TZOFFSETTO:-0500
TZNAME:EST
DTSTART:20251102T060000
END:STANDARD
BEGIN:DAYLIGHT
TZOFFSETFROM:-0500
TZOFFSETTO:-0400
TZNAME:EDT
DTSTART:20260308T070000
END:DAYLIGHT
BEGIN:STANDARD
TZOFFSETFROM:-0400
TZOFFSETTO:-0500
TZNAME:EST
DTSTART:20261101T060000
END:STANDARD
BEGIN:DAYLIGHT
TZOFFSETFROM:-0500
TZOFFSETTO:-0400
TZNAME:EDT
DTSTART:20270314T070000
END:DAYLIGHT
BEGIN:STANDARD
TZOFFSETFROM:-0400
TZOFFSETTO:-0500
TZNAME:EST
DTSTART:20271107T060000
END:STANDARD
BEGIN:DAYLIGHT
TZOFFSETFROM:-0500
TZOFFSETTO:-0400
TZNAME:EDT
DTSTART:20280312T070000
END:DAYLIGHT
BEGIN:STANDARD
TZOFFSETFROM:-0400
TZOFFSETTO:-0500
TZNAME:EST
DTSTART:20281105T060000
END:STANDARD
END:VTIMEZONE
BEGIN:VEVENT
DTSTART;TZID=America/Detroit:20261101T100000
DTEND;TZID=America/Detroit:20261101T110000
DTSTAMP:20260420T082742
CREATED:20250411T171607Z
LAST-MODIFIED:20250411T171819Z
UID:10010910-1793527200-1793530800@www.fumc-a2.org
SUMMARY:Traditional Worship
DESCRIPTION:Join us for our traditional worship service downtown on Sundays at 10 a.m. Or livestream the service on YouTube.
URL:https://www.fumc-a2.org/event/downtown-worship-4/2026-11-01/
CATEGORIES:Morning,Worship
END:VEVENT
BEGIN:VEVENT
DTSTART;TZID=America/Detroit:20261107T083000
DTEND;TZID=America/Detroit:20261107T100000
DTSTAMP:20260420T082742
CREATED:20230823T164618Z
LAST-MODIFIED:20230828T224344Z
UID:10009610-1794040200-1794045600@www.fumc-a2.org
SUMMARY:Men of Faith
DESCRIPTION:This is a group for men who want to gather to share spiritual program material\, “God Sightings” and prayer. All men who are interested in growing their faith through study\, sharing and prayer are welcome to join! Questions? Contact Jim Higdon or Mark Wickham. \nLearn more about this offering.
URL:https://www.fumc-a2.org/event/men-of-faith/2026-11-07/
LOCATION:Zoom
CATEGORIES:Adult Faith Formation,Adults,Morning
END:VEVENT
BEGIN:VEVENT
DTSTART;TZID=America/Detroit:20261107T170000
DTEND;TZID=America/Detroit:20261107T180000
DTSTAMP:20260420T082742
CREATED:20250409T013409Z
LAST-MODIFIED:20250409T013411Z
UID:10011172-1794070800-1794074400@www.fumc-a2.org
SUMMARY:Contemporary Worship
DESCRIPTION:Join us for our contemporary worship service in the Green Wood Sanctuary on Saturdays at 5 p.m.
URL:https://www.fumc-a2.org/event/green-wood-worship-4-3/2026-11-07/
CATEGORIES:Evening,Worship
END:VEVENT
BEGIN:VEVENT
DTSTART;TZID=America/Detroit:20261108T100000
DTEND;TZID=America/Detroit:20261108T110000
DTSTAMP:20260420T082742
CREATED:20250411T171607Z
LAST-MODIFIED:20250411T171819Z
UID:10010911-1794132000-1794135600@www.fumc-a2.org
SUMMARY:Traditional Worship
DESCRIPTION:Join us for our traditional worship service downtown on Sundays at 10 a.m. Or livestream the service on YouTube.
URL:https://www.fumc-a2.org/event/downtown-worship-4/2026-11-08/
CATEGORIES:Morning,Worship
END:VEVENT
BEGIN:VEVENT
DTSTART;TZID=America/Detroit:20261114T083000
DTEND;TZID=America/Detroit:20261114T100000
DTSTAMP:20260420T082742
CREATED:20230823T164618Z
LAST-MODIFIED:20230828T224344Z
UID:10009611-1794645000-1794650400@www.fumc-a2.org
SUMMARY:Men of Faith
DESCRIPTION:This is a group for men who want to gather to share spiritual program material\, “God Sightings” and prayer. All men who are interested in growing their faith through study\, sharing and prayer are welcome to join! Questions? Contact Jim Higdon or Mark Wickham. \nLearn more about this offering.
URL:https://www.fumc-a2.org/event/men-of-faith/2026-11-14/
LOCATION:Zoom
CATEGORIES:Adult Faith Formation,Adults,Morning
END:VEVENT
BEGIN:VEVENT
DTSTART;TZID=America/Detroit:20261114T170000
DTEND;TZID=America/Detroit:20261114T180000
DTSTAMP:20260420T082742
CREATED:20250409T013409Z
LAST-MODIFIED:20250409T013411Z
UID:10011173-1794675600-1794679200@www.fumc-a2.org
SUMMARY:Contemporary Worship
DESCRIPTION:Join us for our contemporary worship service in the Green Wood Sanctuary on Saturdays at 5 p.m.
URL:https://www.fumc-a2.org/event/green-wood-worship-4-3/2026-11-14/
CATEGORIES:Evening,Worship
END:VEVENT
BEGIN:VEVENT
DTSTART;TZID=America/Detroit:20261115T100000
DTEND;TZID=America/Detroit:20261115T110000
DTSTAMP:20260420T082742
CREATED:20250411T171607Z
LAST-MODIFIED:20250411T171819Z
UID:10010912-1794736800-1794740400@www.fumc-a2.org
SUMMARY:Traditional Worship
DESCRIPTION:Join us for our traditional worship service downtown on Sundays at 10 a.m. Or livestream the service on YouTube.
URL:https://www.fumc-a2.org/event/downtown-worship-4/2026-11-15/
CATEGORIES:Morning,Worship
END:VEVENT
BEGIN:VEVENT
DTSTART;TZID=America/Detroit:20261121T083000
DTEND;TZID=America/Detroit:20261121T100000
DTSTAMP:20260420T082742
CREATED:20230823T164618Z
LAST-MODIFIED:20230828T224344Z
UID:10009612-1795249800-1795255200@www.fumc-a2.org
SUMMARY:Men of Faith
DESCRIPTION:This is a group for men who want to gather to share spiritual program material\, “God Sightings” and prayer. All men who are interested in growing their faith through study\, sharing and prayer are welcome to join! Questions? Contact Jim Higdon or Mark Wickham. \nLearn more about this offering.
URL:https://www.fumc-a2.org/event/men-of-faith/2026-11-21/
LOCATION:Zoom
CATEGORIES:Adult Faith Formation,Adults,Morning
END:VEVENT
BEGIN:VEVENT
DTSTART;TZID=America/Detroit:20261121T170000
DTEND;TZID=America/Detroit:20261121T180000
DTSTAMP:20260420T082742
CREATED:20250409T013409Z
LAST-MODIFIED:20250409T013411Z
UID:10011174-1795280400-1795284000@www.fumc-a2.org
SUMMARY:Contemporary Worship
DESCRIPTION:Join us for our contemporary worship service in the Green Wood Sanctuary on Saturdays at 5 p.m.
URL:https://www.fumc-a2.org/event/green-wood-worship-4-3/2026-11-21/
CATEGORIES:Evening,Worship
END:VEVENT
BEGIN:VEVENT
DTSTART;TZID=America/Detroit:20261122T100000
DTEND;TZID=America/Detroit:20261122T110000
DTSTAMP:20260420T082742
CREATED:20250411T171607Z
LAST-MODIFIED:20250411T171819Z
UID:10010913-1795341600-1795345200@www.fumc-a2.org
SUMMARY:Traditional Worship
DESCRIPTION:Join us for our traditional worship service downtown on Sundays at 10 a.m. Or livestream the service on YouTube.
URL:https://www.fumc-a2.org/event/downtown-worship-4/2026-11-22/
CATEGORIES:Morning,Worship
END:VEVENT
BEGIN:VEVENT
DTSTART;TZID=America/Detroit:20261128T083000
DTEND;TZID=America/Detroit:20261128T100000
DTSTAMP:20260420T082742
CREATED:20230823T164618Z
LAST-MODIFIED:20230828T224344Z
UID:10009613-1795854600-1795860000@www.fumc-a2.org
SUMMARY:Men of Faith
DESCRIPTION:This is a group for men who want to gather to share spiritual program material\, “God Sightings” and prayer. All men who are interested in growing their faith through study\, sharing and prayer are welcome to join! Questions? Contact Jim Higdon or Mark Wickham. \nLearn more about this offering.
URL:https://www.fumc-a2.org/event/men-of-faith/2026-11-28/
LOCATION:Zoom
CATEGORIES:Adult Faith Formation,Adults,Morning
END:VEVENT
BEGIN:VEVENT
DTSTART;TZID=America/Detroit:20261128T170000
DTEND;TZID=America/Detroit:20261128T180000
DTSTAMP:20260420T082742
CREATED:20250409T013409Z
LAST-MODIFIED:20250409T013411Z
UID:10011175-1795885200-1795888800@www.fumc-a2.org
SUMMARY:Contemporary Worship
DESCRIPTION:Join us for our contemporary worship service in the Green Wood Sanctuary on Saturdays at 5 p.m.
URL:https://www.fumc-a2.org/event/green-wood-worship-4-3/2026-11-28/
CATEGORIES:Evening,Worship
END:VEVENT
BEGIN:VEVENT
DTSTART;TZID=America/Detroit:20261129T100000
DTEND;TZID=America/Detroit:20261129T110000
DTSTAMP:20260420T082742
CREATED:20250411T171607Z
LAST-MODIFIED:20250411T171819Z
UID:10010914-1795946400-1795950000@www.fumc-a2.org
SUMMARY:Traditional Worship
DESCRIPTION:Join us for our traditional worship service downtown on Sundays at 10 a.m. Or livestream the service on YouTube.
URL:https://www.fumc-a2.org/event/downtown-worship-4/2026-11-29/
CATEGORIES:Morning,Worship
END:VEVENT
BEGIN:VEVENT
DTSTART;TZID=America/Detroit:20261205T083000
DTEND;TZID=America/Detroit:20261205T100000
DTSTAMP:20260420T082742
CREATED:20230823T164618Z
LAST-MODIFIED:20230828T224344Z
UID:10009614-1796459400-1796464800@www.fumc-a2.org
SUMMARY:Men of Faith
DESCRIPTION:This is a group for men who want to gather to share spiritual program material\, “God Sightings” and prayer. All men who are interested in growing their faith through study\, sharing and prayer are welcome to join! Questions? Contact Jim Higdon or Mark Wickham. \nLearn more about this offering.
URL:https://www.fumc-a2.org/event/men-of-faith/2026-12-05/
LOCATION:Zoom
CATEGORIES:Adult Faith Formation,Adults,Morning
END:VEVENT
BEGIN:VEVENT
DTSTART;TZID=America/Detroit:20261205T170000
DTEND;TZID=America/Detroit:20261205T180000
DTSTAMP:20260420T082742
CREATED:20250409T013409Z
LAST-MODIFIED:20250409T013411Z
UID:10011176-1796490000-1796493600@www.fumc-a2.org
SUMMARY:Contemporary Worship
DESCRIPTION:Join us for our contemporary worship service in the Green Wood Sanctuary on Saturdays at 5 p.m.
URL:https://www.fumc-a2.org/event/green-wood-worship-4-3/2026-12-05/
CATEGORIES:Evening,Worship
END:VEVENT
BEGIN:VEVENT
DTSTART;TZID=America/Detroit:20261206T100000
DTEND;TZID=America/Detroit:20261206T110000
DTSTAMP:20260420T082742
CREATED:20250411T171607Z
LAST-MODIFIED:20250411T171819Z
UID:10010915-1796551200-1796554800@www.fumc-a2.org
SUMMARY:Traditional Worship
DESCRIPTION:Join us for our traditional worship service downtown on Sundays at 10 a.m. Or livestream the service on YouTube.
URL:https://www.fumc-a2.org/event/downtown-worship-4/2026-12-06/
CATEGORIES:Morning,Worship
END:VEVENT
BEGIN:VEVENT
DTSTART;TZID=America/Detroit:20261212T083000
DTEND;TZID=America/Detroit:20261212T100000
DTSTAMP:20260420T082742
CREATED:20230823T164618Z
LAST-MODIFIED:20230828T224344Z
UID:10009615-1797064200-1797069600@www.fumc-a2.org
SUMMARY:Men of Faith
DESCRIPTION:This is a group for men who want to gather to share spiritual program material\, “God Sightings” and prayer. All men who are interested in growing their faith through study\, sharing and prayer are welcome to join! Questions? Contact Jim Higdon or Mark Wickham. \nLearn more about this offering.
URL:https://www.fumc-a2.org/event/men-of-faith/2026-12-12/
LOCATION:Zoom
CATEGORIES:Adult Faith Formation,Adults,Morning
END:VEVENT
BEGIN:VEVENT
DTSTART;TZID=America/Detroit:20261212T170000
DTEND;TZID=America/Detroit:20261212T180000
DTSTAMP:20260420T082742
CREATED:20250409T013409Z
LAST-MODIFIED:20250409T013411Z
UID:10011177-1797094800-1797098400@www.fumc-a2.org
SUMMARY:Contemporary Worship
DESCRIPTION:Join us for our contemporary worship service in the Green Wood Sanctuary on Saturdays at 5 p.m.
URL:https://www.fumc-a2.org/event/green-wood-worship-4-3/2026-12-12/
CATEGORIES:Evening,Worship
END:VEVENT
BEGIN:VEVENT
DTSTART;TZID=America/Detroit:20261213T100000
DTEND;TZID=America/Detroit:20261213T110000
DTSTAMP:20260420T082742
CREATED:20250411T171607Z
LAST-MODIFIED:20250411T171819Z
UID:10010916-1797156000-1797159600@www.fumc-a2.org
SUMMARY:Traditional Worship
DESCRIPTION:Join us for our traditional worship service downtown on Sundays at 10 a.m. Or livestream the service on YouTube.
URL:https://www.fumc-a2.org/event/downtown-worship-4/2026-12-13/
CATEGORIES:Morning,Worship
END:VEVENT
BEGIN:VEVENT
DTSTART;TZID=America/Detroit:20261219T083000
DTEND;TZID=America/Detroit:20261219T100000
DTSTAMP:20260420T082742
CREATED:20230823T164618Z
LAST-MODIFIED:20230828T224344Z
UID:10009616-1797669000-1797674400@www.fumc-a2.org
SUMMARY:Men of Faith
DESCRIPTION:This is a group for men who want to gather to share spiritual program material\, “God Sightings” and prayer. All men who are interested in growing their faith through study\, sharing and prayer are welcome to join! Questions? Contact Jim Higdon or Mark Wickham. \nLearn more about this offering.
URL:https://www.fumc-a2.org/event/men-of-faith/2026-12-19/
LOCATION:Zoom
CATEGORIES:Adult Faith Formation,Adults,Morning
END:VEVENT
BEGIN:VEVENT
DTSTART;TZID=America/Detroit:20261219T170000
DTEND;TZID=America/Detroit:20261219T180000
DTSTAMP:20260420T082742
CREATED:20250409T013409Z
LAST-MODIFIED:20250409T013411Z
UID:10011178-1797699600-1797703200@www.fumc-a2.org
SUMMARY:Contemporary Worship
DESCRIPTION:Join us for our contemporary worship service in the Green Wood Sanctuary on Saturdays at 5 p.m.
URL:https://www.fumc-a2.org/event/green-wood-worship-4-3/2026-12-19/
CATEGORIES:Evening,Worship
END:VEVENT
BEGIN:VEVENT
DTSTART;TZID=America/Detroit:20261220T100000
DTEND;TZID=America/Detroit:20261220T110000
DTSTAMP:20260420T082742
CREATED:20250411T171607Z
LAST-MODIFIED:20250411T171819Z
UID:10010917-1797760800-1797764400@www.fumc-a2.org
SUMMARY:Traditional Worship
DESCRIPTION:Join us for our traditional worship service downtown on Sundays at 10 a.m. Or livestream the service on YouTube.
URL:https://www.fumc-a2.org/event/downtown-worship-4/2026-12-20/
CATEGORIES:Morning,Worship
END:VEVENT
BEGIN:VEVENT
DTSTART;TZID=America/Detroit:20261226T083000
DTEND;TZID=America/Detroit:20261226T100000
DTSTAMP:20260420T082742
CREATED:20230823T164618Z
LAST-MODIFIED:20230828T224344Z
UID:10009617-1798273800-1798279200@www.fumc-a2.org
SUMMARY:Men of Faith
DESCRIPTION:This is a group for men who want to gather to share spiritual program material\, “God Sightings” and prayer. All men who are interested in growing their faith through study\, sharing and prayer are welcome to join! Questions? Contact Jim Higdon or Mark Wickham. \nLearn more about this offering.
URL:https://www.fumc-a2.org/event/men-of-faith/2026-12-26/
LOCATION:Zoom
CATEGORIES:Adult Faith Formation,Adults,Morning
END:VEVENT
BEGIN:VEVENT
DTSTART;TZID=America/Detroit:20261226T170000
DTEND;TZID=America/Detroit:20261226T180000
DTSTAMP:20260420T082742
CREATED:20250409T013409Z
LAST-MODIFIED:20250409T013411Z
UID:10011179-1798304400-1798308000@www.fumc-a2.org
SUMMARY:Contemporary Worship
DESCRIPTION:Join us for our contemporary worship service in the Green Wood Sanctuary on Saturdays at 5 p.m.
URL:https://www.fumc-a2.org/event/green-wood-worship-4-3/2026-12-26/
CATEGORIES:Evening,Worship
END:VEVENT
BEGIN:VEVENT
DTSTART;TZID=America/Detroit:20261227T100000
DTEND;TZID=America/Detroit:20261227T110000
DTSTAMP:20260420T082742
CREATED:20250411T171607Z
LAST-MODIFIED:20250411T171819Z
UID:10010918-1798365600-1798369200@www.fumc-a2.org
SUMMARY:Traditional Worship
DESCRIPTION:Join us for our traditional worship service downtown on Sundays at 10 a.m. Or livestream the service on YouTube.
URL:https://www.fumc-a2.org/event/downtown-worship-4/2026-12-27/
CATEGORIES:Morning,Worship
END:VEVENT
BEGIN:VEVENT
DTSTART;TZID=America/Detroit:20270102T083000
DTEND;TZID=America/Detroit:20270102T100000
DTSTAMP:20260420T082742
CREATED:20230823T164618Z
LAST-MODIFIED:20230828T224344Z
UID:10009618-1798878600-1798884000@www.fumc-a2.org
SUMMARY:Men of Faith
DESCRIPTION:This is a group for men who want to gather to share spiritual program material\, “God Sightings” and prayer. All men who are interested in growing their faith through study\, sharing and prayer are welcome to join! Questions? Contact Jim Higdon or Mark Wickham. \nLearn more about this offering.
URL:https://www.fumc-a2.org/event/men-of-faith/2027-01-02/
LOCATION:Zoom
CATEGORIES:Adult Faith Formation,Adults,Morning
END:VEVENT
BEGIN:VEVENT
DTSTART;TZID=America/Detroit:20270102T170000
DTEND;TZID=America/Detroit:20270102T180000
DTSTAMP:20260420T082742
CREATED:20250409T013409Z
LAST-MODIFIED:20250409T013411Z
UID:10011180-1798909200-1798912800@www.fumc-a2.org
SUMMARY:Contemporary Worship
DESCRIPTION:Join us for our contemporary worship service in the Green Wood Sanctuary on Saturdays at 5 p.m.
URL:https://www.fumc-a2.org/event/green-wood-worship-4-3/2027-01-02/
CATEGORIES:Evening,Worship
END:VEVENT
BEGIN:VEVENT
DTSTART;TZID=America/Detroit:20270103T100000
DTEND;TZID=America/Detroit:20270103T110000
DTSTAMP:20260420T082742
CREATED:20250411T171607Z
LAST-MODIFIED:20250411T171819Z
UID:10010919-1798970400-1798974000@www.fumc-a2.org
SUMMARY:Traditional Worship
DESCRIPTION:Join us for our traditional worship service downtown on Sundays at 10 a.m. Or livestream the service on YouTube.
URL:https://www.fumc-a2.org/event/downtown-worship-4/2027-01-03/
CATEGORIES:Morning,Worship
END:VEVENT
BEGIN:VEVENT
DTSTART;TZID=America/Detroit:20270109T083000
DTEND;TZID=America/Detroit:20270109T100000
DTSTAMP:20260420T082742
CREATED:20230823T164618Z
LAST-MODIFIED:20230828T224344Z
UID:10009619-1799483400-1799488800@www.fumc-a2.org
SUMMARY:Men of Faith
DESCRIPTION:This is a group for men who want to gather to share spiritual program material\, “God Sightings” and prayer. All men who are interested in growing their faith through study\, sharing and prayer are welcome to join! Questions? Contact Jim Higdon or Mark Wickham. \nLearn more about this offering.
URL:https://www.fumc-a2.org/event/men-of-faith/2027-01-09/
LOCATION:Zoom
CATEGORIES:Adult Faith Formation,Adults,Morning
END:VEVENT
BEGIN:VEVENT
DTSTART;TZID=America/Detroit:20270109T170000
DTEND;TZID=America/Detroit:20270109T180000
DTSTAMP:20260420T082742
CREATED:20250409T013409Z
LAST-MODIFIED:20250409T013411Z
UID:10011181-1799514000-1799517600@www.fumc-a2.org
SUMMARY:Contemporary Worship
DESCRIPTION:Join us for our contemporary worship service in the Green Wood Sanctuary on Saturdays at 5 p.m.
URL:https://www.fumc-a2.org/event/green-wood-worship-4-3/2027-01-09/
CATEGORIES:Evening,Worship
END:VEVENT
END:VCALENDAR