BEGIN:VCALENDAR
VERSION:2.0
PRODID:-//First United Methodist Church - ECPv6.15.17.1//NONSGML v1.0//EN
CALSCALE:GREGORIAN
METHOD:PUBLISH
X-ORIGINAL-URL:https://www.fumc-a2.org
X-WR-CALDESC:Events for First United Methodist Church
REFRESH-INTERVAL;VALUE=DURATION:PT1H
X-Robots-Tag:noindex
X-PUBLISHED-TTL:PT1H
BEGIN:VTIMEZONE
TZID:America/Detroit
BEGIN:DAYLIGHT
TZOFFSETFROM:-0500
TZOFFSETTO:-0400
TZNAME:EDT
DTSTART:20240310T070000
END:DAYLIGHT
BEGIN:STANDARD
TZOFFSETFROM:-0400
TZOFFSETTO:-0500
TZNAME:EST
DTSTART:20241103T060000
END:STANDARD
BEGIN:DAYLIGHT
TZOFFSETFROM:-0500
TZOFFSETTO:-0400
TZNAME:EDT
DTSTART:20250309T070000
END:DAYLIGHT
BEGIN:STANDARD
TZOFFSETFROM:-0400
TZOFFSETTO:-0500
TZNAME:EST
DTSTART:20251102T060000
END:STANDARD
BEGIN:DAYLIGHT
TZOFFSETFROM:-0500
TZOFFSETTO:-0400
TZNAME:EDT
DTSTART:20260308T070000
END:DAYLIGHT
BEGIN:STANDARD
TZOFFSETFROM:-0400
TZOFFSETTO:-0500
TZNAME:EST
DTSTART:20261101T060000
END:STANDARD
END:VTIMEZONE
BEGIN:VEVENT
DTSTART;TZID=America/Detroit:20250426T083000
DTEND;TZID=America/Detroit:20250426T100000
DTSTAMP:20260421T084151
CREATED:20230823T164618Z
LAST-MODIFIED:20230828T224344Z
UID:10009530-1745656200-1745661600@www.fumc-a2.org
SUMMARY:Men of Faith
DESCRIPTION:This is a group for men who want to gather to share spiritual program material\, “God Sightings” and prayer. All men who are interested in growing their faith through study\, sharing and prayer are welcome to join! Questions? Contact Jim Higdon or Mark Wickham. \nLearn more about this offering.
URL:https://www.fumc-a2.org/event/men-of-faith/2025-04-26/
LOCATION:Zoom
CATEGORIES:Adult Faith Formation,Adults,Morning
END:VEVENT
BEGIN:VEVENT
DTSTART;TZID=America/Detroit:20250426T130000
DTEND;TZID=America/Detroit:20250426T140000
DTSTAMP:20260421T084151
CREATED:20250307T190110Z
LAST-MODIFIED:20250423T214159Z
UID:10012778-1745672400-1745676000@www.fumc-a2.org
SUMMARY:Betsy Kincaid Memorial Service
DESCRIPTION:The livestream will be available on YouTube here: https://youtube.com/live/dvlNpE1DsqU?feature=share
URL:https://www.fumc-a2.org/event/betsy-kincaid-memorial-service/
LOCATION:MI
CATEGORIES:Daytime
END:VEVENT
BEGIN:VEVENT
DTSTART;TZID=America/Detroit:20250426T170000
DTEND;TZID=America/Detroit:20250426T180000
DTSTAMP:20260421T084151
CREATED:20250409T013409Z
LAST-MODIFIED:20250409T013411Z
UID:10011092-1745686800-1745690400@www.fumc-a2.org
SUMMARY:Contemporary Worship
DESCRIPTION:Join us for our contemporary worship service in the Green Wood Sanctuary on Saturdays at 5 p.m.
URL:https://www.fumc-a2.org/event/green-wood-worship-4-3/2025-04-26/
LOCATION:MI
CATEGORIES:Evening,Worship
END:VEVENT
BEGIN:VEVENT
DTSTART;TZID=America/Detroit:20250427T100000
DTEND;TZID=America/Detroit:20250427T110000
DTSTAMP:20260421T084151
CREATED:20250108T002306Z
LAST-MODIFIED:20250411T171157Z
UID:10012612-1745748000-1745751600@www.fumc-a2.org
SUMMARY:Sol Café
DESCRIPTION:Sol Café meets Sundays at 10 a.m. in Calkins (during the worship service). Sol Café is a faith formation time for middle and high schoolers. The program material encourages spiritual growth through discussion and small group interaction. \nPlease note: Sol Café does not meet the first Sunday of the month.
URL:https://www.fumc-a2.org/event/sol-cafe/2025-04-27/
LOCATION:MI
CATEGORIES:Youth
END:VEVENT
BEGIN:VEVENT
DTSTART;TZID=America/Detroit:20250427T100000
DTEND;TZID=America/Detroit:20250427T110000
DTSTAMP:20260421T084151
CREATED:20250411T171607Z
LAST-MODIFIED:20250411T171819Z
UID:10010831-1745748000-1745751600@www.fumc-a2.org
SUMMARY:Traditional Worship
DESCRIPTION:Join us for our traditional worship service downtown on Sundays at 10 a.m. Or livestream the service on YouTube.
URL:https://www.fumc-a2.org/event/downtown-worship-4/2025-04-27/
LOCATION:MI
CATEGORIES:Morning,Worship
END:VEVENT
BEGIN:VEVENT
DTSTART;TZID=America/Detroit:20250427T101500
DTEND;TZID=America/Detroit:20250427T110000
DTSTAMP:20260421T084151
CREATED:20240610T133426Z
LAST-MODIFIED:20250411T171132Z
UID:10011367-1745748900-1745751600@www.fumc-a2.org
SUMMARY:Kids Sunday School
DESCRIPTION:Join us at 10:15 a.m. following the children’s moment! We will meet in the Social Hall. \nSunday School is nursery through 5th grade. \nWe do not meet on the first Sunday of the month. \nQuestions? Email childrensministry@fumc-a2.org.
URL:https://www.fumc-a2.org/event/kids-sunday-school-4/2025-04-27/
LOCATION:MI
CATEGORIES:Kids,Morning
END:VEVENT
BEGIN:VEVENT
DTSTART;TZID=America/Detroit:20250427T130000
DTEND;TZID=America/Detroit:20250427T140000
DTSTAMP:20260421T084151
CREATED:20241002T141601Z
LAST-MODIFIED:20241002T141601Z
UID:10012427-1745758800-1745762400@www.fumc-a2.org
SUMMARY:Global Issues
DESCRIPTION:This group uses the Foreign Policy association Great Decisions DVD & book\, which can be found at fpa.org. Occasionally\, participants bring in items from the news for group discussion. \nThe curriculum is secular\, but the group looks at the issues from a Christian perspective\, asking\, “What are we called to do about it?” Our guiding principle can be found in Micah (chapter 6\, verse 8): “What does the Lord require of you but to act justly\, to love kindness\, and to walk humbly with your God?” \nContact Wendy Everett for more information. \nLearn more and find the Zoom link here.
URL:https://www.fumc-a2.org/event/global-issues-5/2025-04-27/
LOCATION:Zoom
CATEGORIES:Adults,Daytime
END:VEVENT
BEGIN:VEVENT
DTSTART;TZID=America/Detroit:20250427T180000
DTEND;TZID=America/Detroit:20250427T200000
DTSTAMP:20260421T084151
CREATED:20250108T001649Z
LAST-MODIFIED:20250411T171222Z
UID:10012595-1745776800-1745784000@www.fumc-a2.org
SUMMARY:Youth Group
DESCRIPTION:Youth group meets Sundays from 6-8 p.m. Programming is wrapped around building faith while having fun. The meeting starts with dinner together in the Social Hall. \nQuestions? Email info@fumc-a2.org.
URL:https://www.fumc-a2.org/event/youth-group-25/2025-04-27/
LOCATION:MI
CATEGORIES:Youth
END:VEVENT
BEGIN:VEVENT
DTSTART;TZID=America/Detroit:20250428T080000
DTEND;TZID=America/Detroit:20250428T090000
DTSTAMP:20260421T084151
CREATED:20241007T150141Z
LAST-MODIFIED:20241007T150145Z
UID:10011469-1745827200-1745830800@www.fumc-a2.org
SUMMARY:Mindful Monday
DESCRIPTION:All are welcome to join this group that practices different mindful techniques. \nJoin the Zoom meeting here. \nQuestions? Contact Amy Kennedy.
URL:https://www.fumc-a2.org/event/mindful-monday-4-2/2025-04-28/
LOCATION:Zoom
CATEGORIES:Adults,Morning
END:VEVENT
BEGIN:VEVENT
DTSTART;TZID=America/Detroit:20250429T120000
DTEND;TZID=America/Detroit:20250429T130000
DTSTAMP:20260421T084151
CREATED:20240924T201116Z
LAST-MODIFIED:20241117T175542Z
UID:10012539-1745928000-1745931600@www.fumc-a2.org
SUMMARY:Open Table Tuesdays
DESCRIPTION:Open Table Tuesday: Conversations about Faith and the Bible \n\n\n\nThis friendly group studies the Bible together weekly at lunch time on Tuesday – you are welcome to bring your lunch\, have a Bible handy\, and join us. No assigned reading\, no homework! \nLearn more and access the weekly Zoom link here.
URL:https://www.fumc-a2.org/event/open-table-tuesdays-2/2025-04-29/
LOCATION:Zoom
CATEGORIES:Adult Faith Formation,Adults,Daytime
END:VEVENT
BEGIN:VEVENT
DTSTART;TZID=America/Detroit:20250430T080000
DTEND;TZID=America/Detroit:20250430T083000
DTSTAMP:20260421T084151
CREATED:20240624T145359Z
LAST-MODIFIED:20250527T142428Z
UID:10011427-1746000000-1746001800@www.fumc-a2.org
SUMMARY:Rise and Shine Service
DESCRIPTION:Start your day with scripture\, song\, prayer concerns and gratitudes! No sermon. You can be on your way by 8:30 a.m. \nJoin the Zoom meeting here. \nQuestions? Contact Amy Kennedy.
URL:https://www.fumc-a2.org/event/rise-and-shine-service/2025-04-30/
LOCATION:Zoom
CATEGORIES:Adults,Morning,Worship
END:VEVENT
BEGIN:VEVENT
DTSTART;TZID=America/Detroit:20250430T190000
DTEND;TZID=America/Detroit:20250430T203000
DTSTAMP:20260421T084151
CREATED:20250210T213039Z
LAST-MODIFIED:20250211T181331Z
UID:10012696-1746039600-1746045000@www.fumc-a2.org
SUMMARY:Chancel Choir rehearsal
DESCRIPTION:All are welcome to join the Chancel Choir at any time – no experience is necessary. The Chancel Choir rehearses weekly on Wednesday evenings\, then again prior to 10am Sunday services. \nOccasional retreats are planned to prepare for larger works. \nWith interest or questions about the Chancel Choir\, please contact Ken Sieloff. \nJoin the choir here.
URL:https://www.fumc-a2.org/event/chancel-choir-rehearsal-2-2/2025-04-30/
LOCATION:MI
CATEGORIES:Adults,Evening,Music,Worship
END:VEVENT
BEGIN:VEVENT
DTSTART;TZID=America/Detroit:20250501T193000
DTEND;TZID=America/Detroit:20250501T203000
DTSTAMP:20260421T084151
CREATED:20240906T145707Z
LAST-MODIFIED:20241117T175459Z
UID:10012516-1746127800-1746131400@www.fumc-a2.org
SUMMARY:Open Table Thursdays
DESCRIPTION:Open Table Thursday: Conversations about Faith and the Bible \n\nThis friendly group studies the Bible together on Thursday evenings – please feel welcome to join us at 7:30 p.m. No assigned reading\, no homework (have a Bible handy though)! \nLearn more and access the weekly Zoom link here.
URL:https://www.fumc-a2.org/event/open-table-thursdays/2025-05-01/
LOCATION:Zoom
CATEGORIES:Adult Faith Formation,Adults,Evening
END:VEVENT
BEGIN:VEVENT
DTSTART;TZID=America/Detroit:20250503T083000
DTEND;TZID=America/Detroit:20250503T100000
DTSTAMP:20260421T084151
CREATED:20230823T164618Z
LAST-MODIFIED:20230828T224344Z
UID:10009531-1746261000-1746266400@www.fumc-a2.org
SUMMARY:Men of Faith
DESCRIPTION:This is a group for men who want to gather to share spiritual program material\, “God Sightings” and prayer. All men who are interested in growing their faith through study\, sharing and prayer are welcome to join! Questions? Contact Jim Higdon or Mark Wickham. \nLearn more about this offering.
URL:https://www.fumc-a2.org/event/men-of-faith/2025-05-03/
LOCATION:Zoom
CATEGORIES:Adult Faith Formation,Adults,Morning
END:VEVENT
BEGIN:VEVENT
DTSTART;TZID=America/Detroit:20250503T170000
DTEND;TZID=America/Detroit:20250503T180000
DTSTAMP:20260421T084151
CREATED:20250409T013409Z
LAST-MODIFIED:20250409T013411Z
UID:10011093-1746291600-1746295200@www.fumc-a2.org
SUMMARY:Contemporary Worship
DESCRIPTION:Join us for our contemporary worship service in the Green Wood Sanctuary on Saturdays at 5 p.m.
URL:https://www.fumc-a2.org/event/green-wood-worship-4-3/2025-05-03/
LOCATION:MI
CATEGORIES:Evening,Worship
END:VEVENT
BEGIN:VEVENT
DTSTART;TZID=America/Detroit:20250504T100000
DTEND;TZID=America/Detroit:20250504T110000
DTSTAMP:20260421T084151
CREATED:20250411T171607Z
LAST-MODIFIED:20250411T171819Z
UID:10010832-1746352800-1746356400@www.fumc-a2.org
SUMMARY:Traditional Worship
DESCRIPTION:Join us for our traditional worship service downtown on Sundays at 10 a.m. Or livestream the service on YouTube.
URL:https://www.fumc-a2.org/event/downtown-worship-4/2025-05-04/
LOCATION:MI
CATEGORIES:Morning,Worship
END:VEVENT
BEGIN:VEVENT
DTSTART;TZID=America/Detroit:20250504T100000
DTEND;TZID=America/Detroit:20250504T110000
DTSTAMP:20260421T084151
CREATED:20250415T222746Z
LAST-MODIFIED:20250415T222746Z
UID:10012806-1746352800-1746356400@www.fumc-a2.org
SUMMARY:Kindergarten Milestone
DESCRIPTION:On Sunday\, May 4\, during the 10 a.m. service\, our Kindergartens are invited to help Pastor Nancy lead the congregation in the Lord’s Prayer during service. Register here.
URL:https://www.fumc-a2.org/event/kindergarten-milestone/
LOCATION:MI
CATEGORIES:Kids,Morning,Volunteer event
END:VEVENT
BEGIN:VEVENT
DTSTART;TZID=America/Detroit:20250504T111500
DTEND;TZID=America/Detroit:20250504T121500
DTSTAMP:20260421T084151
CREATED:20250327T191818Z
LAST-MODIFIED:20250414T221812Z
UID:10012785-1746357300-1746360900@www.fumc-a2.org
SUMMARY:All-Church Meeting
DESCRIPTION:Join us for an All-Church Meeting on May 4 at 11:15 a.m. immediately following worship in the Main Sanctuary. Coffee will be provided. We will be sharing updates from each of our Strategic Priorities including facilities\, faith development\, community outreach\, and communications and marketing.  The Finance Committee will also be sharing an update on our current fiscal year as well as budget planning for next year.
URL:https://www.fumc-a2.org/event/all-church-meeting-5/
LOCATION:MI
CATEGORIES:Adults,Daytime,Morning
END:VEVENT
BEGIN:VEVENT
DTSTART;TZID=America/Detroit:20250504T113000
DTEND;TZID=America/Detroit:20250504T123000
DTSTAMP:20260421T084151
CREATED:20240906T152917Z
LAST-MODIFIED:20241002T135014Z
UID:10012334-1746358200-1746361800@www.fumc-a2.org
SUMMARY:Vital Action
DESCRIPTION:Join us for dialogue that moves us toward spiritual\, community and social transformation. Our conversation topics include race and racism\, immigration\, culture and oppression. Everyone is invited to come and join the conversation! This group meets monthly on the first Sunday of each month at our downtown church or connect remotely via Zoom. \nContact Wendy Everett for more information. \nLearn more and find the Zoom link here.
URL:https://www.fumc-a2.org/event/vital-action-4/2025-05-04/
LOCATION:MI
CATEGORIES:Adult Faith Formation,Adults,Morning
END:VEVENT
BEGIN:VEVENT
DTSTART;TZID=America/Detroit:20250504T130000
DTEND;TZID=America/Detroit:20250504T140000
DTSTAMP:20260421T084151
CREATED:20241002T141601Z
LAST-MODIFIED:20241002T141601Z
UID:10012428-1746363600-1746367200@www.fumc-a2.org
SUMMARY:Global Issues
DESCRIPTION:This group uses the Foreign Policy association Great Decisions DVD & book\, which can be found at fpa.org. Occasionally\, participants bring in items from the news for group discussion. \nThe curriculum is secular\, but the group looks at the issues from a Christian perspective\, asking\, “What are we called to do about it?” Our guiding principle can be found in Micah (chapter 6\, verse 8): “What does the Lord require of you but to act justly\, to love kindness\, and to walk humbly with your God?” \nContact Wendy Everett for more information. \nLearn more and find the Zoom link here.
URL:https://www.fumc-a2.org/event/global-issues-5/2025-05-04/
LOCATION:Zoom
CATEGORIES:Adults,Daytime
END:VEVENT
BEGIN:VEVENT
DTSTART;TZID=America/Detroit:20250504T180000
DTEND;TZID=America/Detroit:20250504T200000
DTSTAMP:20260421T084151
CREATED:20250108T001649Z
LAST-MODIFIED:20250411T171222Z
UID:10012596-1746381600-1746388800@www.fumc-a2.org
SUMMARY:Youth Group
DESCRIPTION:Youth group meets Sundays from 6-8 p.m. Programming is wrapped around building faith while having fun. The meeting starts with dinner together in the Social Hall. \nQuestions? Email info@fumc-a2.org.
URL:https://www.fumc-a2.org/event/youth-group-25/2025-05-04/
LOCATION:MI
CATEGORIES:Youth
END:VEVENT
BEGIN:VEVENT
DTSTART;TZID=America/Detroit:20250506T120000
DTEND;TZID=America/Detroit:20250506T130000
DTSTAMP:20260421T084151
CREATED:20240924T201116Z
LAST-MODIFIED:20241117T175542Z
UID:10012540-1746532800-1746536400@www.fumc-a2.org
SUMMARY:Open Table Tuesdays
DESCRIPTION:Open Table Tuesday: Conversations about Faith and the Bible \n\n\n\nThis friendly group studies the Bible together weekly at lunch time on Tuesday – you are welcome to bring your lunch\, have a Bible handy\, and join us. No assigned reading\, no homework! \nLearn more and access the weekly Zoom link here.
URL:https://www.fumc-a2.org/event/open-table-tuesdays-2/2025-05-06/
LOCATION:Zoom
CATEGORIES:Adult Faith Formation,Adults,Daytime
END:VEVENT
BEGIN:VEVENT
DTSTART;TZID=America/Detroit:20250507T080000
DTEND;TZID=America/Detroit:20250507T083000
DTSTAMP:20260421T084151
CREATED:20240624T145359Z
LAST-MODIFIED:20250527T142428Z
UID:10011428-1746604800-1746606600@www.fumc-a2.org
SUMMARY:Rise and Shine Service
DESCRIPTION:Start your day with scripture\, song\, prayer concerns and gratitudes! No sermon. You can be on your way by 8:30 a.m. \nJoin the Zoom meeting here. \nQuestions? Contact Amy Kennedy.
URL:https://www.fumc-a2.org/event/rise-and-shine-service/2025-05-07/
LOCATION:Zoom
CATEGORIES:Adults,Morning,Worship
END:VEVENT
BEGIN:VEVENT
DTSTART;TZID=America/Detroit:20250507T190000
DTEND;TZID=America/Detroit:20250507T203000
DTSTAMP:20260421T084151
CREATED:20250210T213039Z
LAST-MODIFIED:20250211T181331Z
UID:10012697-1746644400-1746649800@www.fumc-a2.org
SUMMARY:Chancel Choir rehearsal
DESCRIPTION:All are welcome to join the Chancel Choir at any time – no experience is necessary. The Chancel Choir rehearses weekly on Wednesday evenings\, then again prior to 10am Sunday services. \nOccasional retreats are planned to prepare for larger works. \nWith interest or questions about the Chancel Choir\, please contact Ken Sieloff. \nJoin the choir here.
URL:https://www.fumc-a2.org/event/chancel-choir-rehearsal-2-2/2025-05-07/
LOCATION:MI
CATEGORIES:Adults,Evening,Music,Worship
END:VEVENT
BEGIN:VEVENT
DTSTART;TZID=America/Detroit:20250508T193000
DTEND;TZID=America/Detroit:20250508T203000
DTSTAMP:20260421T084151
CREATED:20240906T145707Z
LAST-MODIFIED:20241117T175459Z
UID:10012517-1746732600-1746736200@www.fumc-a2.org
SUMMARY:Open Table Thursdays
DESCRIPTION:Open Table Thursday: Conversations about Faith and the Bible \n\nThis friendly group studies the Bible together on Thursday evenings – please feel welcome to join us at 7:30 p.m. No assigned reading\, no homework (have a Bible handy though)! \nLearn more and access the weekly Zoom link here.
URL:https://www.fumc-a2.org/event/open-table-thursdays/2025-05-08/
LOCATION:Zoom
CATEGORIES:Adult Faith Formation,Adults,Evening
END:VEVENT
BEGIN:VEVENT
DTSTART;TZID=America/Detroit:20250509T110000
DTEND;TZID=America/Detroit:20250509T120000
DTSTAMP:20260421T084151
CREATED:20250507T144153Z
LAST-MODIFIED:20250507T144153Z
UID:10012810-1746788400-1746792000@www.fumc-a2.org
SUMMARY:Keith Knudsen Memorial Service
DESCRIPTION:
URL:https://www.fumc-a2.org/event/keith-knudsen-memorial-service/
LOCATION:MI
CATEGORIES:Memorial Service,Morning
END:VEVENT
BEGIN:VEVENT
DTSTART;TZID=America/Detroit:20250510T083000
DTEND;TZID=America/Detroit:20250510T100000
DTSTAMP:20260421T084151
CREATED:20230823T164618Z
LAST-MODIFIED:20230828T224344Z
UID:10009532-1746865800-1746871200@www.fumc-a2.org
SUMMARY:Men of Faith
DESCRIPTION:This is a group for men who want to gather to share spiritual program material\, “God Sightings” and prayer. All men who are interested in growing their faith through study\, sharing and prayer are welcome to join! Questions? Contact Jim Higdon or Mark Wickham. \nLearn more about this offering.
URL:https://www.fumc-a2.org/event/men-of-faith/2025-05-10/
LOCATION:Zoom
CATEGORIES:Adult Faith Formation,Adults,Morning
END:VEVENT
BEGIN:VEVENT
DTSTART;TZID=America/Detroit:20250510T170000
DTEND;TZID=America/Detroit:20250510T180000
DTSTAMP:20260421T084151
CREATED:20250409T013409Z
LAST-MODIFIED:20250409T013411Z
UID:10011094-1746896400-1746900000@www.fumc-a2.org
SUMMARY:Contemporary Worship
DESCRIPTION:Join us for our contemporary worship service in the Green Wood Sanctuary on Saturdays at 5 p.m.
URL:https://www.fumc-a2.org/event/green-wood-worship-4-3/2025-05-10/
LOCATION:MI
CATEGORIES:Evening,Worship
END:VEVENT
BEGIN:VEVENT
DTSTART;TZID=America/Detroit:20250511T100000
DTEND;TZID=America/Detroit:20250511T110000
DTSTAMP:20260421T084151
CREATED:20250108T002306Z
LAST-MODIFIED:20250411T171157Z
UID:10012613-1746957600-1746961200@www.fumc-a2.org
SUMMARY:Sol Café
DESCRIPTION:Sol Café meets Sundays at 10 a.m. in Calkins (during the worship service). Sol Café is a faith formation time for middle and high schoolers. The program material encourages spiritual growth through discussion and small group interaction. \nPlease note: Sol Café does not meet the first Sunday of the month.
URL:https://www.fumc-a2.org/event/sol-cafe/2025-05-11/
LOCATION:MI
CATEGORIES:Youth
END:VEVENT
BEGIN:VEVENT
DTSTART;TZID=America/Detroit:20250511T100000
DTEND;TZID=America/Detroit:20250511T110000
DTSTAMP:20260421T084151
CREATED:20250411T171607Z
LAST-MODIFIED:20250411T171819Z
UID:10010833-1746957600-1746961200@www.fumc-a2.org
SUMMARY:Traditional Worship
DESCRIPTION:Join us for our traditional worship service downtown on Sundays at 10 a.m. Or livestream the service on YouTube.
URL:https://www.fumc-a2.org/event/downtown-worship-4/2025-05-11/
LOCATION:MI
CATEGORIES:Morning,Worship
END:VEVENT
END:VCALENDAR