BEGIN:VCALENDAR
VERSION:2.0
PRODID:-//First United Methodist Church - ECPv6.15.17.1//NONSGML v1.0//EN
CALSCALE:GREGORIAN
METHOD:PUBLISH
X-WR-CALNAME:First United Methodist Church
X-ORIGINAL-URL:https://www.fumc-a2.org
X-WR-CALDESC:Events for First United Methodist Church
REFRESH-INTERVAL;VALUE=DURATION:PT1H
X-Robots-Tag:noindex
X-PUBLISHED-TTL:PT1H
BEGIN:VTIMEZONE
TZID:America/Detroit
BEGIN:DAYLIGHT
TZOFFSETFROM:-0500
TZOFFSETTO:-0400
TZNAME:EDT
DTSTART:20240310T070000
END:DAYLIGHT
BEGIN:STANDARD
TZOFFSETFROM:-0400
TZOFFSETTO:-0500
TZNAME:EST
DTSTART:20241103T060000
END:STANDARD
BEGIN:DAYLIGHT
TZOFFSETFROM:-0500
TZOFFSETTO:-0400
TZNAME:EDT
DTSTART:20250309T070000
END:DAYLIGHT
BEGIN:STANDARD
TZOFFSETFROM:-0400
TZOFFSETTO:-0500
TZNAME:EST
DTSTART:20251102T060000
END:STANDARD
BEGIN:DAYLIGHT
TZOFFSETFROM:-0500
TZOFFSETTO:-0400
TZNAME:EDT
DTSTART:20260308T070000
END:DAYLIGHT
BEGIN:STANDARD
TZOFFSETFROM:-0400
TZOFFSETTO:-0500
TZNAME:EST
DTSTART:20261101T060000
END:STANDARD
END:VTIMEZONE
BEGIN:VEVENT
DTSTART;TZID=America/Detroit:20250323T100000
DTEND;TZID=America/Detroit:20250323T110000
DTSTAMP:20260421T110324
CREATED:20240304T210408Z
LAST-MODIFIED:20240304T210408Z
UID:10010826-1742724000-1742727600@www.fumc-a2.org
SUMMARY:Downtown Worship
DESCRIPTION:Join for us worship downtown on Sundays at 10 a.m. Or livestream the service on YouTube.
URL:https://www.fumc-a2.org/event/downtown-worship/2025-03-23/
CATEGORIES:Morning,Worship
END:VEVENT
BEGIN:VEVENT
DTSTART;TZID=America/Detroit:20250322T180000
DTEND;TZID=America/Detroit:20250322T210000
DTSTAMP:20260421T110324
CREATED:20250220T020823Z
LAST-MODIFIED:20250221T013303Z
UID:10012771-1742666400-1742677200@www.fumc-a2.org
SUMMARY:Potluck & Game Night
DESCRIPTION:Everyone is invited to a potluck and game night at Green Wood following the service (6 p.m.). Bring a dish to pass and a game to share. Shorter games that are easy to learn with a lot of flexibility in participant number are best. Questions? Email wendy@fumc-a2.org.
URL:https://www.fumc-a2.org/event/potluck-game-night-2/
CATEGORIES:Evening
END:VEVENT
BEGIN:VEVENT
DTSTART;TZID=America/Detroit:20250322T170000
DTEND;TZID=America/Detroit:20250322T180000
DTSTAMP:20260421T110324
CREATED:20240304T210611Z
LAST-MODIFIED:20240304T210611Z
UID:10011087-1742662800-1742666400@www.fumc-a2.org
SUMMARY:Green Wood Worship
DESCRIPTION:Join us for worship at Green Wood on Saturdays at 5 p.m.
URL:https://www.fumc-a2.org/event/green-wood-worship-4/2025-03-22/
CATEGORIES:Evening,Worship
END:VEVENT
BEGIN:VEVENT
DTSTART;TZID=America/Detroit:20250322T100000
DTEND;TZID=America/Detroit:20250322T120000
DTSTAMP:20260421T110324
CREATED:20250311T225521Z
LAST-MODIFIED:20250311T225521Z
UID:10012780-1742637600-1742644800@www.fumc-a2.org
SUMMARY:Green Wood Chair Cleaning
DESCRIPTION:Please join us for chair cleaning at Green Wood on March 22 from 10 a.m.-noon. We will be cleaning\, polishing and putting leg bumpers on 60 chairs that will be moving from Green Wood to downtown. \nQuestions? Contact Kim Garver.
URL:https://www.fumc-a2.org/event/green-wood-chair-cleaning/
END:VEVENT
BEGIN:VEVENT
DTSTART;TZID=America/Detroit:20250322T083000
DTEND;TZID=America/Detroit:20250322T100000
DTSTAMP:20260421T110324
CREATED:20230823T164618Z
LAST-MODIFIED:20230828T224344Z
UID:10009525-1742632200-1742637600@www.fumc-a2.org
SUMMARY:Men of Faith
DESCRIPTION:This is a group for men who want to gather to share spiritual program material\, “God Sightings” and prayer. All men who are interested in growing their faith through study\, sharing and prayer are welcome to join! Questions? Contact Jim Higdon or Mark Wickham. \nLearn more about this offering.
URL:https://www.fumc-a2.org/event/men-of-faith/2025-03-22/
LOCATION:Zoom
CATEGORIES:Adult Faith Formation,Adults,Morning
END:VEVENT
BEGIN:VEVENT
DTSTART;TZID=America/Detroit:20250320T193000
DTEND;TZID=America/Detroit:20250320T203000
DTSTAMP:20260421T110324
CREATED:20240906T145707Z
LAST-MODIFIED:20241117T175459Z
UID:10012510-1742499000-1742502600@www.fumc-a2.org
SUMMARY:Open Table Thursdays
DESCRIPTION:Open Table Thursday: Conversations about Faith and the Bible \n\nThis friendly group studies the Bible together on Thursday evenings – please feel welcome to join us at 7:30 p.m. No assigned reading\, no homework (have a Bible handy though)! \nLearn more and access the weekly Zoom link here.
URL:https://www.fumc-a2.org/event/open-table-thursdays/2025-03-20/
LOCATION:Zoom
CATEGORIES:Adult Faith Formation,Adults,Evening
END:VEVENT
BEGIN:VEVENT
DTSTART;TZID=America/Detroit:20250320T183000
DTEND;TZID=America/Detroit:20250320T200000
DTSTAMP:20260421T110324
CREATED:20240906T140729Z
LAST-MODIFIED:20240930T191506Z
UID:10011530-1742495400-1742500800@www.fumc-a2.org
SUMMARY:Disciple Fast Track
DESCRIPTION:Disciple Bible Study draws upon the work of scholars\, personal Bible reading and study\, and dynamic group discussion. Led by our veteran Disciple leaders Carole Dehart & Debbie Houghton\, hybrid meetings take place on Thursdays 6:30-8 p.m. at the downtown church. \nLearn more about this offering. \nQuestions? Contact Wendy at wendy@fumc-a2.org.
URL:https://www.fumc-a2.org/event/disciple-fast-track/2025-03-20/
CATEGORIES:Adult Faith Formation,Adults
END:VEVENT
BEGIN:VEVENT
DTSTART;TZID=America/Detroit:20250319T190000
DTEND;TZID=America/Detroit:20250319T203000
DTSTAMP:20260421T110324
CREATED:20250210T213039Z
LAST-MODIFIED:20250211T181331Z
UID:10012690-1742410800-1742416200@www.fumc-a2.org
SUMMARY:Chancel Choir rehearsal
DESCRIPTION:All are welcome to join the Chancel Choir at any time – no experience is necessary. The Chancel Choir rehearses weekly on Wednesday evenings\, then again prior to 10am Sunday services. \nOccasional retreats are planned to prepare for larger works. \nWith interest or questions about the Chancel Choir\, please contact Ken Sieloff. \nJoin the choir here.
URL:https://www.fumc-a2.org/event/chancel-choir-rehearsal-2-2/2025-03-19/
CATEGORIES:Adults,Evening,Music,Worship
END:VEVENT
BEGIN:VEVENT
DTSTART;TZID=America/Detroit:20250319T080000
DTEND;TZID=America/Detroit:20250319T083000
DTSTAMP:20260421T110324
CREATED:20240624T145359Z
LAST-MODIFIED:20250527T142428Z
UID:10011421-1742371200-1742373000@www.fumc-a2.org
SUMMARY:Rise and Shine Service
DESCRIPTION:Start your day with scripture\, song\, prayer concerns and gratitudes! No sermon. You can be on your way by 8:30 a.m. \nJoin the Zoom meeting here. \nQuestions? Contact Amy Kennedy.
URL:https://www.fumc-a2.org/event/rise-and-shine-service/2025-03-19/
LOCATION:Zoom
CATEGORIES:Adults,Morning,Worship
END:VEVENT
BEGIN:VEVENT
DTSTART;TZID=America/Detroit:20250318T173000
DTEND;TZID=America/Detroit:20250318T190000
DTSTAMP:20260421T110324
CREATED:20250202T234138Z
LAST-MODIFIED:20250202T234138Z
UID:10012661-1742319000-1742324400@www.fumc-a2.org
SUMMARY:Tuesdays Together
DESCRIPTION:Building community with your faith family isn’t only for Sundays! Nourish your body\, mind and soul for six Tuesdays with a community meal and intentional explorations. \nJoin us March 11\, March 18\, March 25\, April 1\, April 8 and April 15. \nLearn and register here.
URL:https://www.fumc-a2.org/event/tuesdays-together-4/2025-03-18/
CATEGORIES:Adults,Evening,Families,Kids,Volunteer event,Young Adults,Youth
END:VEVENT
BEGIN:VEVENT
DTSTART;TZID=America/Detroit:20250318T120000
DTEND;TZID=America/Detroit:20250318T130000
DTSTAMP:20260421T110324
CREATED:20240924T201116Z
LAST-MODIFIED:20241117T175542Z
UID:10012533-1742299200-1742302800@www.fumc-a2.org
SUMMARY:Open Table Tuesdays
DESCRIPTION:Open Table Tuesday: Conversations about Faith and the Bible \n\n\n\nThis friendly group studies the Bible together weekly at lunch time on Tuesday – you are welcome to bring your lunch\, have a Bible handy\, and join us. No assigned reading\, no homework! \nLearn more and access the weekly Zoom link here.
URL:https://www.fumc-a2.org/event/open-table-tuesdays-2/2025-03-18/
LOCATION:Zoom
CATEGORIES:Adult Faith Formation,Adults,Daytime
END:VEVENT
BEGIN:VEVENT
DTSTART;TZID=America/Detroit:20250317T080000
DTEND;TZID=America/Detroit:20250317T090000
DTSTAMP:20260421T110324
CREATED:20241007T150141Z
LAST-MODIFIED:20241007T150145Z
UID:10011463-1742198400-1742202000@www.fumc-a2.org
SUMMARY:Mindful Monday
DESCRIPTION:All are welcome to join this group that practices different mindful techniques. \nJoin the Zoom meeting here. \nQuestions? Contact Amy Kennedy.
URL:https://www.fumc-a2.org/event/mindful-monday-4-2/2025-03-17/
LOCATION:Zoom
CATEGORIES:Adults,Morning
END:VEVENT
BEGIN:VEVENT
DTSTART;TZID=America/Detroit:20250316T180000
DTEND;TZID=America/Detroit:20250316T200000
DTSTAMP:20260421T110324
CREATED:20250108T001649Z
LAST-MODIFIED:20250411T171222Z
UID:10012589-1742148000-1742155200@www.fumc-a2.org
SUMMARY:Youth Group
DESCRIPTION:Youth group meets Sundays from 6-8 p.m. Programming is wrapped around building faith while having fun. The meeting starts with dinner together in the Social Hall. \nQuestions? Email info@fumc-a2.org.
URL:https://www.fumc-a2.org/event/youth-group-25/2025-03-16/
CATEGORIES:Youth
END:VEVENT
BEGIN:VEVENT
DTSTART;TZID=America/Detroit:20250316T130000
DTEND;TZID=America/Detroit:20250316T140000
DTSTAMP:20260421T110324
CREATED:20241002T141601Z
LAST-MODIFIED:20241002T141601Z
UID:10012421-1742130000-1742133600@www.fumc-a2.org
SUMMARY:Global Issues
DESCRIPTION:This group uses the Foreign Policy association Great Decisions DVD & book\, which can be found at fpa.org. Occasionally\, participants bring in items from the news for group discussion. \nThe curriculum is secular\, but the group looks at the issues from a Christian perspective\, asking\, “What are we called to do about it?” Our guiding principle can be found in Micah (chapter 6\, verse 8): “What does the Lord require of you but to act justly\, to love kindness\, and to walk humbly with your God?” \nContact Wendy Everett for more information. \nLearn more and find the Zoom link here.
URL:https://www.fumc-a2.org/event/global-issues-5/2025-03-16/
LOCATION:Zoom
CATEGORIES:Adults,Daytime
END:VEVENT
BEGIN:VEVENT
DTSTART;TZID=America/Detroit:20250316T113000
DTEND;TZID=America/Detroit:20250316T124500
DTSTAMP:20260421T110324
CREATED:20241112T174305Z
LAST-MODIFIED:20241112T174308Z
UID:10012490-1742124600-1742129100@www.fumc-a2.org
SUMMARY:Disability Awareness Talks
DESCRIPTION:Join us to learn and share about the challenges that people with all sorts of disabilities and struggles encounter and also the gifts that they offer. Becoming more aware is the first step in being more inclusive and welcoming. This group typically meets at our downtown church in Calkins or connect remotely via Zoom. \nLearn more and find the Zoom link here. \nQuestions? Contact Wendy Everett.
URL:https://www.fumc-a2.org/event/disability-awareness-talks-9-2/2025-03-16/
CATEGORIES:Adult Faith Formation,Adults,Daytime
END:VEVENT
BEGIN:VEVENT
DTSTART;TZID=America/Detroit:20250316T110000
DTEND;TZID=America/Detroit:20250316T113000
DTSTAMP:20260421T110324
CREATED:20250205T151152Z
LAST-MODIFIED:20250205T151152Z
UID:10012667-1742122800-1742124600@www.fumc-a2.org
SUMMARY:Behind the Scenes Tour
DESCRIPTION:Join us for a tour of our church that will acquaint you with areas of the church not well-known to most but of interest to many.
URL:https://www.fumc-a2.org/event/behind-the-scenes-tour/2025-03-16/
CATEGORIES:Adults,Morning
END:VEVENT
BEGIN:VEVENT
DTSTART;TZID=America/Detroit:20250316T101500
DTEND;TZID=America/Detroit:20250316T110000
DTSTAMP:20260421T110324
CREATED:20240610T133426Z
LAST-MODIFIED:20250411T171132Z
UID:10011362-1742120100-1742122800@www.fumc-a2.org
SUMMARY:Kids Sunday School
DESCRIPTION:Join us at 10:15 a.m. following the children’s moment! We will meet in the Social Hall. \nSunday School is nursery through 5th grade. \nWe do not meet on the first Sunday of the month. \nQuestions? Email childrensministry@fumc-a2.org.
URL:https://www.fumc-a2.org/event/kids-sunday-school-4/2025-03-16/
CATEGORIES:Kids,Morning
END:VEVENT
BEGIN:VEVENT
DTSTART;TZID=America/Detroit:20250316T100000
DTEND;TZID=America/Detroit:20250316T110000
DTSTAMP:20260421T110324
CREATED:20250108T002306Z
LAST-MODIFIED:20250411T171157Z
UID:10012607-1742119200-1742122800@www.fumc-a2.org
SUMMARY:Sol Café
DESCRIPTION:Sol Café meets Sundays at 10 a.m. in Calkins (during the worship service). Sol Café is a faith formation time for middle and high schoolers. The program material encourages spiritual growth through discussion and small group interaction. \nPlease note: Sol Café does not meet the first Sunday of the month.
URL:https://www.fumc-a2.org/event/sol-cafe/2025-03-16/
CATEGORIES:Youth
END:VEVENT
BEGIN:VEVENT
DTSTART;TZID=America/Detroit:20250316T100000
DTEND;TZID=America/Detroit:20250316T110000
DTSTAMP:20260421T110324
CREATED:20240304T210408Z
LAST-MODIFIED:20240304T210408Z
UID:10010825-1742119200-1742122800@www.fumc-a2.org
SUMMARY:Downtown Worship
DESCRIPTION:Join for us worship downtown on Sundays at 10 a.m. Or livestream the service on YouTube.
URL:https://www.fumc-a2.org/event/downtown-worship/2025-03-16/
CATEGORIES:Morning,Worship
END:VEVENT
BEGIN:VEVENT
DTSTART;TZID=America/Detroit:20250315T170000
DTEND;TZID=America/Detroit:20250315T180000
DTSTAMP:20260421T110324
CREATED:20240304T210611Z
LAST-MODIFIED:20240304T210611Z
UID:10011086-1742058000-1742061600@www.fumc-a2.org
SUMMARY:Green Wood Worship
DESCRIPTION:Join us for worship at Green Wood on Saturdays at 5 p.m.
URL:https://www.fumc-a2.org/event/green-wood-worship-4/2025-03-15/
CATEGORIES:Evening,Worship
END:VEVENT
BEGIN:VEVENT
DTSTART;TZID=America/Detroit:20250315T110000
DTEND;TZID=America/Detroit:20250315T120000
DTSTAMP:20260421T110324
CREATED:20250307T190036Z
LAST-MODIFIED:20250307T190036Z
UID:10012777-1742036400-1742040000@www.fumc-a2.org
SUMMARY:Paul Jonte-Crane Memorial Service
DESCRIPTION:
URL:https://www.fumc-a2.org/event/paul-jonte-crane-memorial-service/
CATEGORIES:Daytime,Morning
END:VEVENT
BEGIN:VEVENT
DTSTART;TZID=America/Detroit:20250315T083000
DTEND;TZID=America/Detroit:20250315T100000
DTSTAMP:20260421T110324
CREATED:20230823T164618Z
LAST-MODIFIED:20230828T224344Z
UID:10009524-1742027400-1742032800@www.fumc-a2.org
SUMMARY:Men of Faith
DESCRIPTION:This is a group for men who want to gather to share spiritual program material\, “God Sightings” and prayer. All men who are interested in growing their faith through study\, sharing and prayer are welcome to join! Questions? Contact Jim Higdon or Mark Wickham. \nLearn more about this offering.
URL:https://www.fumc-a2.org/event/men-of-faith/2025-03-15/
LOCATION:Zoom
CATEGORIES:Adult Faith Formation,Adults,Morning
END:VEVENT
BEGIN:VEVENT
DTSTART;TZID=America/Detroit:20250313T193000
DTEND;TZID=America/Detroit:20250313T203000
DTSTAMP:20260421T110324
CREATED:20240906T145707Z
LAST-MODIFIED:20241117T175459Z
UID:10012509-1741894200-1741897800@www.fumc-a2.org
SUMMARY:Open Table Thursdays
DESCRIPTION:Open Table Thursday: Conversations about Faith and the Bible \n\nThis friendly group studies the Bible together on Thursday evenings – please feel welcome to join us at 7:30 p.m. No assigned reading\, no homework (have a Bible handy though)! \nLearn more and access the weekly Zoom link here.
URL:https://www.fumc-a2.org/event/open-table-thursdays/2025-03-13/
LOCATION:Zoom
CATEGORIES:Adult Faith Formation,Adults,Evening
END:VEVENT
BEGIN:VEVENT
DTSTART;TZID=America/Detroit:20250313T183000
DTEND;TZID=America/Detroit:20250313T200000
DTSTAMP:20260421T110324
CREATED:20240906T140729Z
LAST-MODIFIED:20240930T191506Z
UID:10011529-1741890600-1741896000@www.fumc-a2.org
SUMMARY:Disciple Fast Track
DESCRIPTION:Disciple Bible Study draws upon the work of scholars\, personal Bible reading and study\, and dynamic group discussion. Led by our veteran Disciple leaders Carole Dehart & Debbie Houghton\, hybrid meetings take place on Thursdays 6:30-8 p.m. at the downtown church. \nLearn more about this offering. \nQuestions? Contact Wendy at wendy@fumc-a2.org.
URL:https://www.fumc-a2.org/event/disciple-fast-track/2025-03-13/
CATEGORIES:Adult Faith Formation,Adults
END:VEVENT
BEGIN:VEVENT
DTSTART;TZID=America/Detroit:20250312T190000
DTEND;TZID=America/Detroit:20250312T203000
DTSTAMP:20260421T110324
CREATED:20250210T213039Z
LAST-MODIFIED:20250211T181331Z
UID:10012689-1741806000-1741811400@www.fumc-a2.org
SUMMARY:Chancel Choir rehearsal
DESCRIPTION:All are welcome to join the Chancel Choir at any time – no experience is necessary. The Chancel Choir rehearses weekly on Wednesday evenings\, then again prior to 10am Sunday services. \nOccasional retreats are planned to prepare for larger works. \nWith interest or questions about the Chancel Choir\, please contact Ken Sieloff. \nJoin the choir here.
URL:https://www.fumc-a2.org/event/chancel-choir-rehearsal-2-2/2025-03-12/
CATEGORIES:Adults,Evening,Music,Worship
END:VEVENT
BEGIN:VEVENT
DTSTART;TZID=America/Detroit:20250312T080000
DTEND;TZID=America/Detroit:20250312T083000
DTSTAMP:20260421T110324
CREATED:20240624T145359Z
LAST-MODIFIED:20250527T142428Z
UID:10011420-1741766400-1741768200@www.fumc-a2.org
SUMMARY:Rise and Shine Service
DESCRIPTION:Start your day with scripture\, song\, prayer concerns and gratitudes! No sermon. You can be on your way by 8:30 a.m. \nJoin the Zoom meeting here. \nQuestions? Contact Amy Kennedy.
URL:https://www.fumc-a2.org/event/rise-and-shine-service/2025-03-12/
LOCATION:Zoom
CATEGORIES:Adults,Morning,Worship
END:VEVENT
BEGIN:VEVENT
DTSTART;TZID=America/Detroit:20250311T173000
DTEND;TZID=America/Detroit:20250311T190000
DTSTAMP:20260421T110324
CREATED:20250202T234138Z
LAST-MODIFIED:20250202T234138Z
UID:10012660-1741714200-1741719600@www.fumc-a2.org
SUMMARY:Tuesdays Together
DESCRIPTION:Building community with your faith family isn’t only for Sundays! Nourish your body\, mind and soul for six Tuesdays with a community meal and intentional explorations. \nJoin us March 11\, March 18\, March 25\, April 1\, April 8 and April 15. \nLearn and register here.
URL:https://www.fumc-a2.org/event/tuesdays-together-4/2025-03-11/
CATEGORIES:Adults,Evening,Families,Kids,Volunteer event,Young Adults,Youth
END:VEVENT
BEGIN:VEVENT
DTSTART;TZID=America/Detroit:20250311T120000
DTEND;TZID=America/Detroit:20250311T130000
DTSTAMP:20260421T110324
CREATED:20240924T201116Z
LAST-MODIFIED:20241117T175542Z
UID:10012532-1741694400-1741698000@www.fumc-a2.org
SUMMARY:Open Table Tuesdays
DESCRIPTION:Open Table Tuesday: Conversations about Faith and the Bible \n\n\n\nThis friendly group studies the Bible together weekly at lunch time on Tuesday – you are welcome to bring your lunch\, have a Bible handy\, and join us. No assigned reading\, no homework! \nLearn more and access the weekly Zoom link here.
URL:https://www.fumc-a2.org/event/open-table-tuesdays-2/2025-03-11/
LOCATION:Zoom
CATEGORIES:Adult Faith Formation,Adults,Daytime
END:VEVENT
BEGIN:VEVENT
DTSTART;TZID=America/Detroit:20250310T080000
DTEND;TZID=America/Detroit:20250310T090000
DTSTAMP:20260421T110324
CREATED:20241007T150141Z
LAST-MODIFIED:20241007T150145Z
UID:10011462-1741593600-1741597200@www.fumc-a2.org
SUMMARY:Mindful Monday
DESCRIPTION:All are welcome to join this group that practices different mindful techniques. \nJoin the Zoom meeting here. \nQuestions? Contact Amy Kennedy.
URL:https://www.fumc-a2.org/event/mindful-monday-4-2/2025-03-10/
LOCATION:Zoom
CATEGORIES:Adults,Morning
END:VEVENT
BEGIN:VEVENT
DTSTART;TZID=America/Detroit:20250309T180000
DTEND;TZID=America/Detroit:20250309T200000
DTSTAMP:20260421T110324
CREATED:20250108T001649Z
LAST-MODIFIED:20250411T171222Z
UID:10012588-1741543200-1741550400@www.fumc-a2.org
SUMMARY:Youth Group
DESCRIPTION:Youth group meets Sundays from 6-8 p.m. Programming is wrapped around building faith while having fun. The meeting starts with dinner together in the Social Hall. \nQuestions? Email info@fumc-a2.org.
URL:https://www.fumc-a2.org/event/youth-group-25/2025-03-09/
CATEGORIES:Youth
END:VEVENT
END:VCALENDAR