BEGIN:VCALENDAR
VERSION:2.0
PRODID:-//First United Methodist Church - ECPv6.15.17.1//NONSGML v1.0//EN
CALSCALE:GREGORIAN
METHOD:PUBLISH
X-WR-CALNAME:First United Methodist Church
X-ORIGINAL-URL:https://www.fumc-a2.org
X-WR-CALDESC:Events for First United Methodist Church
REFRESH-INTERVAL;VALUE=DURATION:PT1H
X-Robots-Tag:noindex
X-PUBLISHED-TTL:PT1H
BEGIN:VTIMEZONE
TZID:America/Detroit
BEGIN:DAYLIGHT
TZOFFSETFROM:-0500
TZOFFSETTO:-0400
TZNAME:EDT
DTSTART:20230312T070000
END:DAYLIGHT
BEGIN:STANDARD
TZOFFSETFROM:-0400
TZOFFSETTO:-0500
TZNAME:EST
DTSTART:20231105T060000
END:STANDARD
BEGIN:DAYLIGHT
TZOFFSETFROM:-0500
TZOFFSETTO:-0400
TZNAME:EDT
DTSTART:20240310T070000
END:DAYLIGHT
BEGIN:STANDARD
TZOFFSETFROM:-0400
TZOFFSETTO:-0500
TZNAME:EST
DTSTART:20241103T060000
END:STANDARD
BEGIN:DAYLIGHT
TZOFFSETFROM:-0500
TZOFFSETTO:-0400
TZNAME:EDT
DTSTART:20250309T070000
END:DAYLIGHT
BEGIN:STANDARD
TZOFFSETFROM:-0400
TZOFFSETTO:-0500
TZNAME:EST
DTSTART:20251102T060000
END:STANDARD
END:VTIMEZONE
BEGIN:VEVENT
DTSTART;TZID=America/Detroit:20240622T083000
DTEND;TZID=America/Detroit:20240622T100000
DTSTAMP:20260420T082727
CREATED:20230823T164618Z
LAST-MODIFIED:20230828T224344Z
UID:10009486-1719045000-1719050400@www.fumc-a2.org
SUMMARY:Men of Faith
DESCRIPTION:This is a group for men who want to gather to share spiritual program material\, “God Sightings” and prayer. All men who are interested in growing their faith through study\, sharing and prayer are welcome to join! Questions? Contact Jim Higdon or Mark Wickham. \nLearn more about this offering.
URL:https://www.fumc-a2.org/event/men-of-faith/2024-06-22/
LOCATION:Zoom
CATEGORIES:Adult Faith Formation,Adults,Morning
END:VEVENT
BEGIN:VEVENT
DTSTART;VALUE=DATE:20240619
DTEND;VALUE=DATE:20240620
DTSTAMP:20260420T082727
CREATED:20231211T145500Z
LAST-MODIFIED:20231211T145500Z
UID:10010411-1718755200-1718841599@www.fumc-a2.org
SUMMARY:Office closed
DESCRIPTION:The church office is closed Wednesday\, June 19.
URL:https://www.fumc-a2.org/event/office-closed-19/
END:VEVENT
BEGIN:VEVENT
DTSTART;TZID=America/Detroit:20240616T113000
DTEND;TZID=America/Detroit:20240616T123000
DTSTAMP:20260420T082727
CREATED:20240423T174248Z
LAST-MODIFIED:20240423T174248Z
UID:10011316-1718537400-1718541000@www.fumc-a2.org
SUMMARY:Family Worship
DESCRIPTION:June 9\, 16\, 23 & 30 at 11:30 a.m. \nOur interactive Family Worship service is especially for kids and their families! We will have all the traditional parts of a worship service but using activities that are engaging and interactive as families worship together.
URL:https://www.fumc-a2.org/event/family-worship/2024-06-16/
CATEGORIES:Daytime,Families,Kids,Morning,Worship
END:VEVENT
BEGIN:VEVENT
DTSTART;TZID=America/Detroit:20240616T100000
DTEND;TZID=America/Detroit:20240616T110000
DTSTAMP:20260420T082727
CREATED:20240304T210408Z
LAST-MODIFIED:20240304T210408Z
UID:10010786-1718532000-1718535600@www.fumc-a2.org
SUMMARY:Downtown Worship
DESCRIPTION:Join for us worship downtown on Sundays at 10 a.m. Or livestream the service on YouTube.
URL:https://www.fumc-a2.org/event/downtown-worship/2024-06-16/
CATEGORIES:Morning,Worship
END:VEVENT
BEGIN:VEVENT
DTSTART;TZID=America/Detroit:20240615T170000
DTEND;TZID=America/Detroit:20240615T180000
DTSTAMP:20260420T082727
CREATED:20240304T210611Z
LAST-MODIFIED:20240304T210611Z
UID:10011047-1718470800-1718474400@www.fumc-a2.org
SUMMARY:Green Wood Worship
DESCRIPTION:Join us for worship at Green Wood on Saturdays at 5 p.m.
URL:https://www.fumc-a2.org/event/green-wood-worship-4/2024-06-15/
CATEGORIES:Evening,Worship
END:VEVENT
BEGIN:VEVENT
DTSTART;TZID=America/Detroit:20240615T150000
DTEND;TZID=America/Detroit:20240615T160000
DTSTAMP:20260420T082727
CREATED:20240613T175337Z
LAST-MODIFIED:20240613T175337Z
UID:10011391-1718463600-1718467200@www.fumc-a2.org
SUMMARY:Chapel Renovation Teams Listening Session
DESCRIPTION:The Green Wood transition has produced an inspirational vision for the future in the recent Green Wood Task Force report to Leadership Council\, view it here.\n\nSeveral teams are forming to ensure we celebrate the decades of Green Wood/Glacier Way UMC while bringing the welcoming\, casual\, contemporary experience of Green Wood to our new location. We have two opportunities for you to share your ideas: Saturday at 1 p.m.\, meet at the downtown Chapel to contribute ideas to the chapel renovation team. Saturday at 3 p.m.\, meet at Green Wood to learn about the teams and how you might help.
URL:https://www.fumc-a2.org/event/chapel-renovation-teams-listening-session/
END:VEVENT
BEGIN:VEVENT
DTSTART;TZID=America/Detroit:20240615T130000
DTEND;TZID=America/Detroit:20240615T143000
DTSTAMP:20260420T082727
CREATED:20240605T160316Z
LAST-MODIFIED:20240606T171950Z
UID:10011338-1718456400-1718461800@www.fumc-a2.org
SUMMARY:Chapel Redesign Listening Session
DESCRIPTION:The Chapel Redesign Team is inviting the Green Wood congregation to a “listening session” in the Social Hall. The agenda will include a 15 minute tour of the space by our architect and chair of trustees\, Anne Cox.  You will then be given cards to indicate your one most important “needs\, wants and musts” for the project.  These cards will then be sorted into each category and each participant will be given 10 colored sticky dots to place adjacent to the most important items on each list.  After identifying the top musts\, wants and needs from the group we will have a facilitated discussion with Anne to discuss additional details for each of these priorities. Snacks and beverages will be provided in the social hall at the end of the session.
URL:https://www.fumc-a2.org/event/chapel-redesign-listening-session/
CATEGORIES:Daytime
END:VEVENT
BEGIN:VEVENT
DTSTART;TZID=America/Detroit:20240615T083000
DTEND;TZID=America/Detroit:20240615T100000
DTSTAMP:20260420T082727
CREATED:20230823T164618Z
LAST-MODIFIED:20230828T224344Z
UID:10009485-1718440200-1718445600@www.fumc-a2.org
SUMMARY:Men of Faith
DESCRIPTION:This is a group for men who want to gather to share spiritual program material\, “God Sightings” and prayer. All men who are interested in growing their faith through study\, sharing and prayer are welcome to join! Questions? Contact Jim Higdon or Mark Wickham. \nLearn more about this offering.
URL:https://www.fumc-a2.org/event/men-of-faith/2024-06-15/
LOCATION:Zoom
CATEGORIES:Adult Faith Formation,Adults,Morning
END:VEVENT
BEGIN:VEVENT
DTSTART;TZID=America/Detroit:20240612T190000
DTEND;TZID=America/Detroit:20240612T203000
DTSTAMP:20260420T082727
CREATED:20240605T190709Z
LAST-MODIFIED:20240606T171853Z
UID:10011339-1718218800-1718224200@www.fumc-a2.org
SUMMARY:Chapel Redesign Listening Session for Music Group
DESCRIPTION:The Chapel Redesign Team is inviting Music and Choir to a “listening session” in the Social Hall. The agenda will include a 15 minute tour of the space by our architect and chair of trustees\, Anne Cox.  You will then be given cards to indicate your one most important “needs\, wants and musts” for the project.  These cards will then be sorted into each category and each participant will be given 10 colored sticky dots to place adjacent to the most important items on each list.  After identifying the top musts\, wants and needs from the group we will have a facilitated discussion with Anne to discuss additional details for each of these priorities. Snacks and beverages will be provided in the social hall at the end of the session.
URL:https://www.fumc-a2.org/event/chapel-redesign-listening-session-for-music-group/
CATEGORIES:Evening
END:VEVENT
BEGIN:VEVENT
DTSTART;TZID=America/Detroit:20240610T080000
DTEND;TZID=America/Detroit:20240610T090000
DTSTAMP:20260420T082727
CREATED:20240520T140350Z
LAST-MODIFIED:20240520T140350Z
UID:10011323-1718006400-1718010000@www.fumc-a2.org
SUMMARY:Mindful Monday
DESCRIPTION:All are welcome to join this group that practices different mindful techniques. \nJoin the Zoom meeting here. \nQuestions? Contact Amy Kennedy.
URL:https://www.fumc-a2.org/event/mindful-monday-3/2024-06-10/
LOCATION:Zoom
CATEGORIES:Adult Faith Formation,Adults,Morning
END:VEVENT
BEGIN:VEVENT
DTSTART;TZID=America/Detroit:20240609T113000
DTEND;TZID=America/Detroit:20240609T124500
DTSTAMP:20260420T082727
CREATED:20240607T182402Z
LAST-MODIFIED:20240607T182402Z
UID:10011340-1717932600-1717937100@www.fumc-a2.org
SUMMARY:Disability Awareness Talks
DESCRIPTION:We will meet June 9 at 11:30 a.m. to discuss the book\, “The Heaven and Earth Grocery Store” by James McBride. This book has several characters who navigate life with a disability. Please be advised there is some abusive behavior described in the book. Amy Kennedy will lead our discussion.\n\nFind the Zoom link here.
URL:https://www.fumc-a2.org/event/disability-awareness-talks-7/
LOCATION:Zoom
CATEGORIES:Adult Faith Formation,Adults,Daytime
END:VEVENT
BEGIN:VEVENT
DTSTART;TZID=America/Detroit:20240609T113000
DTEND;TZID=America/Detroit:20240609T123000
DTSTAMP:20260420T082727
CREATED:20240423T174248Z
LAST-MODIFIED:20240423T174248Z
UID:10011315-1717932600-1717936200@www.fumc-a2.org
SUMMARY:Family Worship
DESCRIPTION:June 9\, 16\, 23 & 30 at 11:30 a.m. \nOur interactive Family Worship service is especially for kids and their families! We will have all the traditional parts of a worship service but using activities that are engaging and interactive as families worship together.
URL:https://www.fumc-a2.org/event/family-worship/2024-06-09/
CATEGORIES:Daytime,Families,Kids,Morning,Worship
END:VEVENT
BEGIN:VEVENT
DTSTART;TZID=America/Detroit:20240609T100000
DTEND;TZID=America/Detroit:20240609T110000
DTSTAMP:20260420T082727
CREATED:20240304T210408Z
LAST-MODIFIED:20240304T210408Z
UID:10010785-1717927200-1717930800@www.fumc-a2.org
SUMMARY:Downtown Worship
DESCRIPTION:Join for us worship downtown on Sundays at 10 a.m. Or livestream the service on YouTube.
URL:https://www.fumc-a2.org/event/downtown-worship/2024-06-09/
CATEGORIES:Morning,Worship
END:VEVENT
BEGIN:VEVENT
DTSTART;TZID=America/Detroit:20240608T170000
DTEND;TZID=America/Detroit:20240608T180000
DTSTAMP:20260420T082727
CREATED:20240304T210611Z
LAST-MODIFIED:20240304T210611Z
UID:10011046-1717866000-1717869600@www.fumc-a2.org
SUMMARY:Green Wood Worship
DESCRIPTION:Join us for worship at Green Wood on Saturdays at 5 p.m.
URL:https://www.fumc-a2.org/event/green-wood-worship-4/2024-06-08/
CATEGORIES:Evening,Worship
END:VEVENT
BEGIN:VEVENT
DTSTART;TZID=America/Detroit:20240608T100000
DTEND;TZID=America/Detroit:20240608T130000
DTSTAMP:20260420T082727
CREATED:20240417T190942Z
LAST-MODIFIED:20240530T172345Z
UID:10011314-1717840800-1717851600@www.fumc-a2.org
SUMMARY:Drop & Swap Event
DESCRIPTION:Spring cleaning is the perfect way to get ready for the swap! The purpose of this event is to promote environmental and economic sustainability as well as promote community. \nSign up to volunteer for the event here. \nYou are welcome to drop off items in good condition that you no longer need or want the day before (June 7 from 6-7:30 p.m.) or the day of the event (June 8 from 9-10 a.m.) at Green Wood. On the day of the event everyone can take any items. You do not need to donate items to pick up items. \nThese items include: \n\n\nChildren’s clothes – newborn\, 0-3m\, 3-6m\, 6-9m\, 9-12m\, 18m\, 2T\, 3T\, 4T\, 5T and up \n\n\nTeen clothes/young adult \n\n\nChildren’s shoes \n\n\nBaby equipment/supplies \n\n\nToys/games \n\n\nChildren’s vooks \n\n\nChildren’s sports equipment \n\n\nMaternity clothes \n\n\nMen’s clothes and shoes \n\n\nWomen’s clothes and shoes \n\n\nCrafts/art supplies \n\n\nKitchen items including small appliances \n\n\nHousehold decor \n\n\nAccessories (purses\, backpacks\, jewelry\, watches\, belts) \n\n\nItems will need to be laundered and cleaned. Please no broken items\, items with holes/stains or furniture. Any remaining items will be donated to House by the Side of the Road & PTO Thriftshop. Contact Selyna Beverly if you have any questions.
URL:https://www.fumc-a2.org/event/drop-swap-event/
CATEGORIES:Adults,Daytime,Families,Morning
END:VEVENT
BEGIN:VEVENT
DTSTART;TZID=America/Detroit:20240608T100000
DTEND;TZID=America/Detroit:20240608T113000
DTSTAMP:20260420T082727
CREATED:20240513T151328Z
LAST-MODIFIED:20240603T180207Z
UID:10011321-1717840800-1717846200@www.fumc-a2.org
SUMMARY:Understanding Injustice in Education
DESCRIPTION:Learn how the S.A.C. addresses the educational injustice in our community and what you can do about it. Our speaker is Peri Stone-Palmquist\, LSMW\, MPP\, Executive Director of S.A.C.  \nWe will meet downtown in Calkins Hall.
URL:https://www.fumc-a2.org/event/understanding-injustice-in-education/
CATEGORIES:Adults,Morning
END:VEVENT
BEGIN:VEVENT
DTSTART;TZID=America/Detroit:20240608T083000
DTEND;TZID=America/Detroit:20240608T100000
DTSTAMP:20260420T082727
CREATED:20230823T164618Z
LAST-MODIFIED:20230828T224344Z
UID:10009484-1717835400-1717840800@www.fumc-a2.org
SUMMARY:Men of Faith
DESCRIPTION:This is a group for men who want to gather to share spiritual program material\, “God Sightings” and prayer. All men who are interested in growing their faith through study\, sharing and prayer are welcome to join! Questions? Contact Jim Higdon or Mark Wickham. \nLearn more about this offering.
URL:https://www.fumc-a2.org/event/men-of-faith/2024-06-08/
LOCATION:Zoom
CATEGORIES:Adult Faith Formation,Adults,Morning
END:VEVENT
BEGIN:VEVENT
DTSTART;TZID=America/Detroit:20240603T140000
DTEND;TZID=America/Detroit:20240603T150000
DTSTAMP:20260420T082727
CREATED:20240522T132558Z
LAST-MODIFIED:20240522T132558Z
UID:10011324-1717423200-1717426800@www.fumc-a2.org
SUMMARY:Sermon Chat
DESCRIPTION:Join this drop-in group on Mondays for a review of Sunday’s sermon on Zoom. Discuss questions provided by the preacher and questions you may have. \nJoin the Zoom meeting here. \nQuestions? Contact Helen Ryan.
URL:https://www.fumc-a2.org/event/sermon-chat/
LOCATION:Zoom
CATEGORIES:Adults,Daytime
END:VEVENT
BEGIN:VEVENT
DTSTART;TZID=America/Detroit:20240603T080000
DTEND;TZID=America/Detroit:20240603T090000
DTSTAMP:20260420T082727
CREATED:20240520T140350Z
LAST-MODIFIED:20240520T140350Z
UID:10011322-1717401600-1717405200@www.fumc-a2.org
SUMMARY:Mindful Monday
DESCRIPTION:All are welcome to join this group that practices different mindful techniques. \nJoin the Zoom meeting here. \nQuestions? Contact Amy Kennedy.
URL:https://www.fumc-a2.org/event/mindful-monday-3/2024-06-03/
LOCATION:Zoom
CATEGORIES:Adult Faith Formation,Adults,Morning
END:VEVENT
BEGIN:VEVENT
DTSTART;TZID=America/Detroit:20240602T100000
DTEND;TZID=America/Detroit:20240602T110000
DTSTAMP:20260420T082727
CREATED:20240304T210408Z
LAST-MODIFIED:20240304T210408Z
UID:10010784-1717322400-1717326000@www.fumc-a2.org
SUMMARY:Downtown Worship
DESCRIPTION:Join for us worship downtown on Sundays at 10 a.m. Or livestream the service on YouTube.
URL:https://www.fumc-a2.org/event/downtown-worship/2024-06-02/
CATEGORIES:Morning,Worship
END:VEVENT
BEGIN:VEVENT
DTSTART;TZID=America/Detroit:20240601T170000
DTEND;TZID=America/Detroit:20240601T180000
DTSTAMP:20260420T082727
CREATED:20240304T210611Z
LAST-MODIFIED:20240304T210611Z
UID:10011045-1717261200-1717264800@www.fumc-a2.org
SUMMARY:Green Wood Worship
DESCRIPTION:Join us for worship at Green Wood on Saturdays at 5 p.m.
URL:https://www.fumc-a2.org/event/green-wood-worship-4/2024-06-01/
CATEGORIES:Evening,Worship
END:VEVENT
BEGIN:VEVENT
DTSTART;TZID=America/Detroit:20240601T083000
DTEND;TZID=America/Detroit:20240601T100000
DTSTAMP:20260420T082727
CREATED:20230823T164618Z
LAST-MODIFIED:20230828T224344Z
UID:10009483-1717230600-1717236000@www.fumc-a2.org
SUMMARY:Men of Faith
DESCRIPTION:This is a group for men who want to gather to share spiritual program material\, “God Sightings” and prayer. All men who are interested in growing their faith through study\, sharing and prayer are welcome to join! Questions? Contact Jim Higdon or Mark Wickham. \nLearn more about this offering.
URL:https://www.fumc-a2.org/event/men-of-faith/2024-06-01/
LOCATION:Zoom
CATEGORIES:Adult Faith Formation,Adults,Morning
END:VEVENT
BEGIN:VEVENT
DTSTART;TZID=America/Detroit:20240529T080000
DTEND;TZID=America/Detroit:20240529T083000
DTSTAMP:20260420T082727
CREATED:20230824T204751Z
LAST-MODIFIED:20230825T192626Z
UID:10009742-1716969600-1716971400@www.fumc-a2.org
SUMMARY:Rise and Shine Service
DESCRIPTION:Start your day with scripture\, song\, prayer concerns and gratitudes. No sermon. You can be on your way by 8:30 a.m. \nJoin the Zoom meeting here. \nQuestions? Contact Amy Kennedy.
URL:https://www.fumc-a2.org/event/rise-and-shine-service-4/2024-05-29/
LOCATION:Zoom
CATEGORIES:Adults,Morning,Worship
END:VEVENT
BEGIN:VEVENT
DTSTART;TZID=America/Detroit:20240528T190000
DTEND;TZID=America/Detroit:20240528T203000
DTSTAMP:20260420T082727
CREATED:20240528T182015Z
LAST-MODIFIED:20240528T182015Z
UID:10011337-1716922800-1716928200@www.fumc-a2.org
SUMMARY:Adult Faith Formation Summit
DESCRIPTION:Join us for our Adult Faith Formation Summit zoom meeting.\n\nJoin the Zoom meeting here.
URL:https://www.fumc-a2.org/event/adult-faith-formation-summit/
LOCATION:Zoom
CATEGORIES:Adult Faith Formation,Evening
END:VEVENT
BEGIN:VEVENT
DTSTART;VALUE=DATE:20240527
DTEND;VALUE=DATE:20240528
DTSTAMP:20260420T082727
CREATED:20231211T145409Z
LAST-MODIFIED:20231211T145409Z
UID:10010410-1716768000-1716854399@www.fumc-a2.org
SUMMARY:Office closed
DESCRIPTION:The church office is closed Monday\, May 27.
URL:https://www.fumc-a2.org/event/office-closed-18/
END:VEVENT
BEGIN:VEVENT
DTSTART;TZID=America/Detroit:20240526T130000
DTEND;TZID=America/Detroit:20240526T140000
DTSTAMP:20260420T082727
CREATED:20230823T164135Z
LAST-MODIFIED:20230905T145828Z
UID:10009442-1716728400-1716732000@www.fumc-a2.org
SUMMARY:Global Issues
DESCRIPTION:Global Issues uses the Foreign Policy Associations Great Decisions DVD & book. The curriculum is very secular\, but the group attempts to look at the issues from a Christian perspective asking\, “What are we called to do about it?” Occasionally\, participants bring in items from the news that the group discusses. Learn more about this offering. Questions? Contact Leo Shedden. \nJoin the Zoom meeting here.
URL:https://www.fumc-a2.org/event/global-issues-4/2024-05-26/
LOCATION:Zoom
CATEGORIES:Adult Faith Formation,Adults,Daytime
END:VEVENT
BEGIN:VEVENT
DTSTART;TZID=America/Detroit:20240526T113000
DTEND;TZID=America/Detroit:20240526T124500
DTSTAMP:20260420T082727
CREATED:20230919T224530Z
LAST-MODIFIED:20231011T181201Z
UID:10009889-1716723000-1716727500@www.fumc-a2.org
SUMMARY:Disability Awareness Talks
DESCRIPTION:Join us to learn and share about the challenges that people with all sorts of disabilities and struggles encounter and also the gifts that they offer. Becoming more aware is the first step in being more inclusive and welcoming. This group meets monthly on the fourth Sunday of each month at our downtown church in Calkins or connect remotely via Zoom. \nContact Wendy Everett for more information. \nLearn more and find the Zoom link here.
URL:https://www.fumc-a2.org/event/dat-3/2024-05-26/
LOCATION:Downtown Campus of First United Methodist Church or Zoom\, Michigan\, 48104
CATEGORIES:Adult Faith Formation,Adults,Daytime
END:VEVENT
BEGIN:VEVENT
DTSTART;TZID=America/Detroit:20240526T100000
DTEND;TZID=America/Detroit:20240526T110000
DTSTAMP:20260420T082727
CREATED:20240304T210408Z
LAST-MODIFIED:20240304T210408Z
UID:10010783-1716717600-1716721200@www.fumc-a2.org
SUMMARY:Downtown Worship
DESCRIPTION:Join for us worship downtown on Sundays at 10 a.m. Or livestream the service on YouTube.
URL:https://www.fumc-a2.org/event/downtown-worship/2024-05-26/
CATEGORIES:Morning,Worship
END:VEVENT
BEGIN:VEVENT
DTSTART;TZID=America/Detroit:20240525T170000
DTEND;TZID=America/Detroit:20240525T180000
DTSTAMP:20260420T082727
CREATED:20240304T210611Z
LAST-MODIFIED:20240304T210611Z
UID:10011044-1716656400-1716660000@www.fumc-a2.org
SUMMARY:Green Wood Worship
DESCRIPTION:Join us for worship at Green Wood on Saturdays at 5 p.m.
URL:https://www.fumc-a2.org/event/green-wood-worship-4/2024-05-25/
CATEGORIES:Evening,Worship
END:VEVENT
BEGIN:VEVENT
DTSTART;TZID=America/Detroit:20240525T083000
DTEND;TZID=America/Detroit:20240525T100000
DTSTAMP:20260420T082727
CREATED:20230823T164618Z
LAST-MODIFIED:20230828T224344Z
UID:10009482-1716625800-1716631200@www.fumc-a2.org
SUMMARY:Men of Faith
DESCRIPTION:This is a group for men who want to gather to share spiritual program material\, “God Sightings” and prayer. All men who are interested in growing their faith through study\, sharing and prayer are welcome to join! Questions? Contact Jim Higdon or Mark Wickham. \nLearn more about this offering.
URL:https://www.fumc-a2.org/event/men-of-faith/2024-05-25/
LOCATION:Zoom
CATEGORIES:Adult Faith Formation,Adults,Morning
END:VEVENT
END:VCALENDAR