BEGIN:VCALENDAR
VERSION:2.0
PRODID:-//First United Methodist Church - ECPv6.15.17.1//NONSGML v1.0//EN
CALSCALE:GREGORIAN
METHOD:PUBLISH
X-WR-CALNAME:First United Methodist Church
X-ORIGINAL-URL:https://www.fumc-a2.org
X-WR-CALDESC:Events for First United Methodist Church
REFRESH-INTERVAL;VALUE=DURATION:PT1H
X-Robots-Tag:noindex
X-PUBLISHED-TTL:PT1H
BEGIN:VTIMEZONE
TZID:America/Detroit
BEGIN:DAYLIGHT
TZOFFSETFROM:-0500
TZOFFSETTO:-0400
TZNAME:EDT
DTSTART:20240310T070000
END:DAYLIGHT
BEGIN:STANDARD
TZOFFSETFROM:-0400
TZOFFSETTO:-0500
TZNAME:EST
DTSTART:20241103T060000
END:STANDARD
BEGIN:DAYLIGHT
TZOFFSETFROM:-0500
TZOFFSETTO:-0400
TZNAME:EDT
DTSTART:20250309T070000
END:DAYLIGHT
BEGIN:STANDARD
TZOFFSETFROM:-0400
TZOFFSETTO:-0500
TZNAME:EST
DTSTART:20251102T060000
END:STANDARD
BEGIN:DAYLIGHT
TZOFFSETFROM:-0500
TZOFFSETTO:-0400
TZNAME:EDT
DTSTART:20260308T070000
END:DAYLIGHT
BEGIN:STANDARD
TZOFFSETFROM:-0400
TZOFFSETTO:-0500
TZNAME:EST
DTSTART:20261101T060000
END:STANDARD
END:VTIMEZONE
BEGIN:VEVENT
DTSTART;TZID=America/Detroit:20251224T170000
DTEND;TZID=America/Detroit:20251224T180000
DTSTAMP:20260421T130131
CREATED:20251024T153525Z
LAST-MODIFIED:20251024T153525Z
UID:10013230-1766595600-1766599200@www.fumc-a2.org
SUMMARY:Christmas Eve Worship
DESCRIPTION:
URL:https://www.fumc-a2.org/event/christmas-eve-worship-7/
LOCATION:First United Methodist Church of Ann Arbor\, 120 S. State St.\, Ann Arbor\, MI\, 48104
CATEGORIES:Evening,Worship
END:VEVENT
BEGIN:VEVENT
DTSTART;TZID=America/Detroit:20251224T193000
DTEND;TZID=America/Detroit:20251224T203000
DTSTAMP:20260421T130131
CREATED:20251024T153701Z
LAST-MODIFIED:20251024T153701Z
UID:10013232-1766604600-1766608200@www.fumc-a2.org
SUMMARY:Christmas Eve Worship
DESCRIPTION:
URL:https://www.fumc-a2.org/event/christmas-eve-worship-9/
LOCATION:First United Methodist Church of Ann Arbor\, 120 S. State St.\, Ann Arbor\, MI\, 48104
END:VEVENT
BEGIN:VEVENT
DTSTART;TZID=America/Detroit:20251224T220000
DTEND;TZID=America/Detroit:20251224T230000
DTSTAMP:20260421T130131
CREATED:20251024T153607Z
LAST-MODIFIED:20251024T153753Z
UID:10013231-1766613600-1766617200@www.fumc-a2.org
SUMMARY:Christmas Eve Worship
DESCRIPTION:
URL:https://www.fumc-a2.org/event/christmas-eve-worship-8/
LOCATION:First United Methodist Church of Ann Arbor\, 120 S. State St.\, Ann Arbor\, MI\, 48104
CATEGORIES:Evening,Worship
END:VEVENT
BEGIN:VEVENT
DTSTART;TZID=America/Detroit:20251224T230000
DTEND;TZID=America/Detroit:20251224T235900
DTSTAMP:20260421T130131
CREATED:20251124T213807Z
LAST-MODIFIED:20251209T204704Z
UID:10013256-1766617200-1766620740@www.fumc-a2.org
SUMMARY:Christmas Eve Youth Alumni Reception
DESCRIPTION:Join us for a Christmas Eve Youth Alumni Reception in the Wesley Lounge! Hosted by Ruth Ann Church and Naki Kripfgans.
URL:https://www.fumc-a2.org/event/christmas-eve-youth-alumni-reception/
LOCATION:First United Methodist Church of Ann Arbor\, 120 S. State St.\, Ann Arbor\, MI\, 48104
CATEGORIES:Adults,Daytime,Young Adults
END:VEVENT
END:VCALENDAR